BEGIN:VCALENDAR
VERSION:2.0
PRODID:-//St. Francis de Sales Catholic School - ECPv6.13.2.1//NONSGML v1.0//EN
CALSCALE:GREGORIAN
METHOD:PUBLISH
X-WR-CALNAME:St. Francis de Sales Catholic School
X-ORIGINAL-URL:https://stfrancisdesales.net
X-WR-CALDESC:Events for St. Francis de Sales Catholic School
REFRESH-INTERVAL;VALUE=DURATION:PT1H
X-Robots-Tag:noindex
X-PUBLISHED-TTL:PT1H
BEGIN:VTIMEZONE
TZID:America/New_York
BEGIN:DAYLIGHT
TZOFFSETFROM:-0500
TZOFFSETTO:-0400
TZNAME:EDT
DTSTART:20250309T070000
END:DAYLIGHT
BEGIN:STANDARD
TZOFFSETFROM:-0400
TZOFFSETTO:-0500
TZNAME:EST
DTSTART:20251102T060000
END:STANDARD
END:VTIMEZONE
BEGIN:VEVENT
DTSTART;VALUE=DATE:20251001
DTEND;VALUE=DATE:20251002
DTSTAMP:20260424T134634
CREATED:20250708T173153Z
LAST-MODIFIED:20250708T173153Z
UID:10420-1759276800-1759363199@stfrancisdesales.net
SUMMARY:8:30 Mass
DESCRIPTION:8:30 Mass
URL:https://stfrancisdesales.net/event/830-mass-41/
CATEGORIES:School Calendar
END:VEVENT
BEGIN:VEVENT
DTSTART;VALUE=DATE:20251004
DTEND;VALUE=DATE:20251005
DTSTAMP:20260424T134634
CREATED:20250918T162333Z
LAST-MODIFIED:20250918T162333Z
UID:10658-1759536000-1759622399@stfrancisdesales.net
SUMMARY:Blessing of the Pets
DESCRIPTION:Blessing of the Pets
URL:https://stfrancisdesales.net/event/blessing-of-the-pets-5/
CATEGORIES:School Calendar
END:VEVENT
BEGIN:VEVENT
DTSTART;VALUE=DATE:20251008
DTEND;VALUE=DATE:20251009
DTSTAMP:20260424T134634
CREATED:20250708T173153Z
LAST-MODIFIED:20250708T173153Z
UID:10422-1759881600-1759967999@stfrancisdesales.net
SUMMARY:8:30 Mass
DESCRIPTION:8:30 Mass
URL:https://stfrancisdesales.net/event/830-mass-42/
CATEGORIES:School Calendar
END:VEVENT
BEGIN:VEVENT
DTSTART;VALUE=DATE:20251009
DTEND;VALUE=DATE:20251010
DTSTAMP:20260424T134634
CREATED:20250708T173153Z
LAST-MODIFIED:20250708T173153Z
UID:10421-1759968000-1760054399@stfrancisdesales.net
SUMMARY:H.S.A. BINGO
DESCRIPTION:H.S.A. BINGO
URL:https://stfrancisdesales.net/event/h-s-a-bingo-3/
CATEGORIES:School Calendar
END:VEVENT
BEGIN:VEVENT
DTSTART;VALUE=DATE:20251010
DTEND;VALUE=DATE:20251011
DTSTAMP:20260424T134634
CREATED:20250708T173153Z
LAST-MODIFIED:20250708T173153Z
UID:10423-1760054400-1760140799@stfrancisdesales.net
SUMMARY:T1 Interim
DESCRIPTION:T1 Interim
URL:https://stfrancisdesales.net/event/t1-interim-4/
CATEGORIES:School Calendar
END:VEVENT
BEGIN:VEVENT
DTSTART;VALUE=DATE:20251013
DTEND;VALUE=DATE:20251014
DTSTAMP:20260424T134634
CREATED:20250708T173153Z
LAST-MODIFIED:20250708T173153Z
UID:10424-1760313600-1760399999@stfrancisdesales.net
SUMMARY:School Closed - Columbus Day
DESCRIPTION:School Closed – Columbus Day
URL:https://stfrancisdesales.net/event/school-closed-columbus-day-4/
CATEGORIES:School Calendar
END:VEVENT
BEGIN:VEVENT
DTSTART;VALUE=DATE:20251015
DTEND;VALUE=DATE:20251016
DTSTAMP:20260424T134634
CREATED:20250708T173208Z
LAST-MODIFIED:20250708T173208Z
UID:10425-1760486400-1760572799@stfrancisdesales.net
SUMMARY:8:30 Mass
DESCRIPTION:8:30 Mass
URL:https://stfrancisdesales.net/event/830-mass-43/
CATEGORIES:School Calendar
END:VEVENT
BEGIN:VEVENT
DTSTART;VALUE=DATE:20251020
DTEND;VALUE=DATE:20251021
DTSTAMP:20260424T134634
CREATED:20250708T173208Z
LAST-MODIFIED:20250708T173208Z
UID:10429-1760918400-1761004799@stfrancisdesales.net
SUMMARY:SCHOOL CLOSED - Parent Teacher Conferences
DESCRIPTION:SCHOOL CLOSED – Parent Teacher Conferences
URL:https://stfrancisdesales.net/event/school-closed-parent-teacher-conferences-2/
CATEGORIES:School Calendar
END:VEVENT
BEGIN:VEVENT
DTSTART;VALUE=DATE:20251021
DTEND;VALUE=DATE:20251022
DTSTAMP:20260424T134634
CREATED:20250708T173208Z
LAST-MODIFIED:20251014T145751Z
UID:10426-1761004800-1761091199@stfrancisdesales.net
SUMMARY:School Closed ; Diocesan Professional Development
DESCRIPTION:School Closed ; Diocesan Professional Development
URL:https://stfrancisdesales.net/event/diocesan-professional-dev/
CATEGORIES:School Calendar
END:VEVENT
BEGIN:VEVENT
DTSTART;VALUE=DATE:20251022
DTEND;VALUE=DATE:20251023
DTSTAMP:20260424T134634
CREATED:20250708T173208Z
LAST-MODIFIED:20250708T173208Z
UID:10427-1761091200-1761177599@stfrancisdesales.net
SUMMARY:8:30 Mass
DESCRIPTION:8:30 Mass
URL:https://stfrancisdesales.net/event/830-mass-44/
CATEGORIES:School Calendar
END:VEVENT
BEGIN:VEVENT
DTSTART;VALUE=DATE:20251025
DTEND;VALUE=DATE:20251026
DTSTAMP:20260424T134634
CREATED:20250708T173208Z
LAST-MODIFIED:20250708T173208Z
UID:10428-1761350400-1761436799@stfrancisdesales.net
SUMMARY:Fall Festival Trunk or Treat 10:00 am - 12:00 pm Parish Center
DESCRIPTION:Fall Festival Trunk or Treat 10:00 am – 12:00 pm Parish Center
URL:https://stfrancisdesales.net/event/fall-festival-trunk-or-treat-1000-am-1200-pm-parish-center/
CATEGORIES:School Calendar
END:VEVENT
BEGIN:VEVENT
DTSTART;VALUE=DATE:20251026
DTEND;VALUE=DATE:20251027
DTSTAMP:20260424T134634
CREATED:20250708T173223Z
LAST-MODIFIED:20250708T173223Z
UID:10433-1761436800-1761523199@stfrancisdesales.net
SUMMARY:Youth Ministry 7th Grade & Up Bonfire
DESCRIPTION:Youth Ministry 7th Grade & Up Bonfire
URL:https://stfrancisdesales.net/event/youth-ministry-7th-grade-up-bonfire/
CATEGORIES:School Calendar
END:VEVENT
BEGIN:VEVENT
DTSTART;VALUE=DATE:20251029
DTEND;VALUE=DATE:20251030
DTSTAMP:20260424T134634
CREATED:20250708T173223Z
LAST-MODIFIED:20250708T173223Z
UID:10430-1761696000-1761782399@stfrancisdesales.net
SUMMARY:8:30 Mass
DESCRIPTION:8:30 Mass
URL:https://stfrancisdesales.net/event/830-mass-45/
CATEGORIES:School Calendar
END:VEVENT
BEGIN:VEVENT
DTSTART;VALUE=DATE:20251030
DTEND;VALUE=DATE:20251031
DTSTAMP:20260424T134634
CREATED:20250708T173223Z
LAST-MODIFIED:20250708T173223Z
UID:10431-1761782400-1761868799@stfrancisdesales.net
SUMMARY:Faculty Meeting 3:30 PM
DESCRIPTION:Faculty Meeting 3:30 PM
URL:https://stfrancisdesales.net/event/faculty-meeting-330-pm-8/
CATEGORIES:School Calendar
END:VEVENT
BEGIN:VEVENT
DTSTART;VALUE=DATE:20251031
DTEND;VALUE=DATE:20251101
DTSTAMP:20260424T134634
CREATED:20250708T173223Z
LAST-MODIFIED:20250708T173223Z
UID:10432-1761868800-1761955199@stfrancisdesales.net
SUMMARY:Happy Halloween
DESCRIPTION:Happy Halloween
URL:https://stfrancisdesales.net/event/happy-halloween-3/
CATEGORIES:School Calendar
END:VEVENT
END:VCALENDAR