BEGIN:VCALENDAR
VERSION:2.0
PRODID:-//St. Francis de Sales Catholic School - ECPv6.13.2.1//NONSGML v1.0//EN
CALSCALE:GREGORIAN
METHOD:PUBLISH
X-WR-CALNAME:St. Francis de Sales Catholic School
X-ORIGINAL-URL:https://stfrancisdesales.net
X-WR-CALDESC:Events for St. Francis de Sales Catholic School
REFRESH-INTERVAL;VALUE=DURATION:PT1H
X-Robots-Tag:noindex
X-PUBLISHED-TTL:PT1H
BEGIN:VTIMEZONE
TZID:America/New_York
BEGIN:DAYLIGHT
TZOFFSETFROM:-0500
TZOFFSETTO:-0400
TZNAME:EDT
DTSTART:20250309T070000
END:DAYLIGHT
BEGIN:STANDARD
TZOFFSETFROM:-0400
TZOFFSETTO:-0500
TZNAME:EST
DTSTART:20251102T060000
END:STANDARD
END:VTIMEZONE
BEGIN:VEVENT
DTSTART;VALUE=DATE:20250901
DTEND;VALUE=DATE:20250902
DTSTAMP:20260424T151159
CREATED:20250708T173120Z
LAST-MODIFIED:20250708T173120Z
UID:10402-1756684800-1756771199@stfrancisdesales.net
SUMMARY:School Office Closed
DESCRIPTION:School Office Closed
URL:https://stfrancisdesales.net/event/school-office-closed-6/
CATEGORIES:School Calendar
END:VEVENT
BEGIN:VEVENT
DTSTART;VALUE=DATE:20250901
DTEND;VALUE=DATE:20250902
DTSTAMP:20260424T151159
CREATED:20250708T173120Z
LAST-MODIFIED:20250708T173120Z
UID:10400-1756684800-1756771199@stfrancisdesales.net
SUMMARY:Labor Day
DESCRIPTION:Labor Day
URL:https://stfrancisdesales.net/event/labor-day-2/
CATEGORIES:School Calendar
END:VEVENT
BEGIN:VEVENT
DTSTART;VALUE=DATE:20250902
DTEND;VALUE=DATE:20250903
DTSTAMP:20260424T151159
CREATED:20250708T173120Z
LAST-MODIFIED:20250708T173120Z
UID:10401-1756771200-1756857599@stfrancisdesales.net
SUMMARY:First Day of School
DESCRIPTION:First Day of School
URL:https://stfrancisdesales.net/event/first-day-of-school-6/
CATEGORIES:School Calendar
END:VEVENT
BEGIN:VEVENT
DTSTART;VALUE=DATE:20250902
DTEND;VALUE=DATE:20250903
DTSTAMP:20260424T151159
CREATED:20250708T173138Z
LAST-MODIFIED:20250708T173138Z
UID:10419-1756771200-1756857599@stfrancisdesales.net
SUMMARY:Before/Aftercare Begins
DESCRIPTION:Before/Aftercare Begins
URL:https://stfrancisdesales.net/event/before-aftercare-begins-2/
CATEGORIES:School Calendar
END:VEVENT
BEGIN:VEVENT
DTSTART;VALUE=DATE:20250902
DTEND;VALUE=DATE:20250903
DTSTAMP:20260424T151159
CREATED:20250708T173138Z
LAST-MODIFIED:20250708T173138Z
UID:10418-1756771200-1756857599@stfrancisdesales.net
SUMMARY:12:00 Dismissal
DESCRIPTION:12:00 Dismissal
URL:https://stfrancisdesales.net/event/1200-dismissal-9/
CATEGORIES:School Calendar
END:VEVENT
BEGIN:VEVENT
DTSTART;VALUE=DATE:20250903
DTEND;VALUE=DATE:20250904
DTSTAMP:20260424T151159
CREATED:20250708T173121Z
LAST-MODIFIED:20250708T173121Z
UID:10403-1756857600-1756943999@stfrancisdesales.net
SUMMARY:8:30 AM Mass
DESCRIPTION:8:30 AM Mass
URL:https://stfrancisdesales.net/event/830-am-mass-13/
CATEGORIES:School Calendar
END:VEVENT
BEGIN:VEVENT
DTSTART;VALUE=DATE:20250904
DTEND;VALUE=DATE:20250905
DTSTAMP:20260424T151159
CREATED:20250708T173121Z
LAST-MODIFIED:20250708T173121Z
UID:10404-1756944000-1757030399@stfrancisdesales.net
SUMMARY:Individual School Pictures
DESCRIPTION:Individual School Pictures
URL:https://stfrancisdesales.net/event/individual-school-pictures-4/
CATEGORIES:School Calendar
END:VEVENT
BEGIN:VEVENT
DTSTART;VALUE=DATE:20250905
DTEND;VALUE=DATE:20250906
DTSTAMP:20260424T151159
CREATED:20250708T173122Z
LAST-MODIFIED:20250708T173123Z
UID:10405-1757030400-1757116799@stfrancisdesales.net
SUMMARY:Group School Pictures
DESCRIPTION:Group School Pictures
URL:https://stfrancisdesales.net/event/group-school-pictures-4/
CATEGORIES:School Calendar
END:VEVENT
BEGIN:VEVENT
DTSTART;VALUE=DATE:20250908
DTEND;VALUE=DATE:20250909
DTSTAMP:20260424T151159
CREATED:20250708T173122Z
LAST-MODIFIED:20250708T173123Z
UID:10407-1757289600-1757375999@stfrancisdesales.net
SUMMARY:School Lunch Begins
DESCRIPTION:School Lunch Begins
URL:https://stfrancisdesales.net/event/school-lunch-begins-3/
CATEGORIES:School Calendar
END:VEVENT
BEGIN:VEVENT
DTSTART;VALUE=DATE:20250909
DTEND;VALUE=DATE:20250910
DTSTAMP:20260424T151159
CREATED:20250708T173122Z
LAST-MODIFIED:20250708T173123Z
UID:10408-1757376000-1757462399@stfrancisdesales.net
SUMMARY:Back to School Night in Parish Center 6:00 PM
DESCRIPTION:Back to School Night in Parish Center 6:00 PM
URL:https://stfrancisdesales.net/event/back-to-school-night-in-parish-center-600-pm-3/
CATEGORIES:School Calendar
END:VEVENT
BEGIN:VEVENT
DTSTART;VALUE=DATE:20250910
DTEND;VALUE=DATE:20250911
DTSTAMP:20260424T151159
CREATED:20250708T173122Z
LAST-MODIFIED:20250708T173123Z
UID:10406-1757462400-1757548799@stfrancisdesales.net
SUMMARY:8:30 AM Mass
DESCRIPTION:8:30 AM Mass
URL:https://stfrancisdesales.net/event/830-am-mass-14/
CATEGORIES:School Calendar
END:VEVENT
BEGIN:VEVENT
DTSTART;VALUE=DATE:20250917
DTEND;VALUE=DATE:20250918
DTSTAMP:20260424T151159
CREATED:20250708T173122Z
LAST-MODIFIED:20250708T173123Z
UID:10409-1758067200-1758153599@stfrancisdesales.net
SUMMARY:8:30 AM Mass
DESCRIPTION:8:30 AM Mass
URL:https://stfrancisdesales.net/event/830-am-mass-15/
CATEGORIES:School Calendar
END:VEVENT
BEGIN:VEVENT
DTSTART;VALUE=DATE:20250919
DTEND;VALUE=DATE:20250920
DTSTAMP:20260424T151159
CREATED:20250708T173138Z
LAST-MODIFIED:20250708T173138Z
UID:10417-1758240000-1758326399@stfrancisdesales.net
SUMMARY:Summer Reading & Math Reward
DESCRIPTION:Summer Reading & Math Reward
URL:https://stfrancisdesales.net/event/summer-reading-math-reward-4/
CATEGORIES:School Calendar
END:VEVENT
BEGIN:VEVENT
DTSTART;VALUE=DATE:20250923
DTEND;VALUE=DATE:20250924
DTSTAMP:20260424T151159
CREATED:20250918T161238Z
LAST-MODIFIED:20250918T161238Z
UID:10639-1758585600-1758671999@stfrancisdesales.net
SUMMARY:STAR Reading Assessments
DESCRIPTION:STAR Reading Assessments
URL:https://stfrancisdesales.net/event/star-reading-assessments/
CATEGORIES:School Calendar
END:VEVENT
BEGIN:VEVENT
DTSTART;VALUE=DATE:20250924
DTEND;VALUE=DATE:20250925
DTSTAMP:20260424T151159
CREATED:20250708T173138Z
LAST-MODIFIED:20250709T030419Z
UID:10415-1758672000-1758758399@stfrancisdesales.net
SUMMARY:Faculty Level Meetings 3:30 PM
DESCRIPTION:Faculty Level Meetings 3:30 PM
URL:https://stfrancisdesales.net/event/family-level-meetings-330-pm/
CATEGORIES:School Calendar
END:VEVENT
BEGIN:VEVENT
DTSTART;VALUE=DATE:20250925
DTEND;VALUE=DATE:20250926
DTSTAMP:20260424T151159
CREATED:20250708T173138Z
LAST-MODIFIED:20250729T154545Z
UID:10416-1758758400-1758844799@stfrancisdesales.net
SUMMARY:Bishop Koenig Visit 11:00 AM Mass
DESCRIPTION:Bishop Koenig Visit 11:00 AM Mass
URL:https://stfrancisdesales.net/event/bishop-koenig-visit-1110-am-mass/
CATEGORIES:School Calendar
END:VEVENT
BEGIN:VEVENT
DTSTART;TZID=America/New_York:20250928T113000
DTEND;TZID=America/New_York:20250928T123000
DTSTAMP:20260424T151159
CREATED:20250918T161208Z
LAST-MODIFIED:20250918T161208Z
UID:10637-1759059000-1759062600@stfrancisdesales.net
SUMMARY:Confirmation Meeting
DESCRIPTION:Confirmation Meeting \nDo you have questions about how to receive the Sacrament of Confirmation? If you have completed your Faith Formation\, please attend a Parent/Student meeting on Sunday\, September 28th at 11:30 a.m. in the Church Hall. If you have any questions\, please contact Liza Alvarado at lalvarado@visitsfrancis.org
URL:https://stfrancisdesales.net/event/confirmation-meeting/
CATEGORIES:School Calendar
END:VEVENT
BEGIN:VEVENT
DTSTART;VALUE=DATE:20250930
DTEND;VALUE=DATE:20251001
DTSTAMP:20260424T151159
CREATED:20250918T161514Z
LAST-MODIFIED:20250918T161514Z
UID:10647-1759190400-1759276799@stfrancisdesales.net
SUMMARY:STAR Math Assessments
DESCRIPTION:STAR Math Assessments
URL:https://stfrancisdesales.net/event/star-math-assessments/
CATEGORIES:School Calendar
END:VEVENT
END:VCALENDAR