BEGIN:VCALENDAR
VERSION:2.0
PRODID:-//St. Francis de Sales Catholic School - ECPv6.13.2.1//NONSGML v1.0//EN
CALSCALE:GREGORIAN
METHOD:PUBLISH
X-ORIGINAL-URL:https://stfrancisdesales.net
X-WR-CALDESC:Events for St. Francis de Sales Catholic School
REFRESH-INTERVAL;VALUE=DURATION:PT1H
X-Robots-Tag:noindex
X-PUBLISHED-TTL:PT1H
BEGIN:VTIMEZONE
TZID:America/New_York
BEGIN:DAYLIGHT
TZOFFSETFROM:-0500
TZOFFSETTO:-0400
TZNAME:EDT
DTSTART:20250309T070000
END:DAYLIGHT
BEGIN:STANDARD
TZOFFSETFROM:-0400
TZOFFSETTO:-0500
TZNAME:EST
DTSTART:20251102T060000
END:STANDARD
END:VTIMEZONE
BEGIN:VEVENT
DTSTART;TZID=America/New_York:20250604T083000
DTEND;TZID=America/New_York:20250604T093000
DTSTAMP:20260424T194349
CREATED:20240705T230158Z
LAST-MODIFIED:20240705T230158Z
UID:9335-1749025800-1749029400@stfrancisdesales.net
SUMMARY:Mass
DESCRIPTION:Mass
URL:https://stfrancisdesales.net/event/mass-70/
CATEGORIES:School Calendar
END:VEVENT
BEGIN:VEVENT
DTSTART;TZID=America/New_York:20250604T083000
DTEND;TZID=America/New_York:20250604T093000
DTSTAMP:20260424T194349
CREATED:20240705T230933Z
LAST-MODIFIED:20240705T230933Z
UID:9357-1749025800-1749029400@stfrancisdesales.net
SUMMARY:Mass
DESCRIPTION:Mass
URL:https://stfrancisdesales.net/event/mass-72/
CATEGORIES:School Calendar
END:VEVENT
BEGIN:VEVENT
DTSTART;TZID=America/New_York:20250604T091500
DTEND;TZID=America/New_York:20250604T093000
DTSTAMP:20260424T194349
CREATED:20240705T230125Z
LAST-MODIFIED:20240705T230125Z
UID:9333-1749028500-1749029400@stfrancisdesales.net
SUMMARY:Passing of the Torch Ceremony
DESCRIPTION:The passing of the Torch Ceremony ~ after Mass
URL:https://stfrancisdesales.net/event/passing-of-the-torch-ceremony-2/
CATEGORIES:School Calendar
END:VEVENT
BEGIN:VEVENT
DTSTART;TZID=America/New_York:20250605T080000
DTEND;TZID=America/New_York:20250605T120000
DTSTAMP:20260424T194349
CREATED:20240705T230240Z
LAST-MODIFIED:20240705T230240Z
UID:9337-1749110400-1749124800@stfrancisdesales.net
SUMMARY:8th Grade Fun Day
DESCRIPTION:8th Grade Fun Day
URL:https://stfrancisdesales.net/event/8th-grade-fun-day-5/
CATEGORIES:School Calendar
END:VEVENT
BEGIN:VEVENT
DTSTART;TZID=America/New_York:20250605T120000
DTEND;TZID=America/New_York:20250605T120000
DTSTAMP:20260424T194349
CREATED:20240705T230332Z
LAST-MODIFIED:20240705T230332Z
UID:9339-1749124800-1749124800@stfrancisdesales.net
SUMMARY:8th Grade 12N Dismissal
DESCRIPTION:8th Grade 12N Dismissal ~ 8th Grade Only!
URL:https://stfrancisdesales.net/event/8th-grade-12n-dismissal/
CATEGORIES:School Calendar
END:VEVENT
BEGIN:VEVENT
DTSTART;TZID=America/New_York:20250606T080000
DTEND;TZID=America/New_York:20250606T120000
DTSTAMP:20260424T194349
CREATED:20240705T230413Z
LAST-MODIFIED:20240705T230413Z
UID:9341-1749196800-1749211200@stfrancisdesales.net
SUMMARY:PreK 3 - 2nd Grade Field Day
DESCRIPTION:PreK 3 – 2nd Grade Field Day
URL:https://stfrancisdesales.net/event/prek-3-2nd-grade-field-day/
CATEGORIES:School Calendar
END:VEVENT
BEGIN:VEVENT
DTSTART;TZID=America/New_York:20250606T120000
DTEND;TZID=America/New_York:20250606T120000
DTSTAMP:20260424T194349
CREATED:20240705T230447Z
LAST-MODIFIED:20240705T230447Z
UID:9343-1749211200-1749211200@stfrancisdesales.net
SUMMARY:12N Dismissal
DESCRIPTION:12N Dismissal
URL:https://stfrancisdesales.net/event/12n-dismissal-4/
CATEGORIES:School Calendar
END:VEVENT
BEGIN:VEVENT
DTSTART;TZID=America/New_York:20250606T120000
DTEND;TZID=America/New_York:20250606T173000
DTSTAMP:20260424T194349
CREATED:20240705T230523Z
LAST-MODIFIED:20240705T230523Z
UID:9345-1749211200-1749231000@stfrancisdesales.net
SUMMARY:Aftercare Available
DESCRIPTION:Aftercare Available
URL:https://stfrancisdesales.net/event/aftercare-available-12/
CATEGORIES:School Calendar
END:VEVENT
BEGIN:VEVENT
DTSTART;TZID=America/New_York:20250606T190000
DTEND;TZID=America/New_York:20250606T213000
DTSTAMP:20260424T194349
CREATED:20240705T230605Z
LAST-MODIFIED:20240705T230605Z
UID:9347-1749236400-1749245400@stfrancisdesales.net
SUMMARY:7th & 8th Grade Dance
DESCRIPTION:7th & 8th Grade Dance
URL:https://stfrancisdesales.net/event/7th-8th-grade-dance-3/
CATEGORIES:School Calendar
END:VEVENT
BEGIN:VEVENT
DTSTART;VALUE=DATE:20250608
DTEND;VALUE=DATE:20250609
DTSTAMP:20260424T194349
CREATED:20240705T230748Z
LAST-MODIFIED:20240705T230748Z
UID:9351-1749340800-1749427199@stfrancisdesales.net
SUMMARY:Pentecost
DESCRIPTION:Pentecost
URL:https://stfrancisdesales.net/event/pentecost-4/
CATEGORIES:School Calendar
END:VEVENT
BEGIN:VEVENT
DTSTART;TZID=America/New_York:20250608T140000
DTEND;TZID=America/New_York:20250608T153000
DTSTAMP:20260424T194349
CREATED:20240705T230724Z
LAST-MODIFIED:20240705T230724Z
UID:9349-1749391200-1749396600@stfrancisdesales.net
SUMMARY:8th Grade Graduation Mass & Awards Ceremony
DESCRIPTION:8th Grade Graduation Mass & Awards Ceremony
URL:https://stfrancisdesales.net/event/8th-grade-graduation-mass-awards-ceremony/
CATEGORIES:School Calendar
END:VEVENT
BEGIN:VEVENT
DTSTART;TZID=America/New_York:20250611T083000
DTEND;TZID=America/New_York:20250611T093000
DTSTAMP:20260424T194349
CREATED:20240705T230906Z
LAST-MODIFIED:20240705T230906Z
UID:9355-1749630600-1749634200@stfrancisdesales.net
SUMMARY:Mass
DESCRIPTION:Mass
URL:https://stfrancisdesales.net/event/mass-71/
CATEGORIES:School Calendar
END:VEVENT
BEGIN:VEVENT
DTSTART;TZID=America/New_York:20250611T110000
DTEND;TZID=America/New_York:20250611T120000
DTSTAMP:20260424T194349
CREATED:20240705T230835Z
LAST-MODIFIED:20240705T230835Z
UID:9353-1749639600-1749643200@stfrancisdesales.net
SUMMARY:Pre-K Picnic
DESCRIPTION:Pre-K Picnic
URL:https://stfrancisdesales.net/event/pre-k-picnic/
CATEGORIES:School Calendar
END:VEVENT
BEGIN:VEVENT
DTSTART;TZID=America/New_York:20250612T080000
DTEND;TZID=America/New_York:20250612T120000
DTSTAMP:20260424T194349
CREATED:20240705T231018Z
LAST-MODIFIED:20240705T231018Z
UID:9359-1749715200-1749729600@stfrancisdesales.net
SUMMARY:3rd - 8th Grade Field Day
DESCRIPTION:3rd – 8th Grade Field Day
URL:https://stfrancisdesales.net/event/3rd-8th-grade-field-day/
CATEGORIES:School Calendar
END:VEVENT
BEGIN:VEVENT
DTSTART;TZID=America/New_York:20250612T120000
DTEND;TZID=America/New_York:20250612T120000
DTSTAMP:20260424T194349
CREATED:20240705T231051Z
LAST-MODIFIED:20240705T231051Z
UID:9361-1749729600-1749729600@stfrancisdesales.net
SUMMARY:12N Dismissal
DESCRIPTION:12N Dismissal
URL:https://stfrancisdesales.net/event/12n-dismissal-5/
CATEGORIES:School Calendar
END:VEVENT
BEGIN:VEVENT
DTSTART;TZID=America/New_York:20250612T120000
DTEND;TZID=America/New_York:20250612T173000
DTSTAMP:20260424T194349
CREATED:20240705T231131Z
LAST-MODIFIED:20240705T231131Z
UID:9363-1749729600-1749749400@stfrancisdesales.net
SUMMARY:Aftercare Available
DESCRIPTION:Aftercare Available
URL:https://stfrancisdesales.net/event/aftercare-available-13/
CATEGORIES:School Calendar
END:VEVENT
BEGIN:VEVENT
DTSTART;VALUE=DATE:20250613
DTEND;VALUE=DATE:20250614
DTSTAMP:20260424T194349
CREATED:20240705T231343Z
LAST-MODIFIED:20240705T231343Z
UID:9371-1749772800-1749859199@stfrancisdesales.net
SUMMARY:No Aftercare!
DESCRIPTION:No Aftercare!
URL:https://stfrancisdesales.net/event/no-aftercare-25/
CATEGORIES:School Calendar
END:VEVENT
BEGIN:VEVENT
DTSTART;TZID=America/New_York:20250613T080000
DTEND;TZID=America/New_York:20250613T120000
DTSTAMP:20260424T194349
CREATED:20240705T231159Z
LAST-MODIFIED:20240705T231159Z
UID:9365-1749801600-1749816000@stfrancisdesales.net
SUMMARY:Last Day of School
DESCRIPTION:Last Day of School
URL:https://stfrancisdesales.net/event/last-day-of-school-7/
CATEGORIES:School Calendar
END:VEVENT
BEGIN:VEVENT
DTSTART;TZID=America/New_York:20250613T083000
DTEND;TZID=America/New_York:20250613T093000
DTSTAMP:20260424T194349
CREATED:20240705T231243Z
LAST-MODIFIED:20240705T231243Z
UID:9367-1749803400-1749807000@stfrancisdesales.net
SUMMARY:Prayer Service
DESCRIPTION:Prayer Service
URL:https://stfrancisdesales.net/event/prayer-service-8/
CATEGORIES:School Calendar
END:VEVENT
BEGIN:VEVENT
DTSTART;TZID=America/New_York:20250613T120000
DTEND;TZID=America/New_York:20250613T120000
DTSTAMP:20260424T194349
CREATED:20240705T231312Z
LAST-MODIFIED:20240705T231312Z
UID:9369-1749816000-1749816000@stfrancisdesales.net
SUMMARY:12N Dismissal
DESCRIPTION:12N Dismissal
URL:https://stfrancisdesales.net/event/12n-dismissal-6/
CATEGORIES:School Calendar
END:VEVENT
BEGIN:VEVENT
DTSTART;VALUE=DATE:20250614
DTEND;VALUE=DATE:20250615
DTSTAMP:20260424T194349
CREATED:20240705T231405Z
LAST-MODIFIED:20240705T231405Z
UID:9373-1749859200-1749945599@stfrancisdesales.net
SUMMARY:Flag Day
DESCRIPTION:Flag Day
URL:https://stfrancisdesales.net/event/flag-day-4/
CATEGORIES:School Calendar
END:VEVENT
BEGIN:VEVENT
DTSTART;VALUE=DATE:20250615
DTEND;VALUE=DATE:20250616
DTSTAMP:20260424T194349
CREATED:20240705T231431Z
LAST-MODIFIED:20240705T231431Z
UID:9375-1749945600-1750031999@stfrancisdesales.net
SUMMARY:Father's Day
DESCRIPTION:Father’s Day
URL:https://stfrancisdesales.net/event/fathers-day-4/
CATEGORIES:School Calendar
END:VEVENT
BEGIN:VEVENT
DTSTART;VALUE=DATE:20250616
DTEND;VALUE=DATE:20250617
DTSTAMP:20260424T194349
CREATED:20240705T231503Z
LAST-MODIFIED:20240705T231503Z
UID:9377-1750032000-1750118399@stfrancisdesales.net
SUMMARY:Faculty/Staff Last Day
DESCRIPTION:Faculty/Staff Last Day
URL:https://stfrancisdesales.net/event/faculty-staff-last-day-2/
CATEGORIES:School Calendar
END:VEVENT
END:VCALENDAR