BEGIN:VCALENDAR
VERSION:2.0
PRODID:-//St. Francis de Sales Catholic School - ECPv6.13.2.1//NONSGML v1.0//EN
CALSCALE:GREGORIAN
METHOD:PUBLISH
X-WR-CALNAME:St. Francis de Sales Catholic School
X-ORIGINAL-URL:https://stfrancisdesales.net
X-WR-CALDESC:Events for St. Francis de Sales Catholic School
REFRESH-INTERVAL;VALUE=DURATION:PT1H
X-Robots-Tag:noindex
X-PUBLISHED-TTL:PT1H
BEGIN:VTIMEZONE
TZID:America/New_York
BEGIN:DAYLIGHT
TZOFFSETFROM:-0500
TZOFFSETTO:-0400
TZNAME:EDT
DTSTART:20250309T070000
END:DAYLIGHT
BEGIN:STANDARD
TZOFFSETFROM:-0400
TZOFFSETTO:-0500
TZNAME:EST
DTSTART:20251102T060000
END:STANDARD
END:VTIMEZONE
BEGIN:VEVENT
DTSTART;TZID=America/New_York:20250402T083000
DTEND;TZID=America/New_York:20250402T093000
DTSTAMP:20260424T223847
CREATED:20240703T230848Z
LAST-MODIFIED:20240703T230848Z
UID:9263-1743582600-1743586200@stfrancisdesales.net
SUMMARY:Mass
DESCRIPTION:Mass
URL:https://stfrancisdesales.net/event/mass-62/
CATEGORIES:School Calendar
END:VEVENT
BEGIN:VEVENT
DTSTART;TZID=America/New_York:20250408T180000
DTEND;TZID=America/New_York:20250408T193000
DTSTAMP:20260424T223847
CREATED:20240703T231001Z
LAST-MODIFIED:20240703T231001Z
UID:9267-1744135200-1744140600@stfrancisdesales.net
SUMMARY:H.S.A Board Meeting
DESCRIPTION:H.S.A Board Meeting
URL:https://stfrancisdesales.net/event/h-s-a-board-meeting-6/
CATEGORIES:School Calendar
END:VEVENT
BEGIN:VEVENT
DTSTART;TZID=America/New_York:20250416T083000
DTEND;TZID=America/New_York:20250416T093000
DTSTAMP:20260424T223847
CREATED:20240703T231204Z
LAST-MODIFIED:20240703T231237Z
UID:9271-1744792200-1744795800@stfrancisdesales.net
SUMMARY:Mass
DESCRIPTION:Mass
URL:https://stfrancisdesales.net/event/mass-63/
CATEGORIES:School Calendar
END:VEVENT
BEGIN:VEVENT
DTSTART;TZID=America/New_York:20250409T190000
DTEND;TZID=America/New_York:20250409T200000
DTSTAMP:20260424T223847
CREATED:20250218T175805Z
LAST-MODIFIED:20250218T175805Z
UID:9621-1744225200-1744228800@stfrancisdesales.net
SUMMARY:8th Grade Play: Puffs!
DESCRIPTION:8th Grade Play \nTitle: Puffs \nLocation: SFdS Parish Center \nTime: 7 PM
URL:https://stfrancisdesales.net/event/8th-grade-play-puffs/
CATEGORIES:School Calendar
END:VEVENT
BEGIN:VEVENT
DTSTART;VALUE=DATE:20250413
DTEND;VALUE=DATE:20250414
DTSTAMP:20260424T223847
CREATED:20240703T231025Z
LAST-MODIFIED:20240703T231025Z
UID:9269-1744502400-1744588799@stfrancisdesales.net
SUMMARY:Palm Sunday
DESCRIPTION:Palm Sunday
URL:https://stfrancisdesales.net/event/palm-sunday-6/
CATEGORIES:School Calendar
END:VEVENT
BEGIN:VEVENT
DTSTART;TZID=America/New_York:20250416T083000
DTEND;TZID=America/New_York:20250416T093000
DTSTAMP:20260424T223847
CREATED:20240703T232014Z
LAST-MODIFIED:20240703T232014Z
UID:9298-1744792200-1744795800@stfrancisdesales.net
SUMMARY:Mass
DESCRIPTION:Mass
URL:https://stfrancisdesales.net/event/mass-65/
CATEGORIES:School Calendar
END:VEVENT
BEGIN:VEVENT
DTSTART;VALUE=DATE:20250417
DTEND;VALUE=DATE:20250418
DTSTAMP:20260424T223847
CREATED:20240703T231306Z
LAST-MODIFIED:20240703T231306Z
UID:9273-1744848000-1744934399@stfrancisdesales.net
SUMMARY:Holy Thursday
DESCRIPTION:Holy Thursday
URL:https://stfrancisdesales.net/event/holy-thursday-7/
CATEGORIES:School Calendar
END:VEVENT
BEGIN:VEVENT
DTSTART;VALUE=DATE:20250417
DTEND;VALUE=DATE:20250418
DTSTAMP:20260424T223847
CREATED:20240703T231455Z
LAST-MODIFIED:20240703T231455Z
UID:9279-1744848000-1744934399@stfrancisdesales.net
SUMMARY:No Aftercare
DESCRIPTION:No Aftercare
URL:https://stfrancisdesales.net/event/no-aftercare-24/
CATEGORIES:School Calendar
END:VEVENT
BEGIN:VEVENT
DTSTART;TZID=America/New_York:20250417T080000
DTEND;TZID=America/New_York:20250417T120000
DTSTAMP:20260424T223847
CREATED:20240703T231344Z
LAST-MODIFIED:20240703T231344Z
UID:9275-1744876800-1744891200@stfrancisdesales.net
SUMMARY:Whole School Retreat
DESCRIPTION:Whole School Retreat
URL:https://stfrancisdesales.net/event/whole-school-retreat/
CATEGORIES:School Calendar
END:VEVENT
BEGIN:VEVENT
DTSTART;TZID=America/New_York:20250417T120000
DTEND;TZID=America/New_York:20250417T120000
DTSTAMP:20260424T223847
CREATED:20240703T231417Z
LAST-MODIFIED:20240703T231417Z
UID:9277-1744891200-1744891200@stfrancisdesales.net
SUMMARY:12N Dismissal
DESCRIPTION:12N Dismissal
URL:https://stfrancisdesales.net/event/12n-dismissal-3/
CATEGORIES:School Calendar
END:VEVENT
BEGIN:VEVENT
DTSTART;VALUE=DATE:20250418
DTEND;VALUE=DATE:20250419
DTSTAMP:20260424T223847
CREATED:20240703T231520Z
LAST-MODIFIED:20240703T231520Z
UID:9281-1744934400-1745020799@stfrancisdesales.net
SUMMARY:Good Friday
DESCRIPTION:Good Friday
URL:https://stfrancisdesales.net/event/good-friday-7/
CATEGORIES:School Calendar
END:VEVENT
BEGIN:VEVENT
DTSTART;VALUE=DATE:20250418
DTEND;VALUE=DATE:20250426
DTSTAMP:20260424T223847
CREATED:20240703T231623Z
LAST-MODIFIED:20240703T231623Z
UID:9283-1744934400-1745625599@stfrancisdesales.net
SUMMARY:Easter Break ~ School Closed!
DESCRIPTION:Easter Break ~ School Closed!
URL:https://stfrancisdesales.net/event/easter-break-school-closed-3/
CATEGORIES:School Calendar
END:VEVENT
BEGIN:VEVENT
DTSTART;VALUE=DATE:20250420
DTEND;VALUE=DATE:20250421
DTSTAMP:20260424T223847
CREATED:20240703T231646Z
LAST-MODIFIED:20240703T231646Z
UID:9285-1745107200-1745193599@stfrancisdesales.net
SUMMARY:Easter
DESCRIPTION:Easter
URL:https://stfrancisdesales.net/event/easter-5/
CATEGORIES:School Calendar
END:VEVENT
BEGIN:VEVENT
DTSTART;VALUE=DATE:20250428
DTEND;VALUE=DATE:20250429
DTSTAMP:20260424T223847
CREATED:20240703T231718Z
LAST-MODIFIED:20240703T231718Z
UID:9287-1745798400-1745884799@stfrancisdesales.net
SUMMARY:Easter Egg Hunt
DESCRIPTION:Easter Egg Hunt
URL:https://stfrancisdesales.net/event/easter-egg-hunt-3/
CATEGORIES:School Calendar
END:VEVENT
BEGIN:VEVENT
DTSTART;VALUE=DATE:20250428
DTEND;VALUE=DATE:20250429
DTSTAMP:20260424T223847
CREATED:20240703T231741Z
LAST-MODIFIED:20240703T231741Z
UID:9289-1745798400-1745884799@stfrancisdesales.net
SUMMARY:School Reopens
DESCRIPTION:School Reopens
URL:https://stfrancisdesales.net/event/school-reopens-18/
CATEGORIES:School Calendar
END:VEVENT
BEGIN:VEVENT
DTSTART;VALUE=DATE:20250428
DTEND;VALUE=DATE:20250429
DTSTAMP:20260424T223847
CREATED:20240703T231805Z
LAST-MODIFIED:20240703T231805Z
UID:9291-1745798400-1745884799@stfrancisdesales.net
SUMMARY:Spring Uniform Begins
DESCRIPTION:Spring Uniform Begins
URL:https://stfrancisdesales.net/event/spring-uniform-begins-4/
CATEGORIES:School Calendar
END:VEVENT
BEGIN:VEVENT
DTSTART;TZID=America/New_York:20250429T153000
DTEND;TZID=America/New_York:20250429T170000
DTSTAMP:20260424T223847
CREATED:20240703T231841Z
LAST-MODIFIED:20240703T231841Z
UID:9293-1745940600-1745946000@stfrancisdesales.net
SUMMARY:Faculty Meeting
DESCRIPTION:Faculty Meeting
URL:https://stfrancisdesales.net/event/faculty-meeting-45/
CATEGORIES:School Calendar
END:VEVENT
BEGIN:VEVENT
DTSTART;TZID=America/New_York:20250430T083000
DTEND;TZID=America/New_York:20250430T093000
DTSTAMP:20260424T223847
CREATED:20240703T231913Z
LAST-MODIFIED:20240703T231913Z
UID:9295-1746001800-1746005400@stfrancisdesales.net
SUMMARY:Mass
DESCRIPTION:Mass
URL:https://stfrancisdesales.net/event/mass-64/
CATEGORIES:School Calendar
END:VEVENT
END:VCALENDAR