BEGIN:VCALENDAR
VERSION:2.0
PRODID:-//St. Francis de Sales Catholic School - ECPv6.13.2.1//NONSGML v1.0//EN
CALSCALE:GREGORIAN
METHOD:PUBLISH
X-WR-CALNAME:St. Francis de Sales Catholic School
X-ORIGINAL-URL:https://stfrancisdesales.net
X-WR-CALDESC:Events for St. Francis de Sales Catholic School
REFRESH-INTERVAL;VALUE=DURATION:PT1H
X-Robots-Tag:noindex
X-PUBLISHED-TTL:PT1H
BEGIN:VTIMEZONE
TZID:America/New_York
BEGIN:DAYLIGHT
TZOFFSETFROM:-0500
TZOFFSETTO:-0400
TZNAME:EDT
DTSTART:20180311T070000
END:DAYLIGHT
BEGIN:STANDARD
TZOFFSETFROM:-0400
TZOFFSETTO:-0500
TZNAME:EST
DTSTART:20181104T060000
END:STANDARD
BEGIN:DAYLIGHT
TZOFFSETFROM:-0500
TZOFFSETTO:-0400
TZNAME:EDT
DTSTART:20190310T070000
END:DAYLIGHT
BEGIN:STANDARD
TZOFFSETFROM:-0400
TZOFFSETTO:-0500
TZNAME:EST
DTSTART:20191103T060000
END:STANDARD
BEGIN:DAYLIGHT
TZOFFSETFROM:-0500
TZOFFSETTO:-0400
TZNAME:EDT
DTSTART:20200308T070000
END:DAYLIGHT
BEGIN:STANDARD
TZOFFSETFROM:-0400
TZOFFSETTO:-0500
TZNAME:EST
DTSTART:20201101T060000
END:STANDARD
BEGIN:DAYLIGHT
TZOFFSETFROM:-0500
TZOFFSETTO:-0400
TZNAME:EDT
DTSTART:20210314T070000
END:DAYLIGHT
BEGIN:STANDARD
TZOFFSETFROM:-0400
TZOFFSETTO:-0500
TZNAME:EST
DTSTART:20211107T060000
END:STANDARD
BEGIN:DAYLIGHT
TZOFFSETFROM:-0500
TZOFFSETTO:-0400
TZNAME:EDT
DTSTART:20220313T070000
END:DAYLIGHT
BEGIN:STANDARD
TZOFFSETFROM:-0400
TZOFFSETTO:-0500
TZNAME:EST
DTSTART:20221106T060000
END:STANDARD
BEGIN:DAYLIGHT
TZOFFSETFROM:-0500
TZOFFSETTO:-0400
TZNAME:EDT
DTSTART:20230312T070000
END:DAYLIGHT
BEGIN:STANDARD
TZOFFSETFROM:-0400
TZOFFSETTO:-0500
TZNAME:EST
DTSTART:20231105T060000
END:STANDARD
BEGIN:DAYLIGHT
TZOFFSETFROM:-0500
TZOFFSETTO:-0400
TZNAME:EDT
DTSTART:20240310T070000
END:DAYLIGHT
BEGIN:STANDARD
TZOFFSETFROM:-0400
TZOFFSETTO:-0500
TZNAME:EST
DTSTART:20241103T060000
END:STANDARD
BEGIN:DAYLIGHT
TZOFFSETFROM:-0500
TZOFFSETTO:-0400
TZNAME:EDT
DTSTART:20250309T070000
END:DAYLIGHT
BEGIN:STANDARD
TZOFFSETFROM:-0400
TZOFFSETTO:-0500
TZNAME:EST
DTSTART:20251102T060000
END:STANDARD
BEGIN:DAYLIGHT
TZOFFSETFROM:-0500
TZOFFSETTO:-0400
TZNAME:EDT
DTSTART:20260308T070000
END:DAYLIGHT
BEGIN:STANDARD
TZOFFSETFROM:-0400
TZOFFSETTO:-0500
TZNAME:EST
DTSTART:20261101T060000
END:STANDARD
BEGIN:DAYLIGHT
TZOFFSETFROM:-0500
TZOFFSETTO:-0400
TZNAME:EDT
DTSTART:20270314T070000
END:DAYLIGHT
BEGIN:STANDARD
TZOFFSETFROM:-0400
TZOFFSETTO:-0500
TZNAME:EST
DTSTART:20271107T060000
END:STANDARD
BEGIN:DAYLIGHT
TZOFFSETFROM:-0500
TZOFFSETTO:-0400
TZNAME:EDT
DTSTART:20280312T070000
END:DAYLIGHT
BEGIN:STANDARD
TZOFFSETFROM:-0400
TZOFFSETTO:-0500
TZNAME:EST
DTSTART:20281105T060000
END:STANDARD
END:VTIMEZONE
BEGIN:VEVENT
DTSTART;VALUE=DATE:20181112
DTEND;VALUE=DATE:20181114
DTSTAMP:20260425T231651
CREATED:20181101T201254Z
LAST-MODIFIED:20181101T201254Z
UID:2871-1542049200-1542135599@stfrancisdesales.net
SUMMARY:Taco Salad
DESCRIPTION:Taco Salad
URL:https://stfrancisdesales.net/event/taco-salad-4/
CATEGORIES:Cafeteria Calendar
END:VEVENT
BEGIN:VEVENT
DTSTART;VALUE=DATE:20181111
DTEND;VALUE=DATE:20181113
DTSTAMP:20260425T231651
CREATED:20181101T201120Z
LAST-MODIFIED:20181102T192254Z
UID:2869-1541962800-1542049199@stfrancisdesales.net
SUMMARY:Noodles & Nibs
DESCRIPTION:Chicken Noodle Soup & Pretzel Pieces
URL:https://stfrancisdesales.net/event/noddles-nads/
CATEGORIES:Cafeteria Calendar
END:VEVENT
BEGIN:VEVENT
DTSTART;VALUE=DATE:20181108
DTEND;VALUE=DATE:20181110
DTSTAMP:20260425T231651
CREATED:20181101T200514Z
LAST-MODIFIED:20181101T200514Z
UID:2867-1541703600-1541789999@stfrancisdesales.net
SUMMARY:Freaky Friday
DESCRIPTION:(left overs from the week)
URL:https://stfrancisdesales.net/event/freaky-friday-5/
CATEGORIES:Cafeteria Calendar
END:VEVENT
BEGIN:VEVENT
DTSTART;VALUE=DATE:20181107
DTEND;VALUE=DATE:20181109
DTSTAMP:20260425T231651
CREATED:20181101T200300Z
LAST-MODIFIED:20181101T200300Z
UID:2865-1541617200-1541703599@stfrancisdesales.net
SUMMARY:Corn Dogs
DESCRIPTION:Corn Dogs
URL:https://stfrancisdesales.net/event/corn-dogs/
CATEGORIES:Cafeteria Calendar
END:VEVENT
BEGIN:VEVENT
DTSTART;VALUE=DATE:20181106
DTEND;VALUE=DATE:20181108
DTSTAMP:20260425T231651
CREATED:20181101T200149Z
LAST-MODIFIED:20181101T200149Z
UID:2863-1541530800-1541617199@stfrancisdesales.net
SUMMARY:PIZZA DAY!!!!!
DESCRIPTION:PIZZA DAY!!!!!
URL:https://stfrancisdesales.net/event/pizza-day-2/
CATEGORIES:Cafeteria Calendar
END:VEVENT
BEGIN:VEVENT
DTSTART;VALUE=DATE:20181105
DTEND;VALUE=DATE:20181107
DTSTAMP:20260425T231651
CREATED:20181101T200044Z
LAST-MODIFIED:20181101T200044Z
UID:2861-1541444400-1541530799@stfrancisdesales.net
SUMMARY:Ravioli
DESCRIPTION:Ravioli
URL:https://stfrancisdesales.net/event/ravioli/
CATEGORIES:Cafeteria Calendar
END:VEVENT
BEGIN:VEVENT
DTSTART;VALUE=DATE:20181104
DTEND;VALUE=DATE:20181106
DTSTAMP:20260425T231651
CREATED:20181101T195845Z
LAST-MODIFIED:20181101T195845Z
UID:2859-1541358000-1541444399@stfrancisdesales.net
SUMMARY:French Toast
DESCRIPTION:French Toast
URL:https://stfrancisdesales.net/event/french-toast/
CATEGORIES:Cafeteria Calendar
END:VEVENT
BEGIN:VEVENT
DTSTART;VALUE=DATE:20181101
DTEND;VALUE=DATE:20181103
DTSTAMP:20260425T231651
CREATED:20181031T201753Z
LAST-MODIFIED:20181031T201753Z
UID:2851-1541102400-1541188799@stfrancisdesales.net
SUMMARY:Freaky Friday!!!
DESCRIPTION:Freaky Friday!!!
URL:https://stfrancisdesales.net/event/freaky-friday-4/
CATEGORIES:Cafeteria Calendar
END:VEVENT
BEGIN:VEVENT
DTSTART;VALUE=DATE:20181031
DTEND;VALUE=DATE:20181102
DTSTAMP:20260425T231651
CREATED:20181031T201703Z
LAST-MODIFIED:20181031T201703Z
UID:2849-1541016000-1541102399@stfrancisdesales.net
SUMMARY:Chicken Nuggets w/ Fries
DESCRIPTION:Chicken Nuggets w/ Fries
URL:https://stfrancisdesales.net/event/chicken-nuggets-w-fries-3/
CATEGORIES:Cafeteria Calendar
END:VEVENT
BEGIN:VEVENT
DTSTART;VALUE=DATE:20181030
DTEND;VALUE=DATE:20181101
DTSTAMP:20260425T231651
CREATED:20181001T201045Z
LAST-MODIFIED:20181001T201045Z
UID:2607-1540929600-1541015999@stfrancisdesales.net
SUMMARY:SPOOKY SURPRISE !!
DESCRIPTION:SPOOKY SURPRISE !!
URL:https://stfrancisdesales.net/event/spooky-surprise-2/
CATEGORIES:Cafeteria Calendar
END:VEVENT
BEGIN:VEVENT
DTSTART;VALUE=DATE:20181029
DTEND;VALUE=DATE:20181031
DTSTAMP:20260425T231651
CREATED:20181001T195441Z
LAST-MODIFIED:20181001T195441Z
UID:2588-1540843200-1540929599@stfrancisdesales.net
SUMMARY:Hamburgers
DESCRIPTION:Hamburgers
URL:https://stfrancisdesales.net/event/hamburgers/
CATEGORIES:Cafeteria Calendar
END:VEVENT
BEGIN:VEVENT
DTSTART;VALUE=DATE:20181028
DTEND;VALUE=DATE:20181030
DTSTAMP:20260425T231651
CREATED:20181001T195348Z
LAST-MODIFIED:20181001T195348Z
UID:2586-1540756800-1540843199@stfrancisdesales.net
SUMMARY:Grilled Chicken on Salad
DESCRIPTION:Grilled Chicken on Salad
URL:https://stfrancisdesales.net/event/grilled-chicken-on-salad/
CATEGORIES:Cafeteria Calendar
END:VEVENT
BEGIN:VEVENT
DTSTART;VALUE=DATE:20181025
DTEND;VALUE=DATE:20181027
DTSTAMP:20260425T231651
CREATED:20181001T201356Z
LAST-MODIFIED:20181001T201356Z
UID:2613-1540497600-1540583999@stfrancisdesales.net
SUMMARY:School Closed! No Lunch
DESCRIPTION:School Closed! No Lunch
URL:https://stfrancisdesales.net/event/school-closed-no-lunch-2/
CATEGORIES:Cafeteria Calendar
END:VEVENT
BEGIN:VEVENT
DTSTART;VALUE=DATE:20181024
DTEND;VALUE=DATE:20181026
DTSTAMP:20260425T231651
CREATED:20181001T195236Z
LAST-MODIFIED:20181001T195236Z
UID:2584-1540411200-1540497599@stfrancisdesales.net
SUMMARY:Freaky Thursday
DESCRIPTION:Freaky Thursday
URL:https://stfrancisdesales.net/event/freaky-thursday-2/
CATEGORIES:Cafeteria Calendar
END:VEVENT
BEGIN:VEVENT
DTSTART;VALUE=DATE:20181023
DTEND;VALUE=DATE:20181025
DTSTAMP:20260425T231651
CREATED:20181001T195128Z
LAST-MODIFIED:20181001T195128Z
UID:2582-1540324800-1540411199@stfrancisdesales.net
SUMMARY:Meatball Sub
DESCRIPTION:Meatball Sub
URL:https://stfrancisdesales.net/event/meatball-sub/
CATEGORIES:Cafeteria Calendar
END:VEVENT
BEGIN:VEVENT
DTSTART;VALUE=DATE:20181022
DTEND;VALUE=DATE:20181024
DTSTAMP:20260425T231651
CREATED:20181001T195016Z
LAST-MODIFIED:20181001T195016Z
UID:2580-1540238400-1540324799@stfrancisdesales.net
SUMMARY:Chicken Nuggets
DESCRIPTION:Chicken Nuggets
URL:https://stfrancisdesales.net/event/chicken-nuggets/
CATEGORIES:Cafeteria Calendar
END:VEVENT
BEGIN:VEVENT
DTSTART;VALUE=DATE:20181021
DTEND;VALUE=DATE:20181023
DTSTAMP:20260425T231651
CREATED:20181001T200712Z
LAST-MODIFIED:20181001T200712Z
UID:2605-1540152000-1540238399@stfrancisdesales.net
SUMMARY:PIZZA DAY!!!
DESCRIPTION:PIZZA DAY!!!
URL:https://stfrancisdesales.net/event/pizza-day/
CATEGORIES:Cafeteria Calendar
END:VEVENT
BEGIN:VEVENT
DTSTART;VALUE=DATE:20181018
DTEND;VALUE=DATE:20181020
DTSTAMP:20260425T231651
CREATED:20181001T201631Z
LAST-MODIFIED:20181001T201631Z
UID:2616-1539892800-1539979199@stfrancisdesales.net
SUMMARY:No Lunch 1/2 Day!!
DESCRIPTION:No Lunch 1/2 Day!!
URL:https://stfrancisdesales.net/event/no-lunch-1-2-day-2/
CATEGORIES:Cafeteria Calendar
END:VEVENT
BEGIN:VEVENT
DTSTART;VALUE=DATE:20181017
DTEND;VALUE=DATE:20181019
DTSTAMP:20260425T231651
CREATED:20181001T200640Z
LAST-MODIFIED:20181001T200640Z
UID:2603-1539806400-1539892799@stfrancisdesales.net
SUMMARY:FREAKY THURSDAY!!!
DESCRIPTION:FREAKY THURSDAY!!!
URL:https://stfrancisdesales.net/event/freaky-thursday-3/
CATEGORIES:Cafeteria Calendar
END:VEVENT
BEGIN:VEVENT
DTSTART;VALUE=DATE:20181016
DTEND;VALUE=DATE:20181018
DTSTAMP:20260425T231651
CREATED:20181001T200504Z
LAST-MODIFIED:20181001T200504Z
UID:2601-1539720000-1539806399@stfrancisdesales.net
SUMMARY:Chicken Parmesan Pasta
DESCRIPTION:Chicken Parmesan Pasta
URL:https://stfrancisdesales.net/event/chicken-parmesan-pasta/
CATEGORIES:Cafeteria Calendar
END:VEVENT
BEGIN:VEVENT
DTSTART;VALUE=DATE:20181015
DTEND;VALUE=DATE:20181017
DTSTAMP:20260425T231651
CREATED:20181001T200308Z
LAST-MODIFIED:20181001T200308Z
UID:2599-1539633600-1539719999@stfrancisdesales.net
SUMMARY:Taco Salad
DESCRIPTION:Taco Salad
URL:https://stfrancisdesales.net/event/taco-salad-3/
CATEGORIES:Cafeteria Calendar
END:VEVENT
BEGIN:VEVENT
DTSTART;VALUE=DATE:20231014
DTEND;VALUE=DATE:20281015
DTSTAMP:20260425T231651
CREATED:20230801T193045Z
LAST-MODIFIED:20230831T194906Z
UID:2570-1697313600-1855166399@stfrancisdesales.net
SUMMARY:Mac & Cheese
DESCRIPTION:Mac & Cheese
URL:https://stfrancisdesales.net/event/mac-cheese/
CATEGORIES:Cafeteria Calendar
END:VEVENT
BEGIN:VEVENT
DTSTART;VALUE=DATE:20181014
DTEND;VALUE=DATE:20181016
DTSTAMP:20260425T231651
CREATED:20181001T200048Z
LAST-MODIFIED:20181001T200227Z
UID:2596-1539547200-1539633599@stfrancisdesales.net
SUMMARY:Mac & Cheese
DESCRIPTION:Mac & Cheese
URL:https://stfrancisdesales.net/event/mac-cheese-2/
CATEGORIES:Cafeteria Calendar
END:VEVENT
BEGIN:VEVENT
DTSTART;VALUE=DATE:20181011
DTEND;VALUE=DATE:20181013
DTSTAMP:20260425T231651
CREATED:20181001T200012Z
LAST-MODIFIED:20181001T200012Z
UID:2594-1539288000-1539374399@stfrancisdesales.net
SUMMARY:Freaky Friday !!!
DESCRIPTION:Freaky Friday !!!
URL:https://stfrancisdesales.net/event/freaky-friday-3/
CATEGORIES:Cafeteria Calendar
END:VEVENT
BEGIN:VEVENT
DTSTART;VALUE=DATE:20181010
DTEND;VALUE=DATE:20181012
DTSTAMP:20260425T231651
CREATED:20181001T192840Z
LAST-MODIFIED:20181001T192840Z
UID:2565-1539201600-1539287999@stfrancisdesales.net
SUMMARY:French Toast Sticks
DESCRIPTION:French Toast Sticks
URL:https://stfrancisdesales.net/event/french-toast-sticks/
CATEGORIES:Cafeteria Calendar
END:VEVENT
BEGIN:VEVENT
DTSTART;VALUE=DATE:20181009
DTEND;VALUE=DATE:20181011
DTSTAMP:20260425T231651
CREATED:20181001T192501Z
LAST-MODIFIED:20181001T192501Z
UID:2563-1539115200-1539201599@stfrancisdesales.net
SUMMARY:Flying Saucers
DESCRIPTION:Flying Saucers
URL:https://stfrancisdesales.net/event/flying-saucers/
CATEGORIES:Cafeteria Calendar
END:VEVENT
BEGIN:VEVENT
DTSTART;VALUE=DATE:20181008
DTEND;VALUE=DATE:20181010
DTSTAMP:20260425T231651
CREATED:20181001T195931Z
LAST-MODIFIED:20181001T195931Z
UID:2592-1539028800-1539115199@stfrancisdesales.net
SUMMARY:Ravioli & Bread
DESCRIPTION:Ravioli & Bread
URL:https://stfrancisdesales.net/event/ravioli-bread-2/
CATEGORIES:Cafeteria Calendar
END:VEVENT
BEGIN:VEVENT
DTSTART;VALUE=DATE:20181007
DTEND;VALUE=DATE:20181009
DTSTAMP:20260425T231651
CREATED:20181001T201210Z
LAST-MODIFIED:20181001T201210Z
UID:2609-1538942400-1539028799@stfrancisdesales.net
SUMMARY:School Closed!
DESCRIPTION:School Closed!
URL:https://stfrancisdesales.net/event/school-closed-9/
CATEGORIES:Cafeteria Calendar
END:VEVENT
BEGIN:VEVENT
DTSTART;VALUE=DATE:20181004
DTEND;VALUE=DATE:20181006
DTSTAMP:20260425T231651
CREATED:20181001T192324Z
LAST-MODIFIED:20181001T192324Z
UID:2559-1538683200-1538769599@stfrancisdesales.net
SUMMARY:Freaky Friday!!
DESCRIPTION:Freaky Friday!!
URL:https://stfrancisdesales.net/event/freaky-friday/
CATEGORIES:Cafeteria Calendar
END:VEVENT
BEGIN:VEVENT
DTSTART;VALUE=DATE:20181003
DTEND;VALUE=DATE:20181005
DTSTAMP:20260425T231651
CREATED:20181001T185004Z
LAST-MODIFIED:20181001T185004Z
UID:2555-1538596800-1538683199@stfrancisdesales.net
SUMMARY:Mozzarella Sticks
DESCRIPTION:Mozzarella Sticks
URL:https://stfrancisdesales.net/event/mozzarella-sticks/
CATEGORIES:Cafeteria Calendar
END:VEVENT
END:VCALENDAR