BEGIN:VCALENDAR
VERSION:2.0
PRODID:-//St. Francis de Sales Catholic School - ECPv6.13.2.1//NONSGML v1.0//EN
CALSCALE:GREGORIAN
METHOD:PUBLISH
X-ORIGINAL-URL:https://stfrancisdesales.net
X-WR-CALDESC:Events for St. Francis de Sales Catholic School
REFRESH-INTERVAL;VALUE=DURATION:PT1H
X-Robots-Tag:noindex
X-PUBLISHED-TTL:PT1H
BEGIN:VTIMEZONE
TZID:America/New_York
BEGIN:DAYLIGHT
TZOFFSETFROM:-0500
TZOFFSETTO:-0400
TZNAME:EDT
DTSTART:20180311T070000
END:DAYLIGHT
BEGIN:STANDARD
TZOFFSETFROM:-0400
TZOFFSETTO:-0500
TZNAME:EST
DTSTART:20181104T060000
END:STANDARD
BEGIN:DAYLIGHT
TZOFFSETFROM:-0500
TZOFFSETTO:-0400
TZNAME:EDT
DTSTART:20190310T070000
END:DAYLIGHT
BEGIN:STANDARD
TZOFFSETFROM:-0400
TZOFFSETTO:-0500
TZNAME:EST
DTSTART:20191103T060000
END:STANDARD
END:VTIMEZONE
BEGIN:VEVENT
DTSTART;VALUE=DATE:20190117
DTEND;VALUE=DATE:20190119
DTSTAMP:20260425T171500
CREATED:20190103T002835Z
LAST-MODIFIED:20190103T002835Z
UID:3215-1547751600-1547837999@stfrancisdesales.net
SUMMARY:No Lunch 1/2 Day of School
DESCRIPTION:No Lunch 1/2 Day of School
URL:https://stfrancisdesales.net/event/no-lunch-1-2-day-of-school-2/
CATEGORIES:Cafeteria Calendar
END:VEVENT
BEGIN:VEVENT
DTSTART;VALUE=DATE:20190116
DTEND;VALUE=DATE:20190118
DTSTAMP:20260425T171500
CREATED:20190103T002729Z
LAST-MODIFIED:20190103T002729Z
UID:3213-1547665200-1547751599@stfrancisdesales.net
SUMMARY:French Toast Sticks
DESCRIPTION:French Toast Sticks
URL:https://stfrancisdesales.net/event/french-toast-sticks-5/
CATEGORIES:Cafeteria Calendar
END:VEVENT
BEGIN:VEVENT
DTSTART;VALUE=DATE:20190115
DTEND;VALUE=DATE:20190117
DTSTAMP:20260425T171500
CREATED:20190103T002553Z
LAST-MODIFIED:20190103T002553Z
UID:3209-1547578800-1547665199@stfrancisdesales.net
SUMMARY:Chicken Nuggets
DESCRIPTION:Chicken Nuggets
URL:https://stfrancisdesales.net/event/chicken-nuggets-5/
CATEGORIES:Cafeteria Calendar
END:VEVENT
BEGIN:VEVENT
DTSTART;VALUE=DATE:20190114
DTEND;VALUE=DATE:20190116
DTSTAMP:20260425T171500
CREATED:20190103T002149Z
LAST-MODIFIED:20190103T002149Z
UID:3204-1547492400-1547578799@stfrancisdesales.net
SUMMARY:Souper Tuesday ~ Broccoli Cheddar
DESCRIPTION:Souper Tuesday ~ Broccoli Cheddar
URL:https://stfrancisdesales.net/event/souper-tuesday-broccoli-cheddar/
CATEGORIES:Cafeteria Calendar
END:VEVENT
BEGIN:VEVENT
DTSTART;VALUE=DATE:20190113
DTEND;VALUE=DATE:20190115
DTSTAMP:20260425T171500
CREATED:20190103T001720Z
LAST-MODIFIED:20190103T001720Z
UID:3202-1547406000-1547492399@stfrancisdesales.net
SUMMARY:Hot Dogs
DESCRIPTION:Hot Dogs
URL:https://stfrancisdesales.net/event/hot-dogs-3/
CATEGORIES:Cafeteria Calendar
END:VEVENT
BEGIN:VEVENT
DTSTART;VALUE=DATE:20190110
DTEND;VALUE=DATE:20190112
DTSTAMP:20260425T171500
CREATED:20190103T001436Z
LAST-MODIFIED:20190103T001436Z
UID:3196-1547146800-1547233199@stfrancisdesales.net
SUMMARY:IT'S PIZZA DAY!!!
DESCRIPTION:IT’S PIZZA DAY!!!
URL:https://stfrancisdesales.net/event/its-pizza-day-4/
CATEGORIES:Cafeteria Calendar
END:VEVENT
BEGIN:VEVENT
DTSTART;VALUE=DATE:20190109
DTEND;VALUE=DATE:20190111
DTSTAMP:20260425T171500
CREATED:20190103T001357Z
LAST-MODIFIED:20190103T001357Z
UID:3194-1547060400-1547146799@stfrancisdesales.net
SUMMARY:Cheese Burger
DESCRIPTION:Cheese Burger
URL:https://stfrancisdesales.net/event/cheese-burger/
CATEGORIES:Cafeteria Calendar
END:VEVENT
BEGIN:VEVENT
DTSTART;VALUE=DATE:20190108
DTEND;VALUE=DATE:20190110
DTSTAMP:20260425T171500
CREATED:20190103T001325Z
LAST-MODIFIED:20190103T001325Z
UID:3192-1546974000-1547060399@stfrancisdesales.net
SUMMARY:Ham & Cheese Roll Up
DESCRIPTION:Ham & Cheese Roll Up
URL:https://stfrancisdesales.net/event/ham-cheese-roll-up/
CATEGORIES:Cafeteria Calendar
END:VEVENT
BEGIN:VEVENT
DTSTART;VALUE=DATE:20190107
DTEND;VALUE=DATE:20190109
DTSTAMP:20260425T171500
CREATED:20190103T001241Z
LAST-MODIFIED:20190103T001241Z
UID:3190-1546887600-1546973999@stfrancisdesales.net
SUMMARY:Souper Tuesday ~ Vegetable Beef
DESCRIPTION:Souper Tuesday ~ Vegetable Beef
URL:https://stfrancisdesales.net/event/souper-tuesday-vegetable-beef/
CATEGORIES:Cafeteria Calendar
END:VEVENT
BEGIN:VEVENT
DTSTART;VALUE=DATE:20190106
DTEND;VALUE=DATE:20190108
DTSTAMP:20260425T171500
CREATED:20190103T001138Z
LAST-MODIFIED:20190103T001138Z
UID:3188-1546801200-1546887599@stfrancisdesales.net
SUMMARY:French Toast Sticks
DESCRIPTION:French Toast Sticks
URL:https://stfrancisdesales.net/event/french-toast-sticks-4/
CATEGORIES:Cafeteria Calendar
END:VEVENT
BEGIN:VEVENT
DTSTART;VALUE=DATE:20190103
DTEND;VALUE=DATE:20190105
DTSTAMP:20260425T171500
CREATED:20190103T001059Z
LAST-MODIFIED:20190103T001059Z
UID:3186-1546542000-1546628399@stfrancisdesales.net
SUMMARY:IT'S PIZZA DAY!!!
DESCRIPTION:IT’S PIZZA DAY!!!
URL:https://stfrancisdesales.net/event/its-pizza-day-3/
CATEGORIES:Cafeteria Calendar
END:VEVENT
BEGIN:VEVENT
DTSTART;VALUE=DATE:20190102
DTEND;VALUE=DATE:20190104
DTSTAMP:20260425T171500
CREATED:20190103T001014Z
LAST-MODIFIED:20190103T001014Z
UID:3180-1546455600-1546541999@stfrancisdesales.net
SUMMARY:Chicken Nuggets
DESCRIPTION:Chicken Nuggets
URL:https://stfrancisdesales.net/event/chicken-nuggets-4/
CATEGORIES:Cafeteria Calendar
END:VEVENT
BEGIN:VEVENT
DTSTART;VALUE=DATE:20190101
DTEND;VALUE=DATE:20190103
DTSTAMP:20260425T171500
CREATED:20190103T002438Z
LAST-MODIFIED:20190103T002438Z
UID:3207-1546369200-1546455599@stfrancisdesales.net
SUMMARY:Baked Ziti
DESCRIPTION:Baked Ziti
URL:https://stfrancisdesales.net/event/baked-ziti/
CATEGORIES:Cafeteria Calendar
END:VEVENT
BEGIN:VEVENT
DTSTART;TZID=America/New_York:20181224T030000
DTEND;TZID=America/New_York:20190101T120000
DTSTAMP:20260425T171500
CREATED:20181129T212811Z
LAST-MODIFIED:20181129T212811Z
UID:3083-1545620400-1546344000@stfrancisdesales.net
SUMMARY:Closed! Merry Christmas
DESCRIPTION:Closed\nMerry\nChristmas
URL:https://stfrancisdesales.net/event/closed-merry-christmas/
CATEGORIES:Cafeteria Calendar
END:VEVENT
BEGIN:VEVENT
DTSTART;VALUE=DATE:20181220
DTEND;VALUE=DATE:20181222
DTSTAMP:20260425T171500
CREATED:20181129T212134Z
LAST-MODIFIED:20181129T212134Z
UID:3081-1545332400-1545418799@stfrancisdesales.net
SUMMARY:No Lunch ½ Day
DESCRIPTION:No Lunch ½ Day
URL:https://stfrancisdesales.net/event/no-lunch-%c2%bd-day/
CATEGORIES:Cafeteria Calendar
END:VEVENT
BEGIN:VEVENT
DTSTART;VALUE=DATE:20181219
DTEND;VALUE=DATE:20181221
DTSTAMP:20260425T171500
CREATED:20181129T213440Z
LAST-MODIFIED:20181129T213440Z
UID:3086-1545246000-1545332399@stfrancisdesales.net
SUMMARY:It’s PIZZA Day!!!
DESCRIPTION:It’s PIZZA Day!!!
URL:https://stfrancisdesales.net/event/its-pizza-day-2/
CATEGORIES:Cafeteria Calendar
END:VEVENT
BEGIN:VEVENT
DTSTART;VALUE=DATE:20181218
DTEND;VALUE=DATE:20181220
DTSTAMP:20260425T171500
CREATED:20181129T212042Z
LAST-MODIFIED:20181129T212042Z
UID:3079-1545159600-1545245999@stfrancisdesales.net
SUMMARY:Hot Dogs
DESCRIPTION:Hot Dogs
URL:https://stfrancisdesales.net/event/hot-dogs-2/
CATEGORIES:Cafeteria Calendar
END:VEVENT
BEGIN:VEVENT
DTSTART;VALUE=DATE:20181217
DTEND;VALUE=DATE:20181219
DTSTAMP:20260425T171500
CREATED:20181129T211825Z
LAST-MODIFIED:20181129T211825Z
UID:3077-1545073200-1545159599@stfrancisdesales.net
SUMMARY:Loaded Potato Chowder
DESCRIPTION:Loaded Potato Chowder
URL:https://stfrancisdesales.net/event/loaded-potato-chowder/
CATEGORIES:Cafeteria Calendar
END:VEVENT
BEGIN:VEVENT
DTSTART;VALUE=DATE:20181216
DTEND;VALUE=DATE:20181218
DTSTAMP:20260425T171500
CREATED:20181129T211745Z
LAST-MODIFIED:20181129T211745Z
UID:3075-1544986800-1545073199@stfrancisdesales.net
SUMMARY:French Toast Sticks
DESCRIPTION:French Toast Sticks
URL:https://stfrancisdesales.net/event/french-toast-sticks-3/
CATEGORIES:Cafeteria Calendar
END:VEVENT
BEGIN:VEVENT
DTSTART;VALUE=DATE:20181213
DTEND;VALUE=DATE:20181215
DTSTAMP:20260425T171500
CREATED:20181129T211600Z
LAST-MODIFIED:20181129T211600Z
UID:3073-1544727600-1544813999@stfrancisdesales.net
SUMMARY:Freaky Friday (leftovers from the week)
DESCRIPTION:Freaky Friday (leftovers from the week)
URL:https://stfrancisdesales.net/event/freaky-friday-leftovers-from-the-week-2/
CATEGORIES:Cafeteria Calendar
END:VEVENT
BEGIN:VEVENT
DTSTART;VALUE=DATE:20181212
DTEND;VALUE=DATE:20181214
DTSTAMP:20260425T171500
CREATED:20181129T211504Z
LAST-MODIFIED:20181129T211504Z
UID:3071-1544641200-1544727599@stfrancisdesales.net
SUMMARY:Chicken Nuggets
DESCRIPTION:Chicken Nuggets
URL:https://stfrancisdesales.net/event/chicken-nuggets-3/
CATEGORIES:Cafeteria Calendar
END:VEVENT
BEGIN:VEVENT
DTSTART;VALUE=DATE:20181211
DTEND;VALUE=DATE:20181213
DTSTAMP:20260425T171500
CREATED:20181129T211402Z
LAST-MODIFIED:20181129T211402Z
UID:3069-1544554800-1544641199@stfrancisdesales.net
SUMMARY:Pasta-Ravioli
DESCRIPTION:Pasta-Ravioli
URL:https://stfrancisdesales.net/event/pasta-ravioli/
CATEGORIES:Cafeteria Calendar
END:VEVENT
BEGIN:VEVENT
DTSTART;VALUE=DATE:20181210
DTEND;VALUE=DATE:20181212
DTSTAMP:20260425T171500
CREATED:20181129T211206Z
LAST-MODIFIED:20181129T211227Z
UID:3067-1544468400-1544554799@stfrancisdesales.net
SUMMARY:Chili
DESCRIPTION:Chili
URL:https://stfrancisdesales.net/event/chili/
CATEGORIES:Cafeteria Calendar
END:VEVENT
BEGIN:VEVENT
DTSTART;VALUE=DATE:20181209
DTEND;VALUE=DATE:20181211
DTSTAMP:20260425T171500
CREATED:20181129T211003Z
LAST-MODIFIED:20181129T211003Z
UID:3065-1544382000-1544468399@stfrancisdesales.net
SUMMARY:It’s PIZZA Day!!!
DESCRIPTION:It’s PIZZA Day!!!
URL:https://stfrancisdesales.net/event/its-pizza-day/
CATEGORIES:Cafeteria Calendar
END:VEVENT
BEGIN:VEVENT
DTSTART;VALUE=DATE:20181206
DTEND;VALUE=DATE:20181208
DTSTAMP:20260425T171500
CREATED:20181129T210745Z
LAST-MODIFIED:20181129T210926Z
UID:3062-1544122800-1544209199@stfrancisdesales.net
SUMMARY:Freaky Friday (leftovers from the week)
DESCRIPTION:Freaky Friday (leftovers from the week)
URL:https://stfrancisdesales.net/event/freaky-friday-leftovers-from-the-week/
CATEGORIES:Cafeteria Calendar
END:VEVENT
BEGIN:VEVENT
DTSTART;VALUE=DATE:20181205
DTEND;VALUE=DATE:20181207
DTSTAMP:20260425T171500
CREATED:20181129T210518Z
LAST-MODIFIED:20181129T210518Z
UID:3060-1544036400-1544122799@stfrancisdesales.net
SUMMARY:Mac & Cheese
DESCRIPTION:Mac & Cheese
URL:https://stfrancisdesales.net/event/mac-cheese-3/
CATEGORIES:Cafeteria Calendar
END:VEVENT
BEGIN:VEVENT
DTSTART;VALUE=DATE:20181204
DTEND;VALUE=DATE:20181206
DTSTAMP:20260425T171500
CREATED:20181129T204455Z
LAST-MODIFIED:20181129T204455Z
UID:3057-1543950000-1544036399@stfrancisdesales.net
SUMMARY:Flying Saucers (Ham and Cheese Sandwich)
DESCRIPTION:Flying Saucers (Ham and Cheese Sandwich)
URL:https://stfrancisdesales.net/event/flying-saucers-ham-and-cheese-sandwich/
CATEGORIES:Cafeteria Calendar
END:VEVENT
BEGIN:VEVENT
DTSTART;VALUE=DATE:20181203
DTEND;VALUE=DATE:20181205
DTSTAMP:20260425T171500
CREATED:20181129T204350Z
LAST-MODIFIED:20181129T205402Z
UID:3054-1543863600-1543949999@stfrancisdesales.net
SUMMARY:Chicken Noodle Soup
DESCRIPTION:Chicken Noodle Soup
URL:https://stfrancisdesales.net/event/chicken-noodle-soup/
CATEGORIES:Cafeteria Calendar
END:VEVENT
BEGIN:VEVENT
DTSTART;VALUE=DATE:20181202
DTEND;VALUE=DATE:20181204
DTSTAMP:20260425T171500
CREATED:20181129T203716Z
LAST-MODIFIED:20181129T205319Z
UID:3052-1543777200-1543863599@stfrancisdesales.net
SUMMARY:Meatball Sub
DESCRIPTION:Meatball Sub
URL:https://stfrancisdesales.net/event/meatball-sub-2/
CATEGORIES:Cafeteria Calendar
END:VEVENT
BEGIN:VEVENT
DTSTART;VALUE=DATE:20181129
DTEND;VALUE=DATE:20181201
DTSTAMP:20260425T171500
CREATED:20181101T203704Z
LAST-MODIFIED:20181101T203704Z
UID:2893-1543518000-1543604399@stfrancisdesales.net
SUMMARY:Freaky Friday!
DESCRIPTION:Leftovers from the week!!
URL:https://stfrancisdesales.net/event/freaky-friday-7/
CATEGORIES:Cafeteria Calendar
END:VEVENT
END:VCALENDAR