BEGIN:VCALENDAR
VERSION:2.0
PRODID:-//St. Francis de Sales Catholic School - ECPv6.13.2.1//NONSGML v1.0//EN
CALSCALE:GREGORIAN
METHOD:PUBLISH
X-WR-CALNAME:St. Francis de Sales Catholic School
X-ORIGINAL-URL:https://stfrancisdesales.net
X-WR-CALDESC:Events for St. Francis de Sales Catholic School
REFRESH-INTERVAL;VALUE=DURATION:PT1H
X-Robots-Tag:noindex
X-PUBLISHED-TTL:PT1H
BEGIN:VTIMEZONE
TZID:America/New_York
BEGIN:DAYLIGHT
TZOFFSETFROM:-0500
TZOFFSETTO:-0400
TZNAME:EDT
DTSTART:20190310T070000
END:DAYLIGHT
BEGIN:STANDARD
TZOFFSETFROM:-0400
TZOFFSETTO:-0500
TZNAME:EST
DTSTART:20191103T060000
END:STANDARD
END:VTIMEZONE
BEGIN:VEVENT
DTSTART;VALUE=DATE:20190219
DTEND;VALUE=DATE:20190221
DTSTAMP:20260425T141905
CREATED:20190206T230703Z
LAST-MODIFIED:20190206T231534Z
UID:3401-1550602800-1550689199@stfrancisdesales.net
SUMMARY:Pasta ~ Beefaroni
DESCRIPTION:Pasta ~ Beefaroni
URL:https://stfrancisdesales.net/event/pasta-beefaroni/
CATEGORIES:Cafeteria Calendar
END:VEVENT
BEGIN:VEVENT
DTSTART;VALUE=DATE:20190218
DTEND;VALUE=DATE:20190220
DTSTAMP:20260425T141905
CREATED:20190206T230346Z
LAST-MODIFIED:20190206T230346Z
UID:3397-1550516400-1550602799@stfrancisdesales.net
SUMMARY:Souper Tuesday ~ Chicken Noodle Soup
DESCRIPTION:Souper Tuesday ~ Chicken Noodle Soup
URL:https://stfrancisdesales.net/event/souper-tuesday-chicken-noodle-soup/
CATEGORIES:Cafeteria Calendar
END:VEVENT
BEGIN:VEVENT
DTSTART;VALUE=DATE:20190217
DTEND;VALUE=DATE:20190219
DTSTAMP:20260425T141905
CREATED:20190206T230515Z
LAST-MODIFIED:20190206T230515Z
UID:3399-1550430000-1550516399@stfrancisdesales.net
SUMMARY:Happy Presidents' Day
DESCRIPTION:  \nHappy Presidents’ Day \nNo School! No Lunch! 🙂
URL:https://stfrancisdesales.net/event/happy-presidents-day/
CATEGORIES:Cafeteria Calendar
END:VEVENT
BEGIN:VEVENT
DTSTART;VALUE=DATE:20190214
DTEND;VALUE=DATE:20190216
DTSTAMP:20260425T141905
CREATED:20190206T230253Z
LAST-MODIFIED:20190206T230253Z
UID:3395-1550170800-1550257199@stfrancisdesales.net
SUMMARY:It's PIZZA Day!!!
DESCRIPTION:It’s PIZZA Day!!!
URL:https://stfrancisdesales.net/event/its-pizza-day-5/
CATEGORIES:Cafeteria Calendar
END:VEVENT
BEGIN:VEVENT
DTSTART;VALUE=DATE:20190213
DTEND;VALUE=DATE:20190215
DTSTAMP:20260425T141905
CREATED:20190206T230216Z
LAST-MODIFIED:20190206T230216Z
UID:3393-1550084400-1550170799@stfrancisdesales.net
SUMMARY:(Cheese) Burgers
DESCRIPTION:(Cheese) Burgers
URL:https://stfrancisdesales.net/event/cheese-burgers-2/
CATEGORIES:Cafeteria Calendar
END:VEVENT
BEGIN:VEVENT
DTSTART;VALUE=DATE:20190212
DTEND;VALUE=DATE:20190214
DTSTAMP:20260425T141905
CREATED:20190206T222919Z
LAST-MODIFIED:20190206T225902Z
UID:3388-1549998000-1550084399@stfrancisdesales.net
SUMMARY:Chicken Nuggets
DESCRIPTION:Chicken Nuggets
URL:https://stfrancisdesales.net/event/chicken-nuggets-7/
CATEGORIES:Cafeteria Calendar
END:VEVENT
BEGIN:VEVENT
DTSTART;VALUE=DATE:20190211
DTEND;VALUE=DATE:20190213
DTSTAMP:20260425T141905
CREATED:20190206T222837Z
LAST-MODIFIED:20190206T222837Z
UID:3386-1549911600-1549997999@stfrancisdesales.net
SUMMARY:Souper Tuesday ~ Vegetable Beef
DESCRIPTION:Souper Tuesday ~ Vegetable Beef
URL:https://stfrancisdesales.net/event/souper-tuesday-vegetable-beef-3/
CATEGORIES:Cafeteria Calendar
END:VEVENT
BEGIN:VEVENT
DTSTART;VALUE=DATE:20190210
DTEND;VALUE=DATE:20190212
DTSTAMP:20260425T141905
CREATED:20190206T222556Z
LAST-MODIFIED:20190206T222556Z
UID:3384-1549825200-1549911599@stfrancisdesales.net
SUMMARY:Mac & Cheese
DESCRIPTION:Mac & Cheese
URL:https://stfrancisdesales.net/event/mac-cheese-4/
CATEGORIES:Cafeteria Calendar
END:VEVENT
BEGIN:VEVENT
DTSTART;VALUE=DATE:20190207
DTEND;VALUE=DATE:20190209
DTSTAMP:20260425T141905
CREATED:20190206T222443Z
LAST-MODIFIED:20190206T222443Z
UID:3382-1549566000-1549652399@stfrancisdesales.net
SUMMARY:No Lunch 1/2 Day of School
DESCRIPTION:No Lunch 1/2 Day of School
URL:https://stfrancisdesales.net/event/no-lunch-1-2-day-of-school-4/
CATEGORIES:Cafeteria Calendar
END:VEVENT
BEGIN:VEVENT
DTSTART;VALUE=DATE:20190206
DTEND;VALUE=DATE:20190208
DTSTAMP:20260425T141905
CREATED:20190206T222029Z
LAST-MODIFIED:20190206T222029Z
UID:3380-1549479600-1549565999@stfrancisdesales.net
SUMMARY:Chicken Patty Sandwich
DESCRIPTION:Chicken Patty Sandwich
URL:https://stfrancisdesales.net/event/chicken-patty-sandwich/
CATEGORIES:Cafeteria Calendar
END:VEVENT
BEGIN:VEVENT
DTSTART;VALUE=DATE:20190205
DTEND;VALUE=DATE:20190207
DTSTAMP:20260425T141905
CREATED:20190205T233147Z
LAST-MODIFIED:20190205T233147Z
UID:3355-1549393200-1549479599@stfrancisdesales.net
SUMMARY:Hot Dogs
DESCRIPTION:Hot Dogs
URL:https://stfrancisdesales.net/event/hot-dogs-4/
CATEGORIES:Cafeteria Calendar
END:VEVENT
BEGIN:VEVENT
DTSTART;VALUE=DATE:20190130
DTEND;VALUE=DATE:20190201
DTSTAMP:20260425T141905
CREATED:20190103T002627Z
LAST-MODIFIED:20190103T002627Z
UID:3211-1548874800-1548961199@stfrancisdesales.net
SUMMARY:Chicken Nuggets
DESCRIPTION:Chicken Nuggets
URL:https://stfrancisdesales.net/event/chicken-nuggets-6/
CATEGORIES:Cafeteria Calendar
END:VEVENT
BEGIN:VEVENT
DTSTART;VALUE=DATE:20190129
DTEND;VALUE=DATE:20190131
DTSTAMP:20260425T141905
CREATED:20190103T004957Z
LAST-MODIFIED:20190103T004957Z
UID:3229-1548788400-1548874799@stfrancisdesales.net
SUMMARY:Taco Salad
DESCRIPTION:Taco Salad
URL:https://stfrancisdesales.net/event/taco-salad-5/
CATEGORIES:Cafeteria Calendar
END:VEVENT
BEGIN:VEVENT
DTSTART;VALUE=DATE:20190128
DTEND;VALUE=DATE:20190130
DTSTAMP:20260425T141905
CREATED:20190103T003455Z
LAST-MODIFIED:20190103T005129Z
UID:3221-1548702000-1548788399@stfrancisdesales.net
SUMMARY:Souper Tuesday ~ Chicken Noodle
DESCRIPTION:Souper Tuesday ~ Chicken Noodle
URL:https://stfrancisdesales.net/event/souper-tuesday-chili-2/
CATEGORIES:Cafeteria Calendar
END:VEVENT
BEGIN:VEVENT
DTSTART;VALUE=DATE:20190127
DTEND;VALUE=DATE:20190129
DTSTAMP:20260425T141905
CREATED:20190103T004921Z
LAST-MODIFIED:20190103T004921Z
UID:3227-1548615600-1548701999@stfrancisdesales.net
SUMMARY:Meatball Sub
DESCRIPTION:Meatball Sub
URL:https://stfrancisdesales.net/event/meatball-sub-3/
CATEGORIES:Cafeteria Calendar
END:VEVENT
BEGIN:VEVENT
DTSTART;VALUE=DATE:20190124
DTEND;VALUE=DATE:20190126
DTSTAMP:20260425T141905
CREATED:20190103T001635Z
LAST-MODIFIED:20190103T001635Z
UID:3200-1548356400-1548442799@stfrancisdesales.net
SUMMARY:IT'S PIZZA DAY!!!
DESCRIPTION:IT’S PIZZA DAY!!!
URL:https://stfrancisdesales.net/event/its-pizza-day-6/
CATEGORIES:Cafeteria Calendar
END:VEVENT
BEGIN:VEVENT
DTSTART;VALUE=DATE:20190123
DTEND;VALUE=DATE:20190125
DTSTAMP:20260425T141905
CREATED:20190103T004835Z
LAST-MODIFIED:20190103T004835Z
UID:3225-1548270000-1548356399@stfrancisdesales.net
SUMMARY:Flying Saucers
DESCRIPTION:Flying Saucers
URL:https://stfrancisdesales.net/event/flying-saucers-2/
CATEGORIES:Cafeteria Calendar
END:VEVENT
BEGIN:VEVENT
DTSTART;VALUE=DATE:20190122
DTEND;VALUE=DATE:20190124
DTSTAMP:20260425T141905
CREATED:20190103T003536Z
LAST-MODIFIED:20190103T003536Z
UID:3223-1548183600-1548269999@stfrancisdesales.net
SUMMARY:Pasta
DESCRIPTION:Pasta
URL:https://stfrancisdesales.net/event/pasta/
CATEGORIES:Cafeteria Calendar
END:VEVENT
BEGIN:VEVENT
DTSTART;VALUE=DATE:20190121
DTEND;VALUE=DATE:20190123
DTSTAMP:20260425T141905
CREATED:20190103T003041Z
LAST-MODIFIED:20190103T003041Z
UID:3219-1548097200-1548183599@stfrancisdesales.net
SUMMARY:Souper Tuesday ~ Chili
DESCRIPTION:Souper Tuesday ~ Chili
URL:https://stfrancisdesales.net/event/souper-tuesday-chili/
CATEGORIES:Cafeteria Calendar
END:VEVENT
BEGIN:VEVENT
DTSTART;VALUE=DATE:20190120
DTEND;VALUE=DATE:20190122
DTSTAMP:20260425T141905
CREATED:20190103T002925Z
LAST-MODIFIED:20190103T002925Z
UID:3217-1548010800-1548097199@stfrancisdesales.net
SUMMARY:No School
DESCRIPTION:No School
URL:https://stfrancisdesales.net/event/no-school/
CATEGORIES:Cafeteria Calendar
END:VEVENT
BEGIN:VEVENT
DTSTART;VALUE=DATE:20190117
DTEND;VALUE=DATE:20190119
DTSTAMP:20260425T141905
CREATED:20190103T002835Z
LAST-MODIFIED:20190103T002835Z
UID:3215-1547751600-1547837999@stfrancisdesales.net
SUMMARY:No Lunch 1/2 Day of School
DESCRIPTION:No Lunch 1/2 Day of School
URL:https://stfrancisdesales.net/event/no-lunch-1-2-day-of-school-2/
CATEGORIES:Cafeteria Calendar
END:VEVENT
BEGIN:VEVENT
DTSTART;VALUE=DATE:20190116
DTEND;VALUE=DATE:20190118
DTSTAMP:20260425T141905
CREATED:20190103T002729Z
LAST-MODIFIED:20190103T002729Z
UID:3213-1547665200-1547751599@stfrancisdesales.net
SUMMARY:French Toast Sticks
DESCRIPTION:French Toast Sticks
URL:https://stfrancisdesales.net/event/french-toast-sticks-5/
CATEGORIES:Cafeteria Calendar
END:VEVENT
BEGIN:VEVENT
DTSTART;VALUE=DATE:20190115
DTEND;VALUE=DATE:20190117
DTSTAMP:20260425T141905
CREATED:20190103T002553Z
LAST-MODIFIED:20190103T002553Z
UID:3209-1547578800-1547665199@stfrancisdesales.net
SUMMARY:Chicken Nuggets
DESCRIPTION:Chicken Nuggets
URL:https://stfrancisdesales.net/event/chicken-nuggets-5/
CATEGORIES:Cafeteria Calendar
END:VEVENT
BEGIN:VEVENT
DTSTART;VALUE=DATE:20190114
DTEND;VALUE=DATE:20190116
DTSTAMP:20260425T141905
CREATED:20190103T002149Z
LAST-MODIFIED:20190103T002149Z
UID:3204-1547492400-1547578799@stfrancisdesales.net
SUMMARY:Souper Tuesday ~ Broccoli Cheddar
DESCRIPTION:Souper Tuesday ~ Broccoli Cheddar
URL:https://stfrancisdesales.net/event/souper-tuesday-broccoli-cheddar/
CATEGORIES:Cafeteria Calendar
END:VEVENT
BEGIN:VEVENT
DTSTART;VALUE=DATE:20190113
DTEND;VALUE=DATE:20190115
DTSTAMP:20260425T141905
CREATED:20190103T001720Z
LAST-MODIFIED:20190103T001720Z
UID:3202-1547406000-1547492399@stfrancisdesales.net
SUMMARY:Hot Dogs
DESCRIPTION:Hot Dogs
URL:https://stfrancisdesales.net/event/hot-dogs-3/
CATEGORIES:Cafeteria Calendar
END:VEVENT
BEGIN:VEVENT
DTSTART;VALUE=DATE:20190110
DTEND;VALUE=DATE:20190112
DTSTAMP:20260425T141905
CREATED:20190103T001436Z
LAST-MODIFIED:20190103T001436Z
UID:3196-1547146800-1547233199@stfrancisdesales.net
SUMMARY:IT'S PIZZA DAY!!!
DESCRIPTION:IT’S PIZZA DAY!!!
URL:https://stfrancisdesales.net/event/its-pizza-day-4/
CATEGORIES:Cafeteria Calendar
END:VEVENT
BEGIN:VEVENT
DTSTART;VALUE=DATE:20190109
DTEND;VALUE=DATE:20190111
DTSTAMP:20260425T141905
CREATED:20190103T001357Z
LAST-MODIFIED:20190103T001357Z
UID:3194-1547060400-1547146799@stfrancisdesales.net
SUMMARY:Cheese Burger
DESCRIPTION:Cheese Burger
URL:https://stfrancisdesales.net/event/cheese-burger/
CATEGORIES:Cafeteria Calendar
END:VEVENT
BEGIN:VEVENT
DTSTART;VALUE=DATE:20190108
DTEND;VALUE=DATE:20190110
DTSTAMP:20260425T141905
CREATED:20190103T001325Z
LAST-MODIFIED:20190103T001325Z
UID:3192-1546974000-1547060399@stfrancisdesales.net
SUMMARY:Ham & Cheese Roll Up
DESCRIPTION:Ham & Cheese Roll Up
URL:https://stfrancisdesales.net/event/ham-cheese-roll-up/
CATEGORIES:Cafeteria Calendar
END:VEVENT
BEGIN:VEVENT
DTSTART;VALUE=DATE:20190107
DTEND;VALUE=DATE:20190109
DTSTAMP:20260425T141905
CREATED:20190103T001241Z
LAST-MODIFIED:20190103T001241Z
UID:3190-1546887600-1546973999@stfrancisdesales.net
SUMMARY:Souper Tuesday ~ Vegetable Beef
DESCRIPTION:Souper Tuesday ~ Vegetable Beef
URL:https://stfrancisdesales.net/event/souper-tuesday-vegetable-beef/
CATEGORIES:Cafeteria Calendar
END:VEVENT
BEGIN:VEVENT
DTSTART;VALUE=DATE:20190106
DTEND;VALUE=DATE:20190108
DTSTAMP:20260425T141905
CREATED:20190103T001138Z
LAST-MODIFIED:20190103T001138Z
UID:3188-1546801200-1546887599@stfrancisdesales.net
SUMMARY:French Toast Sticks
DESCRIPTION:French Toast Sticks
URL:https://stfrancisdesales.net/event/french-toast-sticks-4/
CATEGORIES:Cafeteria Calendar
END:VEVENT
END:VCALENDAR