BEGIN:VCALENDAR
VERSION:2.0
PRODID:-//St. Francis de Sales Catholic School - ECPv6.13.2.1//NONSGML v1.0//EN
CALSCALE:GREGORIAN
METHOD:PUBLISH
X-ORIGINAL-URL:https://stfrancisdesales.net
X-WR-CALDESC:Events for St. Francis de Sales Catholic School
REFRESH-INTERVAL;VALUE=DURATION:PT1H
X-Robots-Tag:noindex
X-PUBLISHED-TTL:PT1H
BEGIN:VTIMEZONE
TZID:America/New_York
BEGIN:DAYLIGHT
TZOFFSETFROM:-0500
TZOFFSETTO:-0400
TZNAME:EDT
DTSTART:20190310T070000
END:DAYLIGHT
BEGIN:STANDARD
TZOFFSETFROM:-0400
TZOFFSETTO:-0500
TZNAME:EST
DTSTART:20191103T060000
END:STANDARD
BEGIN:DAYLIGHT
TZOFFSETFROM:-0500
TZOFFSETTO:-0400
TZNAME:EDT
DTSTART:20200308T070000
END:DAYLIGHT
BEGIN:STANDARD
TZOFFSETFROM:-0400
TZOFFSETTO:-0500
TZNAME:EST
DTSTART:20201101T060000
END:STANDARD
BEGIN:DAYLIGHT
TZOFFSETFROM:-0500
TZOFFSETTO:-0400
TZNAME:EDT
DTSTART:20210314T070000
END:DAYLIGHT
BEGIN:STANDARD
TZOFFSETFROM:-0400
TZOFFSETTO:-0500
TZNAME:EST
DTSTART:20211107T060000
END:STANDARD
BEGIN:DAYLIGHT
TZOFFSETFROM:-0500
TZOFFSETTO:-0400
TZNAME:EDT
DTSTART:20220313T070000
END:DAYLIGHT
BEGIN:STANDARD
TZOFFSETFROM:-0400
TZOFFSETTO:-0500
TZNAME:EST
DTSTART:20221106T060000
END:STANDARD
BEGIN:DAYLIGHT
TZOFFSETFROM:-0500
TZOFFSETTO:-0400
TZNAME:EDT
DTSTART:20230312T070000
END:DAYLIGHT
BEGIN:STANDARD
TZOFFSETFROM:-0400
TZOFFSETTO:-0500
TZNAME:EST
DTSTART:20231105T060000
END:STANDARD
END:VTIMEZONE
BEGIN:VEVENT
DTSTART;VALUE=DATE:20191105
DTEND;VALUE=DATE:20191106
DTSTAMP:20260424T202304
CREATED:20191001T202151Z
LAST-MODIFIED:20191104T134619Z
UID:4944-1572912000-1572998399@stfrancisdesales.net
SUMMARY:Souper Tuesday ~ Chicken Noodle Soup
DESCRIPTION:Souper Tuesday ~ Chicken Noodle Soup
URL:https://stfrancisdesales.net/event/souper-tuesday-chicken-noodle-soup-2/
CATEGORIES:Cafeteria Calendar
END:VEVENT
BEGIN:VEVENT
DTSTART;VALUE=DATE:20191104
DTEND;VALUE=DATE:20191105
DTSTAMP:20260424T202304
CREATED:20191001T204416Z
LAST-MODIFIED:20191104T134335Z
UID:4950-1572825600-1572911999@stfrancisdesales.net
SUMMARY:Beefaroni
DESCRIPTION:Beefaroni
URL:https://stfrancisdesales.net/event/beefaroni-4/
CATEGORIES:Cafeteria Calendar
END:VEVENT
BEGIN:VEVENT
DTSTART;TZID=America/New_York:20191101T040000
DTEND;TZID=America/New_York:20191101T130000
DTSTAMP:20260424T202304
CREATED:20191001T200724Z
LAST-MODIFIED:20191001T200724Z
UID:4896-1572580800-1572613200@stfrancisdesales.net
SUMMARY:It's PIZZA Day!!!
DESCRIPTION:It’s PIZZA Day!!!
URL:https://stfrancisdesales.net/event/its-pizza-day-30/
CATEGORIES:Cafeteria Calendar
END:VEVENT
BEGIN:VEVENT
DTSTART;VALUE=DATE:20191030
DTEND;VALUE=DATE:20191101
DTSTAMP:20260424T202304
CREATED:20191001T202016Z
LAST-MODIFIED:20191001T202016Z
UID:4940-1572465600-1572551999@stfrancisdesales.net
SUMMARY:Cheese Burgers
DESCRIPTION:Cheese Burgers
URL:https://stfrancisdesales.net/event/cheese-burgers-6/
CATEGORIES:Cafeteria Calendar
END:VEVENT
BEGIN:VEVENT
DTSTART;VALUE=DATE:20191029
DTEND;VALUE=DATE:20191031
DTSTAMP:20260424T202304
CREATED:20191001T201914Z
LAST-MODIFIED:20191001T201914Z
UID:4936-1572379200-1572465599@stfrancisdesales.net
SUMMARY:Mac & Cheese
DESCRIPTION:Mac & Cheese
URL:https://stfrancisdesales.net/event/mac-cheese-8/
CATEGORIES:Cafeteria Calendar
END:VEVENT
BEGIN:VEVENT
DTSTART;VALUE=DATE:20191028
DTEND;VALUE=DATE:20191030
DTSTAMP:20260424T202304
CREATED:20191001T201832Z
LAST-MODIFIED:20191001T201832Z
UID:4934-1572292800-1572379199@stfrancisdesales.net
SUMMARY:Chicken Parmesan Sandwich
DESCRIPTION:Chicken Parmesan Sandwich
URL:https://stfrancisdesales.net/event/chicken-parmesan-sandwich/
CATEGORIES:Cafeteria Calendar
END:VEVENT
BEGIN:VEVENT
DTSTART;VALUE=DATE:20191027
DTEND;VALUE=DATE:20191029
DTSTAMP:20260424T202304
CREATED:20191001T200815Z
LAST-MODIFIED:20191001T200815Z
UID:4900-1572206400-1572292799@stfrancisdesales.net
SUMMARY:French Toast Sticks
DESCRIPTION:French Toast Sticks
URL:https://stfrancisdesales.net/event/french-toast-sticks-14/
CATEGORIES:Cafeteria Calendar
END:VEVENT
BEGIN:VEVENT
DTSTART;VALUE=DATE:20191024
DTEND;VALUE=DATE:20191026
DTSTAMP:20260424T202304
CREATED:20191001T201152Z
LAST-MODIFIED:20191001T201152Z
UID:4912-1571947200-1572033599@stfrancisdesales.net
SUMMARY:No Lunch ~ SFdS School Closed
DESCRIPTION:No Lunch ~ SFdS School Closed
URL:https://stfrancisdesales.net/event/no-lunch-sfds-school-closed-2/
CATEGORIES:Cafeteria Calendar
END:VEVENT
BEGIN:VEVENT
DTSTART;VALUE=DATE:20191023
DTEND;VALUE=DATE:20191025
DTSTAMP:20260424T202304
CREATED:20191001T201724Z
LAST-MODIFIED:20191001T201724Z
UID:4930-1571860800-1571947199@stfrancisdesales.net
SUMMARY:No Lunch ~ 1/2 Day of School
DESCRIPTION:No Lunch ~ 1/2 Day of School
URL:https://stfrancisdesales.net/event/no-lunch-1-2-day-of-school-5/
CATEGORIES:Cafeteria Calendar
END:VEVENT
BEGIN:VEVENT
DTSTART;VALUE=DATE:20191022
DTEND;VALUE=DATE:20191024
DTSTAMP:20260424T202304
CREATED:20191001T201008Z
LAST-MODIFIED:20191001T201008Z
UID:4908-1571774400-1571860799@stfrancisdesales.net
SUMMARY:Chicken Nuggets
DESCRIPTION:Chicken Nuggets
URL:https://stfrancisdesales.net/event/chicken-nuggets-14/
CATEGORIES:Cafeteria Calendar
END:VEVENT
BEGIN:VEVENT
DTSTART;VALUE=DATE:20191021
DTEND;VALUE=DATE:20191023
DTSTAMP:20260424T202304
CREATED:20191001T201622Z
LAST-MODIFIED:20191001T201622Z
UID:4926-1571688000-1571774399@stfrancisdesales.net
SUMMARY:Spaghetti
DESCRIPTION:Spaghetti
URL:https://stfrancisdesales.net/event/spaghetti-2/
CATEGORIES:Cafeteria Calendar
END:VEVENT
BEGIN:VEVENT
DTSTART;VALUE=DATE:20191020
DTEND;VALUE=DATE:20191022
DTSTAMP:20260424T202304
CREATED:20191001T201505Z
LAST-MODIFIED:20191001T201505Z
UID:4922-1571601600-1571687999@stfrancisdesales.net
SUMMARY:Hot Dogs
DESCRIPTION:Hot Dogs
URL:https://stfrancisdesales.net/event/hot-dogs-12/
CATEGORIES:Cafeteria Calendar
END:VEVENT
BEGIN:VEVENT
DTSTART;VALUE=DATE:20191017
DTEND;VALUE=DATE:20191019
DTSTAMP:20260424T202304
CREATED:20191001T200706Z
LAST-MODIFIED:20191001T200706Z
UID:4894-1571342400-1571428799@stfrancisdesales.net
SUMMARY:It's PIZZA Day!!!
DESCRIPTION:It’s PIZZA Day!!!
URL:https://stfrancisdesales.net/event/its-pizza-day-29/
CATEGORIES:Cafeteria Calendar
END:VEVENT
BEGIN:VEVENT
DTSTART;VALUE=DATE:20191016
DTEND;VALUE=DATE:20191018
DTSTAMP:20260424T202304
CREATED:20191001T201359Z
LAST-MODIFIED:20191001T201359Z
UID:4918-1571256000-1571342399@stfrancisdesales.net
SUMMARY:Corn Dog Nuggets
DESCRIPTION:Corn Dog Nuggets
URL:https://stfrancisdesales.net/event/corn-dog-nuggets-4/
CATEGORIES:Cafeteria Calendar
END:VEVENT
BEGIN:VEVENT
DTSTART;VALUE=DATE:20191015
DTEND;VALUE=DATE:20191017
DTSTAMP:20260424T202304
CREATED:20191001T201320Z
LAST-MODIFIED:20191001T201320Z
UID:4916-1571169600-1571255999@stfrancisdesales.net
SUMMARY:Meatball Sub
DESCRIPTION:Meatball Sub
URL:https://stfrancisdesales.net/event/meatball-sub-5/
CATEGORIES:Cafeteria Calendar
END:VEVENT
BEGIN:VEVENT
DTSTART;VALUE=DATE:20191014
DTEND;VALUE=DATE:20191016
DTSTAMP:20260424T202304
CREATED:20191001T201247Z
LAST-MODIFIED:20191001T201247Z
UID:4914-1571083200-1571169599@stfrancisdesales.net
SUMMARY:Hot Ham & Cheese Sandwich
DESCRIPTION:Hot Ham & Cheese Sandwich
URL:https://stfrancisdesales.net/event/hot-ham-cheese-sandwich/
CATEGORIES:Cafeteria Calendar
END:VEVENT
BEGIN:VEVENT
DTSTART;VALUE=DATE:20191013
DTEND;VALUE=DATE:20191015
DTSTAMP:20260424T202304
CREATED:20191001T201131Z
LAST-MODIFIED:20191001T201131Z
UID:4910-1570996800-1571083199@stfrancisdesales.net
SUMMARY:No Lunch ~ SFdS School Closed
DESCRIPTION:No Lunch ~ SFdS School Closed
URL:https://stfrancisdesales.net/event/no-lunch-sfds-school-closed/
CATEGORIES:Cafeteria Calendar
END:VEVENT
BEGIN:VEVENT
DTSTART;VALUE=DATE:20191010
DTEND;VALUE=DATE:20191012
DTSTAMP:20260424T202304
CREATED:20191001T200649Z
LAST-MODIFIED:20191001T200649Z
UID:4892-1570737600-1570823999@stfrancisdesales.net
SUMMARY:It's PIZZA Day!!!
DESCRIPTION:It’s PIZZA Day!!!
URL:https://stfrancisdesales.net/event/its-pizza-day-28/
CATEGORIES:Cafeteria Calendar
END:VEVENT
BEGIN:VEVENT
DTSTART;TZID=America/New_York:20191009T214003
DTEND;TZID=America/New_York:20191009T214003
DTSTAMP:20260424T202304
CREATED:20190504T004901Z
LAST-MODIFIED:20190504T004901Z
UID:3830-1570657203-1570657203@stfrancisdesales.net
SUMMARY:IT'S PIZZA DAY!!!
DESCRIPTION:IT’S PIZZA DAY!!!
URL:https://stfrancisdesales.net/event/its-pizza-day-20/
CATEGORIES:Cafeteria Calendar
END:VEVENT
BEGIN:VEVENT
DTSTART;VALUE=DATE:20191009
DTEND;VALUE=DATE:20191011
DTSTAMP:20260424T202304
CREATED:20191001T200952Z
LAST-MODIFIED:20191001T200952Z
UID:4906-1570651200-1570737599@stfrancisdesales.net
SUMMARY:Chicken Nuggets
DESCRIPTION:Chicken Nuggets
URL:https://stfrancisdesales.net/event/chicken-nuggets-13/
CATEGORIES:Cafeteria Calendar
END:VEVENT
BEGIN:VEVENT
DTSTART;VALUE=DATE:20191008
DTEND;VALUE=DATE:20191010
DTSTAMP:20260424T202304
CREATED:20191001T200914Z
LAST-MODIFIED:20191001T200914Z
UID:4904-1570564800-1570651199@stfrancisdesales.net
SUMMARY:Mozzarella Sticks
DESCRIPTION:Mozzarella Sticks
URL:https://stfrancisdesales.net/event/mozzarella-sticks-7/
CATEGORIES:Cafeteria Calendar
END:VEVENT
BEGIN:VEVENT
DTSTART;VALUE=DATE:20191007
DTEND;VALUE=DATE:20191009
DTSTAMP:20260424T202304
CREATED:20191001T200840Z
LAST-MODIFIED:20191001T200840Z
UID:4902-1570478400-1570564799@stfrancisdesales.net
SUMMARY:Ravioli
DESCRIPTION:Ravioli
URL:https://stfrancisdesales.net/event/ravioli-3/
CATEGORIES:Cafeteria Calendar
END:VEVENT
BEGIN:VEVENT
DTSTART;VALUE=DATE:20191006
DTEND;VALUE=DATE:20191008
DTSTAMP:20260424T202304
CREATED:20191001T200749Z
LAST-MODIFIED:20191001T200749Z
UID:4898-1570392000-1570478399@stfrancisdesales.net
SUMMARY:French Toast Sticks
DESCRIPTION:French Toast Sticks
URL:https://stfrancisdesales.net/event/french-toast-sticks-13/
CATEGORIES:Cafeteria Calendar
END:VEVENT
BEGIN:VEVENT
DTSTART;VALUE=DATE:20191003
DTEND;VALUE=DATE:20191005
DTSTAMP:20260424T202304
CREATED:20191001T200629Z
LAST-MODIFIED:20191001T200629Z
UID:4890-1570132800-1570219199@stfrancisdesales.net
SUMMARY:It's PIZZA Day!!!
DESCRIPTION:It’s PIZZA Day!!!
URL:https://stfrancisdesales.net/event/its-pizza-day-27/
CATEGORIES:Cafeteria Calendar
END:VEVENT
BEGIN:VEVENT
DTSTART;VALUE=DATE:20191003
DTEND;VALUE=DATE:20191005
DTSTAMP:20260424T202304
CREATED:20190710T191449Z
LAST-MODIFIED:20190710T191449Z
UID:4237-1570132800-1570219199@stfrancisdesales.net
SUMMARY:IT'S PIZZA DAY!!!
DESCRIPTION:IT’S PIZZA DAY!!!
URL:https://stfrancisdesales.net/event/its-pizza-day-26/
CATEGORIES:Cafeteria Calendar
END:VEVENT
BEGIN:VEVENT
DTSTART;VALUE=DATE:20191002
DTEND;VALUE=DATE:20191004
DTSTAMP:20260424T202304
CREATED:20191001T200606Z
LAST-MODIFIED:20191001T200606Z
UID:4888-1570046400-1570132799@stfrancisdesales.net
SUMMARY:Chicken Bacon Ranch
DESCRIPTION:Chicken Bacon Ranch
URL:https://stfrancisdesales.net/event/chicken-bacon-ranch/
CATEGORIES:Cafeteria Calendar
END:VEVENT
BEGIN:VEVENT
DTSTART;VALUE=DATE:20191002
DTEND;VALUE=DATE:20191004
DTSTAMP:20260424T202304
CREATED:20190710T191401Z
LAST-MODIFIED:20190710T191401Z
UID:4235-1570046400-1570132799@stfrancisdesales.net
SUMMARY:Chicken Bacon Ranch Sub
DESCRIPTION:Chicken Bacon Ranch Sub
URL:https://stfrancisdesales.net/event/chicken-bacon-ranch-sub-2/
CATEGORIES:Cafeteria Calendar
END:VEVENT
BEGIN:VEVENT
DTSTART;VALUE=DATE:20191001
DTEND;VALUE=DATE:20191003
DTSTAMP:20260424T202304
CREATED:20191001T200525Z
LAST-MODIFIED:20191001T200525Z
UID:4886-1569960000-1570046399@stfrancisdesales.net
SUMMARY:Hot Dogs
DESCRIPTION:Hot Dogs
URL:https://stfrancisdesales.net/event/hot-dogs-11/
CATEGORIES:Cafeteria Calendar
END:VEVENT
BEGIN:VEVENT
DTSTART;VALUE=DATE:20191001
DTEND;VALUE=DATE:20191003
DTSTAMP:20260424T202304
CREATED:20190710T191249Z
LAST-MODIFIED:20190710T191249Z
UID:4233-1569960000-1570046399@stfrancisdesales.net
SUMMARY:Hot Dogs
DESCRIPTION:Hot Dogs
URL:https://stfrancisdesales.net/event/hot-dogs-10/
CATEGORIES:Cafeteria Calendar
END:VEVENT
BEGIN:VEVENT
DTSTART;VALUE=DATE:20230816
DTEND;VALUE=DATE:20230818
DTSTAMP:20260424T202304
CREATED:20230801T200505Z
LAST-MODIFIED:20230831T201334Z
UID:4884-1692216000-1692302399@stfrancisdesales.net
SUMMARY:Beefaroni
DESCRIPTION:Beefaroni
URL:https://stfrancisdesales.net/event/beefaroni-3/
LOCATION:St. francis de sales\, MD
CATEGORIES:Cafeteria Calendar
END:VEVENT
END:VCALENDAR