BEGIN:VCALENDAR
VERSION:2.0
PRODID:-//St. Francis de Sales Catholic School - ECPv6.13.2.1//NONSGML v1.0//EN
CALSCALE:GREGORIAN
METHOD:PUBLISH
X-WR-CALNAME:St. Francis de Sales Catholic School
X-ORIGINAL-URL:https://stfrancisdesales.net
X-WR-CALDESC:Events for St. Francis de Sales Catholic School
REFRESH-INTERVAL;VALUE=DURATION:PT1H
X-Robots-Tag:noindex
X-PUBLISHED-TTL:PT1H
BEGIN:VTIMEZONE
TZID:America/New_York
BEGIN:DAYLIGHT
TZOFFSETFROM:-0500
TZOFFSETTO:-0400
TZNAME:EDT
DTSTART:20190310T070000
END:DAYLIGHT
BEGIN:STANDARD
TZOFFSETFROM:-0400
TZOFFSETTO:-0500
TZNAME:EST
DTSTART:20191103T060000
END:STANDARD
BEGIN:DAYLIGHT
TZOFFSETFROM:-0500
TZOFFSETTO:-0400
TZNAME:EDT
DTSTART:20200308T070000
END:DAYLIGHT
BEGIN:STANDARD
TZOFFSETFROM:-0400
TZOFFSETTO:-0500
TZNAME:EST
DTSTART:20201101T060000
END:STANDARD
END:VTIMEZONE
BEGIN:VEVENT
DTSTART;VALUE=DATE:20200108
DTEND;VALUE=DATE:20200109
DTSTAMP:20260424T142356
CREATED:20191216T212431Z
LAST-MODIFIED:20191216T212431Z
UID:5217-1578441600-1578527999@stfrancisdesales.net
SUMMARY:Beefaroni
DESCRIPTION:
URL:https://stfrancisdesales.net/event/beefaroni-6/
CATEGORIES:Cafeteria Calendar
END:VEVENT
BEGIN:VEVENT
DTSTART;VALUE=DATE:20200107
DTEND;VALUE=DATE:20200108
DTSTAMP:20260424T142356
CREATED:20191216T212409Z
LAST-MODIFIED:20191216T212409Z
UID:5215-1578355200-1578441599@stfrancisdesales.net
SUMMARY:Vegetable and Beef Soup
DESCRIPTION:
URL:https://stfrancisdesales.net/event/vegetable-and-beef-soup/
CATEGORIES:Cafeteria Calendar
END:VEVENT
BEGIN:VEVENT
DTSTART;VALUE=DATE:20200106
DTEND;VALUE=DATE:20200107
DTSTAMP:20260424T142356
CREATED:20191216T212320Z
LAST-MODIFIED:20191216T212320Z
UID:5213-1578268800-1578355199@stfrancisdesales.net
SUMMARY:Cheese Burger
DESCRIPTION:
URL:https://stfrancisdesales.net/event/cheese-burger-2/
CATEGORIES:Cafeteria Calendar
END:VEVENT
BEGIN:VEVENT
DTSTART;VALUE=DATE:20200103
DTEND;VALUE=DATE:20200104
DTSTAMP:20260424T142356
CREATED:20191216T212241Z
LAST-MODIFIED:20191216T212241Z
UID:5211-1578009600-1578095999@stfrancisdesales.net
SUMMARY:Pizza
DESCRIPTION:
URL:https://stfrancisdesales.net/event/pizza-4/
CATEGORIES:Cafeteria Calendar
END:VEVENT
BEGIN:VEVENT
DTSTART;VALUE=DATE:20200102
DTEND;VALUE=DATE:20200103
DTSTAMP:20260424T142356
CREATED:20191216T212026Z
LAST-MODIFIED:20191216T212026Z
UID:5199-1577923200-1578009599@stfrancisdesales.net
SUMMARY:Macaroni and Cheese
DESCRIPTION:
URL:https://stfrancisdesales.net/event/macaroni-and-cheese-2/
CATEGORIES:Cafeteria Calendar
END:VEVENT
BEGIN:VEVENT
DTSTART;VALUE=DATE:20191230
DTEND;VALUE=DATE:20200102
DTSTAMP:20260424T142356
CREATED:20191001T205142Z
LAST-MODIFIED:20191104T135711Z
UID:4974-1577664000-1577923199@stfrancisdesales.net
SUMMARY:No Lunch ~ SFdS School Closed
DESCRIPTION:No Lunch ~ SFdS School Closed
URL:https://stfrancisdesales.net/event/no-lunch-sfds-school-closed-7/
CATEGORIES:Cafeteria Calendar
END:VEVENT
BEGIN:VEVENT
DTSTART;VALUE=DATE:20191223
DTEND;VALUE=DATE:20191228
DTSTAMP:20260424T142356
CREATED:20191001T205110Z
LAST-MODIFIED:20191104T135629Z
UID:4972-1577059200-1577491199@stfrancisdesales.net
SUMMARY:No Lunch ~ SFdS School Closed
DESCRIPTION:No Lunch ~ SFdS School Closed
URL:https://stfrancisdesales.net/event/no-lunch-sfds-school-closed-6/
CATEGORIES:Cafeteria Calendar
END:VEVENT
BEGIN:VEVENT
DTSTART;VALUE=DATE:20191220
DTEND;VALUE=DATE:20191221
DTSTAMP:20260424T142356
CREATED:20191114T155041Z
LAST-MODIFIED:20191114T155041Z
UID:5168-1576800000-1576886399@stfrancisdesales.net
SUMMARY:1/2 Day ~ No Lunch ~
DESCRIPTION:1/2 Day ~ No Lunch ~
URL:https://stfrancisdesales.net/event/1-2-day-no-lunch-3/
CATEGORIES:Cafeteria Calendar
END:VEVENT
BEGIN:VEVENT
DTSTART;VALUE=DATE:20191219
DTEND;VALUE=DATE:20191220
DTSTAMP:20260424T142356
CREATED:20191114T150303Z
LAST-MODIFIED:20191114T150303Z
UID:5161-1576713600-1576799999@stfrancisdesales.net
SUMMARY:Chicken Nuggets
DESCRIPTION:Chicken Nuggets
URL:https://stfrancisdesales.net/event/chicken-nuggets-16/
CATEGORIES:Cafeteria Calendar
END:VEVENT
BEGIN:VEVENT
DTSTART;VALUE=DATE:20191218
DTEND;VALUE=DATE:20191219
DTSTAMP:20260424T142356
CREATED:20191114T150234Z
LAST-MODIFIED:20191114T150234Z
UID:5159-1576627200-1576713599@stfrancisdesales.net
SUMMARY:Cheeseburgers
DESCRIPTION:Cheeseburgers
URL:https://stfrancisdesales.net/event/cheeseburgers/
CATEGORIES:Cafeteria Calendar
END:VEVENT
BEGIN:VEVENT
DTSTART;VALUE=DATE:20191217
DTEND;VALUE=DATE:20191218
DTSTAMP:20260424T142356
CREATED:20191114T150204Z
LAST-MODIFIED:20191114T150204Z
UID:5157-1576540800-1576627199@stfrancisdesales.net
SUMMARY:Chicken Noodle Soup
DESCRIPTION:Chicken Noodle Soup
URL:https://stfrancisdesales.net/event/chicken-noodle-soup-2/
CATEGORIES:Cafeteria Calendar
END:VEVENT
BEGIN:VEVENT
DTSTART;VALUE=DATE:20191216
DTEND;VALUE=DATE:20191217
DTSTAMP:20260424T142356
CREATED:20191114T150130Z
LAST-MODIFIED:20191114T150130Z
UID:5155-1576454400-1576540799@stfrancisdesales.net
SUMMARY:Corn Dogs
DESCRIPTION:Corn Dogs
URL:https://stfrancisdesales.net/event/corn-dogs-4/
CATEGORIES:Cafeteria Calendar
END:VEVENT
BEGIN:VEVENT
DTSTART;VALUE=DATE:20191213
DTEND;VALUE=DATE:20191214
DTSTAMP:20260424T142356
CREATED:20191114T150108Z
LAST-MODIFIED:20191114T150849Z
UID:5153-1576195200-1576281599@stfrancisdesales.net
SUMMARY:It's PIZZA Day!!!
DESCRIPTION:It’s PIZZA Day!!!
URL:https://stfrancisdesales.net/event/pizza-3/
CATEGORIES:Cafeteria Calendar
END:VEVENT
BEGIN:VEVENT
DTSTART;VALUE=DATE:20191212
DTEND;VALUE=DATE:20191213
DTSTAMP:20260424T142356
CREATED:20191114T150049Z
LAST-MODIFIED:20191114T150049Z
UID:5151-1576108800-1576195199@stfrancisdesales.net
SUMMARY:Chicken Sandwich
DESCRIPTION:Chicken Sandwich
URL:https://stfrancisdesales.net/event/chicken-sandwich-6/
CATEGORIES:Cafeteria Calendar
END:VEVENT
BEGIN:VEVENT
DTSTART;VALUE=DATE:20191211
DTEND;VALUE=DATE:20191212
DTSTAMP:20260424T142356
CREATED:20191114T150014Z
LAST-MODIFIED:20191114T150014Z
UID:5149-1576022400-1576108799@stfrancisdesales.net
SUMMARY:Ravioli
DESCRIPTION:Ravioli
URL:https://stfrancisdesales.net/event/ravioli-4/
CATEGORIES:Cafeteria Calendar
END:VEVENT
BEGIN:VEVENT
DTSTART;VALUE=DATE:20191210
DTEND;VALUE=DATE:20191211
DTSTAMP:20260424T142356
CREATED:20191114T145949Z
LAST-MODIFIED:20191114T145949Z
UID:5147-1575936000-1576022399@stfrancisdesales.net
SUMMARY:White Chicken Chili
DESCRIPTION:White Chicken Chili
URL:https://stfrancisdesales.net/event/white-chicken-chili/
CATEGORIES:Cafeteria Calendar
END:VEVENT
BEGIN:VEVENT
DTSTART;VALUE=DATE:20191209
DTEND;VALUE=DATE:20191210
DTSTAMP:20260424T142356
CREATED:20191114T145919Z
LAST-MODIFIED:20191114T145919Z
UID:5145-1575849600-1575935999@stfrancisdesales.net
SUMMARY:Hot Dogs
DESCRIPTION:Hot Dogs
URL:https://stfrancisdesales.net/event/hot-dogs-14/
CATEGORIES:Cafeteria Calendar
END:VEVENT
BEGIN:VEVENT
DTSTART;VALUE=DATE:20191206
DTEND;VALUE=DATE:20191207
DTSTAMP:20260424T142356
CREATED:20191114T145848Z
LAST-MODIFIED:20191114T150816Z
UID:5143-1575590400-1575676799@stfrancisdesales.net
SUMMARY:It's PIZZA Day!!!
DESCRIPTION:It’s PIZZA Day!!!
URL:https://stfrancisdesales.net/event/pizza-2/
CATEGORIES:Cafeteria Calendar
END:VEVENT
BEGIN:VEVENT
DTSTART;VALUE=DATE:20191205
DTEND;VALUE=DATE:20191206
DTSTAMP:20260424T142356
CREATED:20191114T145825Z
LAST-MODIFIED:20191114T145825Z
UID:5141-1575504000-1575590399@stfrancisdesales.net
SUMMARY:Macaroni & Cheese
DESCRIPTION:Macaroni & Cheese
URL:https://stfrancisdesales.net/event/macaroni-cheese/
CATEGORIES:Cafeteria Calendar
END:VEVENT
BEGIN:VEVENT
DTSTART;VALUE=DATE:20191204
DTEND;VALUE=DATE:20191205
DTSTAMP:20260424T142356
CREATED:20191114T145754Z
LAST-MODIFIED:20191114T145754Z
UID:5139-1575417600-1575503999@stfrancisdesales.net
SUMMARY:Mozzarella Sticks
DESCRIPTION:Mozzarella Sticks
URL:https://stfrancisdesales.net/event/mozzarella-sticks-8/
CATEGORIES:Cafeteria Calendar
END:VEVENT
BEGIN:VEVENT
DTSTART;VALUE=DATE:20191203
DTEND;VALUE=DATE:20191204
DTSTAMP:20260424T142356
CREATED:20191114T145702Z
LAST-MODIFIED:20191114T145702Z
UID:5137-1575331200-1575417599@stfrancisdesales.net
SUMMARY:Loaded Potato
DESCRIPTION:Loaded Potato
URL:https://stfrancisdesales.net/event/loaded-potato/
CATEGORIES:Cafeteria Calendar
END:VEVENT
BEGIN:VEVENT
DTSTART;VALUE=DATE:20191202
DTEND;VALUE=DATE:20191203
DTSTAMP:20260424T142356
CREATED:20191114T145621Z
LAST-MODIFIED:20191114T145621Z
UID:5135-1575244800-1575331199@stfrancisdesales.net
SUMMARY:French Toast Sticks
DESCRIPTION:French Toast Sticks
URL:https://stfrancisdesales.net/event/french-toast-sticks-16/
CATEGORIES:Cafeteria Calendar
END:VEVENT
BEGIN:VEVENT
DTSTART;VALUE=DATE:20191129
DTEND;VALUE=DATE:20191130
DTSTAMP:20260424T142356
CREATED:20191001T204936Z
LAST-MODIFIED:20191104T135557Z
UID:4970-1574985600-1575071999@stfrancisdesales.net
SUMMARY:No Lunch ~ SFdS School Closed
DESCRIPTION:No Lunch ~ SFdS School Closed
URL:https://stfrancisdesales.net/event/no-lunch-sfds-school-closed-5/
CATEGORIES:Cafeteria Calendar
END:VEVENT
BEGIN:VEVENT
DTSTART;VALUE=DATE:20191128
DTEND;VALUE=DATE:20191129
DTSTAMP:20260424T142356
CREATED:20191001T204917Z
LAST-MODIFIED:20191104T135453Z
UID:4968-1574899200-1574985599@stfrancisdesales.net
SUMMARY:No Lunch ~ SFdS School Closed
DESCRIPTION:No Lunch ~ SFdS School Closed
URL:https://stfrancisdesales.net/event/no-lunch-sfds-school-closed-4/
CATEGORIES:Cafeteria Calendar
END:VEVENT
BEGIN:VEVENT
DTSTART;VALUE=DATE:20191127
DTEND;VALUE=DATE:20191128
DTSTAMP:20260424T142357
CREATED:20191001T204900Z
LAST-MODIFIED:20191104T135428Z
UID:4966-1574812800-1574899199@stfrancisdesales.net
SUMMARY:No Lunch ~ SFdS School Closed
DESCRIPTION:No Lunch ~ SFdS School Closed
URL:https://stfrancisdesales.net/event/no-lunch-sfds-school-closed-3/
CATEGORIES:Cafeteria Calendar
END:VEVENT
BEGIN:VEVENT
DTSTART;VALUE=DATE:20191126
DTEND;VALUE=DATE:20191127
DTSTAMP:20260424T142357
CREATED:20191001T201757Z
LAST-MODIFIED:20191104T135400Z
UID:4932-1574726400-1574812799@stfrancisdesales.net
SUMMARY:No Lunch ~ 1/2 Day of School
DESCRIPTION:No Lunch ~ 1/2 Day of School
URL:https://stfrancisdesales.net/event/no-lunch-1-2-day-of-school-6/
CATEGORIES:Cafeteria Calendar
END:VEVENT
BEGIN:VEVENT
DTSTART;VALUE=DATE:20191125
DTEND;VALUE=DATE:20191126
DTSTAMP:20260424T142357
CREATED:20191001T204443Z
LAST-MODIFIED:20191104T135331Z
UID:4952-1574640000-1574726399@stfrancisdesales.net
SUMMARY:Beefaroni
DESCRIPTION:Beefaroni
URL:https://stfrancisdesales.net/event/beefaroni-5/
CATEGORIES:Cafeteria Calendar
END:VEVENT
BEGIN:VEVENT
DTSTART;VALUE=DATE:20191122
DTEND;VALUE=DATE:20191123
DTSTAMP:20260424T142357
CREATED:20191001T204819Z
LAST-MODIFIED:20191104T135300Z
UID:4964-1574380800-1574467199@stfrancisdesales.net
SUMMARY:It's PIZZA Day!!!
DESCRIPTION:It’s PIZZA Day!!!
URL:https://stfrancisdesales.net/event/its-pizza-day-33/
CATEGORIES:Cafeteria Calendar
END:VEVENT
BEGIN:VEVENT
DTSTART;VALUE=DATE:20191121
DTEND;VALUE=DATE:20191122
DTSTAMP:20260424T142357
CREATED:20191001T201936Z
LAST-MODIFIED:20191104T135207Z
UID:4938-1574294400-1574380799@stfrancisdesales.net
SUMMARY:Mac & Cheese
DESCRIPTION:Mac & Cheese
URL:https://stfrancisdesales.net/event/mac-cheese-9/
CATEGORIES:Cafeteria Calendar
END:VEVENT
BEGIN:VEVENT
DTSTART;VALUE=DATE:20191120
DTEND;VALUE=DATE:20191121
DTSTAMP:20260424T142357
CREATED:20191001T201532Z
LAST-MODIFIED:20191104T135144Z
UID:4924-1574208000-1574294399@stfrancisdesales.net
SUMMARY:Hot Dogs
DESCRIPTION:Hot Dogs
URL:https://stfrancisdesales.net/event/hot-dogs-13/
CATEGORIES:Cafeteria Calendar
END:VEVENT
END:VCALENDAR