BEGIN:VCALENDAR
VERSION:2.0
PRODID:-//St. Francis de Sales Catholic School - ECPv6.13.2.1//NONSGML v1.0//EN
CALSCALE:GREGORIAN
METHOD:PUBLISH
X-WR-CALNAME:St. Francis de Sales Catholic School
X-ORIGINAL-URL:https://stfrancisdesales.net
X-WR-CALDESC:Events for St. Francis de Sales Catholic School
REFRESH-INTERVAL;VALUE=DURATION:PT1H
X-Robots-Tag:noindex
X-PUBLISHED-TTL:PT1H
BEGIN:VTIMEZONE
TZID:America/New_York
BEGIN:DAYLIGHT
TZOFFSETFROM:-0500
TZOFFSETTO:-0400
TZNAME:EDT
DTSTART:20190310T070000
END:DAYLIGHT
BEGIN:STANDARD
TZOFFSETFROM:-0400
TZOFFSETTO:-0500
TZNAME:EST
DTSTART:20191103T060000
END:STANDARD
BEGIN:DAYLIGHT
TZOFFSETFROM:-0500
TZOFFSETTO:-0400
TZNAME:EDT
DTSTART:20200308T070000
END:DAYLIGHT
BEGIN:STANDARD
TZOFFSETFROM:-0400
TZOFFSETTO:-0500
TZNAME:EST
DTSTART:20201101T060000
END:STANDARD
END:VTIMEZONE
BEGIN:VEVENT
DTSTART;VALUE=DATE:20200206
DTEND;VALUE=DATE:20200207
DTSTAMP:20260424T112734
CREATED:20200203T153434Z
LAST-MODIFIED:20200203T153434Z
UID:5356-1580947200-1581033599@stfrancisdesales.net
SUMMARY:Chicken Nuggets
DESCRIPTION:Chicken Nuggets
URL:https://stfrancisdesales.net/event/chicken-nuggets-18/
CATEGORIES:Cafeteria Calendar
END:VEVENT
BEGIN:VEVENT
DTSTART;VALUE=DATE:20200205
DTEND;VALUE=DATE:20200206
DTSTAMP:20260424T112734
CREATED:20200203T153348Z
LAST-MODIFIED:20200203T153348Z
UID:5352-1580860800-1580947199@stfrancisdesales.net
SUMMARY:Hot Dogs
DESCRIPTION:Hot Dogs
URL:https://stfrancisdesales.net/event/hot-dogs-16/
CATEGORIES:Cafeteria Calendar
END:VEVENT
BEGIN:VEVENT
DTSTART;VALUE=DATE:20200204
DTEND;VALUE=DATE:20200205
DTSTAMP:20260424T112734
CREATED:20200203T153016Z
LAST-MODIFIED:20200203T153016Z
UID:5340-1580774400-1580860799@stfrancisdesales.net
SUMMARY:Souper Tuesday ~ Loaded Potato ~
DESCRIPTION:Souper Tuesday ~ Loaded Potato ~
URL:https://stfrancisdesales.net/event/souper-tuesday-loaded-potato/
CATEGORIES:Cafeteria Calendar
END:VEVENT
BEGIN:VEVENT
DTSTART;VALUE=DATE:20200203
DTEND;VALUE=DATE:20200204
DTSTAMP:20260424T112734
CREATED:20200203T152940Z
LAST-MODIFIED:20200203T152940Z
UID:5338-1580688000-1580774399@stfrancisdesales.net
SUMMARY:French Toast Sticks
DESCRIPTION:French Toast Sticks
URL:https://stfrancisdesales.net/event/french-toast-sticks-17/
CATEGORIES:Cafeteria Calendar
END:VEVENT
BEGIN:VEVENT
DTSTART;VALUE=DATE:20200131
DTEND;VALUE=DATE:20200201
DTSTAMP:20260424T112734
CREATED:20191216T213354Z
LAST-MODIFIED:20200110T152920Z
UID:5249-1580428800-1580515199@stfrancisdesales.net
SUMMARY:Grandparents Day Luncheon
DESCRIPTION:Pulled Pork Sandwich\nCole Slaw\nMacaroni & Cheese\nDessert\nLemonade\, Water\, Coffee \n  \nGrandparents’ & Grandfriends’ Lunch Order Form
URL:https://stfrancisdesales.net/event/ziti-salad/
CATEGORIES:Cafeteria Calendar
END:VEVENT
BEGIN:VEVENT
DTSTART;VALUE=DATE:20200130
DTEND;VALUE=DATE:20200131
DTSTAMP:20260424T112734
CREATED:20191216T213320Z
LAST-MODIFIED:20191216T213320Z
UID:5247-1580342400-1580428799@stfrancisdesales.net
SUMMARY:Baked Ziti
DESCRIPTION:
URL:https://stfrancisdesales.net/event/baked-ziti-2/
CATEGORIES:Cafeteria Calendar
END:VEVENT
BEGIN:VEVENT
DTSTART;VALUE=DATE:20200129
DTEND;VALUE=DATE:20200130
DTSTAMP:20260424T112734
CREATED:20191216T213254Z
LAST-MODIFIED:20191216T213254Z
UID:5245-1580256000-1580342399@stfrancisdesales.net
SUMMARY:Meat Ball Sub
DESCRIPTION:
URL:https://stfrancisdesales.net/event/meat-ball-sub/
CATEGORIES:Cafeteria Calendar
END:VEVENT
BEGIN:VEVENT
DTSTART;VALUE=DATE:20200128
DTEND;VALUE=DATE:20200129
DTSTAMP:20260424T112734
CREATED:20191216T213207Z
LAST-MODIFIED:20191216T213207Z
UID:5243-1580169600-1580255999@stfrancisdesales.net
SUMMARY:Chicken And Dumpling Soup
DESCRIPTION:
URL:https://stfrancisdesales.net/event/chicken-and-dumpling-soup/
CATEGORIES:Cafeteria Calendar
END:VEVENT
BEGIN:VEVENT
DTSTART;VALUE=DATE:20200127
DTEND;VALUE=DATE:20200128
DTSTAMP:20260424T112734
CREATED:20191216T213054Z
LAST-MODIFIED:20191216T213054Z
UID:5241-1580083200-1580169599@stfrancisdesales.net
SUMMARY:Corn Dog Nuggets
DESCRIPTION:
URL:https://stfrancisdesales.net/event/corn-dog-nuggets-6/
CATEGORIES:Cafeteria Calendar
END:VEVENT
BEGIN:VEVENT
DTSTART;VALUE=DATE:20200124
DTEND;VALUE=DATE:20200125
DTSTAMP:20260424T112734
CREATED:20191216T213023Z
LAST-MODIFIED:20191216T213023Z
UID:5239-1579824000-1579910399@stfrancisdesales.net
SUMMARY:PIZZA!!!
DESCRIPTION:
URL:https://stfrancisdesales.net/event/pizza-7/
CATEGORIES:Cafeteria Calendar
END:VEVENT
BEGIN:VEVENT
DTSTART;VALUE=DATE:20200123
DTEND;VALUE=DATE:20200124
DTSTAMP:20260424T112734
CREATED:20191216T212951Z
LAST-MODIFIED:20191216T212951Z
UID:5237-1579737600-1579823999@stfrancisdesales.net
SUMMARY:Mozzarella Sticks
DESCRIPTION:
URL:https://stfrancisdesales.net/event/mozzarella-sticks-9/
CATEGORIES:Cafeteria Calendar
END:VEVENT
BEGIN:VEVENT
DTSTART;VALUE=DATE:20200122
DTEND;VALUE=DATE:20200123
DTSTAMP:20260424T112734
CREATED:20191216T212929Z
LAST-MODIFIED:20191216T212929Z
UID:5235-1579651200-1579737599@stfrancisdesales.net
SUMMARY:Hot Dogs
DESCRIPTION:
URL:https://stfrancisdesales.net/event/hot-dogs-15/
CATEGORIES:Cafeteria Calendar
END:VEVENT
BEGIN:VEVENT
DTSTART;VALUE=DATE:20200121
DTEND;VALUE=DATE:20200122
DTSTAMP:20260424T112734
CREATED:20191216T212907Z
LAST-MODIFIED:20191216T212907Z
UID:5233-1579564800-1579651199@stfrancisdesales.net
SUMMARY:Broccoli And Cheddar Soup
DESCRIPTION:
URL:https://stfrancisdesales.net/event/broccoli-and-cheddar-soup/
CATEGORIES:Cafeteria Calendar
END:VEVENT
BEGIN:VEVENT
DTSTART;VALUE=DATE:20200117
DTEND;VALUE=DATE:20200118
DTSTAMP:20260424T112734
CREATED:20191216T212806Z
LAST-MODIFIED:20191216T212806Z
UID:5231-1579219200-1579305599@stfrancisdesales.net
SUMMARY:PIZZA!!!
DESCRIPTION:
URL:https://stfrancisdesales.net/event/pizza-6/
CATEGORIES:Cafeteria Calendar
END:VEVENT
BEGIN:VEVENT
DTSTART;VALUE=DATE:20200116
DTEND;VALUE=DATE:20200117
DTSTAMP:20260424T112734
CREATED:20191216T212745Z
LAST-MODIFIED:20191216T212745Z
UID:5229-1579132800-1579219199@stfrancisdesales.net
SUMMARY:Chicken Parmesan Sandwich
DESCRIPTION:
URL:https://stfrancisdesales.net/event/chicken-parmesan-sandwich-2/
CATEGORIES:Cafeteria Calendar
END:VEVENT
BEGIN:VEVENT
DTSTART;VALUE=DATE:20200115
DTEND;VALUE=DATE:20200116
DTSTAMP:20260424T112734
CREATED:20191216T212638Z
LAST-MODIFIED:20191216T212638Z
UID:5227-1579046400-1579132799@stfrancisdesales.net
SUMMARY:Spaghetti
DESCRIPTION:
URL:https://stfrancisdesales.net/event/spaghetti-4/
CATEGORIES:Cafeteria Calendar
END:VEVENT
BEGIN:VEVENT
DTSTART;VALUE=DATE:20200114
DTEND;VALUE=DATE:20200115
DTSTAMP:20260424T112734
CREATED:20191216T212611Z
LAST-MODIFIED:20191216T212618Z
UID:5225-1578960000-1579046399@stfrancisdesales.net
SUMMARY:Tomato Soup
DESCRIPTION:
URL:https://stfrancisdesales.net/event/tomato-soup/
CATEGORIES:Cafeteria Calendar
END:VEVENT
BEGIN:VEVENT
DTSTART;VALUE=DATE:20200113
DTEND;VALUE=DATE:20200114
DTSTAMP:20260424T112734
CREATED:20191216T212552Z
LAST-MODIFIED:20191216T212552Z
UID:5223-1578873600-1578959999@stfrancisdesales.net
SUMMARY:French Toast Sticks or Pancakes and Sausage
DESCRIPTION:
URL:https://stfrancisdesales.net/event/french-toast-sticks-or-pancakes-and-sausage/
CATEGORIES:Cafeteria Calendar
END:VEVENT
BEGIN:VEVENT
DTSTART;VALUE=DATE:20200110
DTEND;VALUE=DATE:20200111
DTSTAMP:20260424T112734
CREATED:20191216T212516Z
LAST-MODIFIED:20191216T212516Z
UID:5221-1578614400-1578700799@stfrancisdesales.net
SUMMARY:PIZZA!!!!
DESCRIPTION:
URL:https://stfrancisdesales.net/event/pizza-5/
CATEGORIES:Cafeteria Calendar
END:VEVENT
BEGIN:VEVENT
DTSTART;VALUE=DATE:20200109
DTEND;VALUE=DATE:20200110
DTSTAMP:20260424T112734
CREATED:20191216T212456Z
LAST-MODIFIED:20191216T212456Z
UID:5219-1578528000-1578614399@stfrancisdesales.net
SUMMARY:Chicken Nuggets
DESCRIPTION:
URL:https://stfrancisdesales.net/event/chicken-nuggets-17/
CATEGORIES:Cafeteria Calendar
END:VEVENT
BEGIN:VEVENT
DTSTART;VALUE=DATE:20200108
DTEND;VALUE=DATE:20200109
DTSTAMP:20260424T112734
CREATED:20191216T212431Z
LAST-MODIFIED:20191216T212431Z
UID:5217-1578441600-1578527999@stfrancisdesales.net
SUMMARY:Beefaroni
DESCRIPTION:
URL:https://stfrancisdesales.net/event/beefaroni-6/
CATEGORIES:Cafeteria Calendar
END:VEVENT
BEGIN:VEVENT
DTSTART;VALUE=DATE:20200107
DTEND;VALUE=DATE:20200108
DTSTAMP:20260424T112734
CREATED:20191216T212409Z
LAST-MODIFIED:20191216T212409Z
UID:5215-1578355200-1578441599@stfrancisdesales.net
SUMMARY:Vegetable and Beef Soup
DESCRIPTION:
URL:https://stfrancisdesales.net/event/vegetable-and-beef-soup/
CATEGORIES:Cafeteria Calendar
END:VEVENT
BEGIN:VEVENT
DTSTART;VALUE=DATE:20200106
DTEND;VALUE=DATE:20200107
DTSTAMP:20260424T112734
CREATED:20191216T212320Z
LAST-MODIFIED:20191216T212320Z
UID:5213-1578268800-1578355199@stfrancisdesales.net
SUMMARY:Cheese Burger
DESCRIPTION:
URL:https://stfrancisdesales.net/event/cheese-burger-2/
CATEGORIES:Cafeteria Calendar
END:VEVENT
BEGIN:VEVENT
DTSTART;VALUE=DATE:20200103
DTEND;VALUE=DATE:20200104
DTSTAMP:20260424T112734
CREATED:20191216T212241Z
LAST-MODIFIED:20191216T212241Z
UID:5211-1578009600-1578095999@stfrancisdesales.net
SUMMARY:Pizza
DESCRIPTION:
URL:https://stfrancisdesales.net/event/pizza-4/
CATEGORIES:Cafeteria Calendar
END:VEVENT
BEGIN:VEVENT
DTSTART;VALUE=DATE:20200102
DTEND;VALUE=DATE:20200103
DTSTAMP:20260424T112734
CREATED:20191216T212026Z
LAST-MODIFIED:20191216T212026Z
UID:5199-1577923200-1578009599@stfrancisdesales.net
SUMMARY:Macaroni and Cheese
DESCRIPTION:
URL:https://stfrancisdesales.net/event/macaroni-and-cheese-2/
CATEGORIES:Cafeteria Calendar
END:VEVENT
BEGIN:VEVENT
DTSTART;VALUE=DATE:20191230
DTEND;VALUE=DATE:20200102
DTSTAMP:20260424T112734
CREATED:20191001T205142Z
LAST-MODIFIED:20191104T135711Z
UID:4974-1577664000-1577923199@stfrancisdesales.net
SUMMARY:No Lunch ~ SFdS School Closed
DESCRIPTION:No Lunch ~ SFdS School Closed
URL:https://stfrancisdesales.net/event/no-lunch-sfds-school-closed-7/
CATEGORIES:Cafeteria Calendar
END:VEVENT
BEGIN:VEVENT
DTSTART;VALUE=DATE:20191223
DTEND;VALUE=DATE:20191228
DTSTAMP:20260424T112734
CREATED:20191001T205110Z
LAST-MODIFIED:20191104T135629Z
UID:4972-1577059200-1577491199@stfrancisdesales.net
SUMMARY:No Lunch ~ SFdS School Closed
DESCRIPTION:No Lunch ~ SFdS School Closed
URL:https://stfrancisdesales.net/event/no-lunch-sfds-school-closed-6/
CATEGORIES:Cafeteria Calendar
END:VEVENT
BEGIN:VEVENT
DTSTART;VALUE=DATE:20191220
DTEND;VALUE=DATE:20191221
DTSTAMP:20260424T112734
CREATED:20191114T155041Z
LAST-MODIFIED:20191114T155041Z
UID:5168-1576800000-1576886399@stfrancisdesales.net
SUMMARY:1/2 Day ~ No Lunch ~
DESCRIPTION:1/2 Day ~ No Lunch ~
URL:https://stfrancisdesales.net/event/1-2-day-no-lunch-3/
CATEGORIES:Cafeteria Calendar
END:VEVENT
BEGIN:VEVENT
DTSTART;VALUE=DATE:20191219
DTEND;VALUE=DATE:20191220
DTSTAMP:20260424T112734
CREATED:20191114T150303Z
LAST-MODIFIED:20191114T150303Z
UID:5161-1576713600-1576799999@stfrancisdesales.net
SUMMARY:Chicken Nuggets
DESCRIPTION:Chicken Nuggets
URL:https://stfrancisdesales.net/event/chicken-nuggets-16/
CATEGORIES:Cafeteria Calendar
END:VEVENT
BEGIN:VEVENT
DTSTART;VALUE=DATE:20191218
DTEND;VALUE=DATE:20191219
DTSTAMP:20260424T112734
CREATED:20191114T150234Z
LAST-MODIFIED:20191114T150234Z
UID:5159-1576627200-1576713599@stfrancisdesales.net
SUMMARY:Cheeseburgers
DESCRIPTION:Cheeseburgers
URL:https://stfrancisdesales.net/event/cheeseburgers/
CATEGORIES:Cafeteria Calendar
END:VEVENT
END:VCALENDAR