BEGIN:VCALENDAR
VERSION:2.0
PRODID:-//St. Francis de Sales Catholic School - ECPv6.13.2.1//NONSGML v1.0//EN
CALSCALE:GREGORIAN
METHOD:PUBLISH
X-ORIGINAL-URL:https://stfrancisdesales.net
X-WR-CALDESC:Events for St. Francis de Sales Catholic School
REFRESH-INTERVAL;VALUE=DURATION:PT1H
X-Robots-Tag:noindex
X-PUBLISHED-TTL:PT1H
BEGIN:VTIMEZONE
TZID:America/New_York
BEGIN:DAYLIGHT
TZOFFSETFROM:-0500
TZOFFSETTO:-0400
TZNAME:EDT
DTSTART:20200308T070000
END:DAYLIGHT
BEGIN:STANDARD
TZOFFSETFROM:-0400
TZOFFSETTO:-0500
TZNAME:EST
DTSTART:20201101T060000
END:STANDARD
END:VTIMEZONE
BEGIN:VEVENT
DTSTART;VALUE=DATE:20200305
DTEND;VALUE=DATE:20200306
DTSTAMP:20260424T075223
CREATED:20200227T132041Z
LAST-MODIFIED:20200227T132041Z
UID:5442-1583366400-1583452799@stfrancisdesales.net
SUMMARY:Chicken Sandwich
DESCRIPTION:Chicken Sandwich
URL:https://stfrancisdesales.net/event/chicken-sandwich-8/
CATEGORIES:Cafeteria Calendar
END:VEVENT
BEGIN:VEVENT
DTSTART;VALUE=DATE:20200304
DTEND;VALUE=DATE:20200305
DTSTAMP:20260424T075223
CREATED:20200227T132012Z
LAST-MODIFIED:20200227T132012Z
UID:5440-1583280000-1583366399@stfrancisdesales.net
SUMMARY:French Toast Sticks
DESCRIPTION:French Toast Sticks
URL:https://stfrancisdesales.net/event/french-toast-sticks-18/
CATEGORIES:Cafeteria Calendar
END:VEVENT
BEGIN:VEVENT
DTSTART;VALUE=DATE:20200303
DTEND;VALUE=DATE:20200304
DTSTAMP:20260424T075223
CREATED:20200227T131723Z
LAST-MODIFIED:20200227T131820Z
UID:5436-1583193600-1583279999@stfrancisdesales.net
SUMMARY:Souper Tuesday ~Loaded Potato~
DESCRIPTION:Souper Tuesday ~Loaded Potato~
URL:https://stfrancisdesales.net/event/souper-tuesday-loaded-potato-2/
CATEGORIES:Cafeteria Calendar
END:VEVENT
BEGIN:VEVENT
DTSTART;VALUE=DATE:20200302
DTEND;VALUE=DATE:20200303
DTSTAMP:20260424T075223
CREATED:20200227T131628Z
LAST-MODIFIED:20200227T131633Z
UID:5434-1583107200-1583193599@stfrancisdesales.net
SUMMARY:Ham & Cheese Sandwich
DESCRIPTION:Ham & Cheese Sandwich
URL:https://stfrancisdesales.net/event/ham-cheese-sandwich/
CATEGORIES:Cafeteria Calendar
END:VEVENT
BEGIN:VEVENT
DTSTART;VALUE=DATE:20200228
DTEND;VALUE=DATE:20200229
DTSTAMP:20260424T075223
CREATED:20200203T153320Z
LAST-MODIFIED:20200203T153320Z
UID:5350-1582848000-1582934399@stfrancisdesales.net
SUMMARY:IT'S PIZZA DAY!!!
DESCRIPTION:IT’S PIZZA DAY!!!
URL:https://stfrancisdesales.net/event/its-pizza-day-36/
CATEGORIES:Cafeteria Calendar
END:VEVENT
BEGIN:VEVENT
DTSTART;VALUE=DATE:20200227
DTEND;VALUE=DATE:20200228
DTSTAMP:20260424T075223
CREATED:20200203T153501Z
LAST-MODIFIED:20200203T153501Z
UID:5358-1582761600-1582847999@stfrancisdesales.net
SUMMARY:Chicken Nuggets
DESCRIPTION:Chicken Nuggets
URL:https://stfrancisdesales.net/event/chicken-nuggets-19/
CATEGORIES:Cafeteria Calendar
END:VEVENT
BEGIN:VEVENT
DTSTART;VALUE=DATE:20200226
DTEND;VALUE=DATE:20200227
DTSTAMP:20260424T075223
CREATED:20200203T165822Z
LAST-MODIFIED:20200203T165822Z
UID:5368-1582675200-1582761599@stfrancisdesales.net
SUMMARY:Mac & Cheese
DESCRIPTION:Mac & Cheese
URL:https://stfrancisdesales.net/event/mac-cheese-10/
CATEGORIES:Cafeteria Calendar
END:VEVENT
BEGIN:VEVENT
DTSTART;VALUE=DATE:20200225
DTEND;VALUE=DATE:20200226
DTSTAMP:20260424T075223
CREATED:20200203T153211Z
LAST-MODIFIED:20200203T153211Z
UID:5344-1582588800-1582675199@stfrancisdesales.net
SUMMARY:Souper Tuesday ~ Vegetable Beef~
DESCRIPTION:Souper Tuesday ~ Vegetable~
URL:https://stfrancisdesales.net/event/souper-tuesday-vegetable-beef-4/
CATEGORIES:Cafeteria Calendar
END:VEVENT
BEGIN:VEVENT
DTSTART;VALUE=DATE:20200224
DTEND;VALUE=DATE:20200225
DTSTAMP:20260424T075223
CREATED:20200203T153409Z
LAST-MODIFIED:20200203T153409Z
UID:5354-1582502400-1582588799@stfrancisdesales.net
SUMMARY:Hot Dogs
DESCRIPTION:Hot Dogs
URL:https://stfrancisdesales.net/event/hot-dogs-17/
CATEGORIES:Cafeteria Calendar
END:VEVENT
BEGIN:VEVENT
DTSTART;VALUE=DATE:20200221
DTEND;VALUE=DATE:20200222
DTSTAMP:20260424T075223
CREATED:20200203T153303Z
LAST-MODIFIED:20200203T153303Z
UID:5348-1582243200-1582329599@stfrancisdesales.net
SUMMARY:IT'S PIZZA DAY!!!
DESCRIPTION:IT’S PIZZA DAY!!!
URL:https://stfrancisdesales.net/event/its-pizza-day-35/
CATEGORIES:Cafeteria Calendar
END:VEVENT
BEGIN:VEVENT
DTSTART;VALUE=DATE:20200220
DTEND;VALUE=DATE:20200221
DTSTAMP:20260424T075223
CREATED:20200203T165855Z
LAST-MODIFIED:20200203T165855Z
UID:5370-1582156800-1582243199@stfrancisdesales.net
SUMMARY:Cheese Burgers
DESCRIPTION:Cheese Burgers
URL:https://stfrancisdesales.net/event/cheese-burgers-8/
CATEGORIES:Cafeteria Calendar
END:VEVENT
BEGIN:VEVENT
DTSTART;VALUE=DATE:20200219
DTEND;VALUE=DATE:20200220
DTSTAMP:20260424T075223
CREATED:20200203T165920Z
LAST-MODIFIED:20200203T165920Z
UID:5372-1582070400-1582156799@stfrancisdesales.net
SUMMARY:Ravioli
DESCRIPTION:Ravioli
URL:https://stfrancisdesales.net/event/ravioli-5/
CATEGORIES:Cafeteria Calendar
END:VEVENT
BEGIN:VEVENT
DTSTART;VALUE=DATE:20200218
DTEND;VALUE=DATE:20200219
DTSTAMP:20260424T075223
CREATED:20200203T153909Z
LAST-MODIFIED:20200203T153909Z
UID:5366-1581984000-1582070399@stfrancisdesales.net
SUMMARY:Super Tuesday ~ Broccoli & Cheddar ~
DESCRIPTION:Super Tuesday ~ Broccoli & Cheddar ~
URL:https://stfrancisdesales.net/event/super-tuesday-broccoli-cheddar/
CATEGORIES:Cafeteria Calendar
END:VEVENT
BEGIN:VEVENT
DTSTART;VALUE=DATE:20200217
DTEND;VALUE=DATE:20200218
DTSTAMP:20260424T075223
CREATED:20200203T170102Z
LAST-MODIFIED:20200203T170102Z
UID:5376-1581897600-1581983999@stfrancisdesales.net
SUMMARY:No School
DESCRIPTION:No School
URL:https://stfrancisdesales.net/event/no-school-4/
CATEGORIES:Cafeteria Calendar
END:VEVENT
BEGIN:VEVENT
DTSTART;VALUE=DATE:20200214
DTEND;VALUE=DATE:20200215
DTSTAMP:20260424T075223
CREATED:20200203T153245Z
LAST-MODIFIED:20200203T153245Z
UID:5346-1581638400-1581724799@stfrancisdesales.net
SUMMARY:IT'S PIZZA DAY!!!
DESCRIPTION:IT’S PIZZA DAY!!!
URL:https://stfrancisdesales.net/event/its-pizza-day-34/
CATEGORIES:Cafeteria Calendar
END:VEVENT
BEGIN:VEVENT
DTSTART;VALUE=DATE:20200213
DTEND;VALUE=DATE:20200214
DTSTAMP:20260424T075223
CREATED:20200203T153654Z
LAST-MODIFIED:20200203T153820Z
UID:5364-1581552000-1581638399@stfrancisdesales.net
SUMMARY:Chicken Sandwich
DESCRIPTION:Chicken Sandwich
URL:https://stfrancisdesales.net/event/chicken-sandwich-7/
CATEGORIES:Cafeteria Calendar
END:VEVENT
BEGIN:VEVENT
DTSTART;VALUE=DATE:20200212
DTEND;VALUE=DATE:20200213
DTSTAMP:20260424T075223
CREATED:20200203T153617Z
LAST-MODIFIED:20200203T153617Z
UID:5362-1581465600-1581551999@stfrancisdesales.net
SUMMARY:Corn Dog Nuggets
DESCRIPTION:Corn Dog Nuggets
URL:https://stfrancisdesales.net/event/corn-dog-nuggets-7/
CATEGORIES:Cafeteria Calendar
END:VEVENT
BEGIN:VEVENT
DTSTART;VALUE=DATE:20200211
DTEND;VALUE=DATE:20200212
DTSTAMP:20260424T075223
CREATED:20200203T153054Z
LAST-MODIFIED:20200203T153054Z
UID:5342-1581379200-1581465599@stfrancisdesales.net
SUMMARY:Souper Tuesday ~ Beef Chili~
DESCRIPTION:Souper Tuesday ~ Beef Chili~
URL:https://stfrancisdesales.net/event/souper-tuesday-beef-chili/
CATEGORIES:Cafeteria Calendar
END:VEVENT
BEGIN:VEVENT
DTSTART;VALUE=DATE:20200210
DTEND;VALUE=DATE:20200211
DTSTAMP:20260424T075223
CREATED:20200203T153529Z
LAST-MODIFIED:20200203T153529Z
UID:5360-1581292800-1581379199@stfrancisdesales.net
SUMMARY:Mozzarella Sticks
DESCRIPTION:Mozzarella Sticks
URL:https://stfrancisdesales.net/event/mozzarella-sticks-10/
CATEGORIES:Cafeteria Calendar
END:VEVENT
BEGIN:VEVENT
DTSTART;VALUE=DATE:20200207
DTEND;VALUE=DATE:20200208
DTSTAMP:20260424T075223
CREATED:20200203T170041Z
LAST-MODIFIED:20200203T170041Z
UID:5374-1581033600-1581119999@stfrancisdesales.net
SUMMARY:No School
DESCRIPTION:No School
URL:https://stfrancisdesales.net/event/no-school-3/
CATEGORIES:Cafeteria Calendar
END:VEVENT
BEGIN:VEVENT
DTSTART;VALUE=DATE:20200206
DTEND;VALUE=DATE:20200207
DTSTAMP:20260424T075223
CREATED:20200203T153434Z
LAST-MODIFIED:20200203T153434Z
UID:5356-1580947200-1581033599@stfrancisdesales.net
SUMMARY:Chicken Nuggets
DESCRIPTION:Chicken Nuggets
URL:https://stfrancisdesales.net/event/chicken-nuggets-18/
CATEGORIES:Cafeteria Calendar
END:VEVENT
BEGIN:VEVENT
DTSTART;VALUE=DATE:20200205
DTEND;VALUE=DATE:20200206
DTSTAMP:20260424T075223
CREATED:20200203T153348Z
LAST-MODIFIED:20200203T153348Z
UID:5352-1580860800-1580947199@stfrancisdesales.net
SUMMARY:Hot Dogs
DESCRIPTION:Hot Dogs
URL:https://stfrancisdesales.net/event/hot-dogs-16/
CATEGORIES:Cafeteria Calendar
END:VEVENT
BEGIN:VEVENT
DTSTART;VALUE=DATE:20200204
DTEND;VALUE=DATE:20200205
DTSTAMP:20260424T075223
CREATED:20200203T153016Z
LAST-MODIFIED:20200203T153016Z
UID:5340-1580774400-1580860799@stfrancisdesales.net
SUMMARY:Souper Tuesday ~ Loaded Potato ~
DESCRIPTION:Souper Tuesday ~ Loaded Potato ~
URL:https://stfrancisdesales.net/event/souper-tuesday-loaded-potato/
CATEGORIES:Cafeteria Calendar
END:VEVENT
BEGIN:VEVENT
DTSTART;VALUE=DATE:20200203
DTEND;VALUE=DATE:20200204
DTSTAMP:20260424T075223
CREATED:20200203T152940Z
LAST-MODIFIED:20200203T152940Z
UID:5338-1580688000-1580774399@stfrancisdesales.net
SUMMARY:French Toast Sticks
DESCRIPTION:French Toast Sticks
URL:https://stfrancisdesales.net/event/french-toast-sticks-17/
CATEGORIES:Cafeteria Calendar
END:VEVENT
BEGIN:VEVENT
DTSTART;VALUE=DATE:20200131
DTEND;VALUE=DATE:20200201
DTSTAMP:20260424T075223
CREATED:20191216T213354Z
LAST-MODIFIED:20200110T152920Z
UID:5249-1580428800-1580515199@stfrancisdesales.net
SUMMARY:Grandparents Day Luncheon
DESCRIPTION:Pulled Pork Sandwich\nCole Slaw\nMacaroni & Cheese\nDessert\nLemonade\, Water\, Coffee \n  \nGrandparents’ & Grandfriends’ Lunch Order Form
URL:https://stfrancisdesales.net/event/ziti-salad/
CATEGORIES:Cafeteria Calendar
END:VEVENT
BEGIN:VEVENT
DTSTART;VALUE=DATE:20200130
DTEND;VALUE=DATE:20200131
DTSTAMP:20260424T075223
CREATED:20191216T213320Z
LAST-MODIFIED:20191216T213320Z
UID:5247-1580342400-1580428799@stfrancisdesales.net
SUMMARY:Baked Ziti
DESCRIPTION:
URL:https://stfrancisdesales.net/event/baked-ziti-2/
CATEGORIES:Cafeteria Calendar
END:VEVENT
BEGIN:VEVENT
DTSTART;VALUE=DATE:20200129
DTEND;VALUE=DATE:20200130
DTSTAMP:20260424T075223
CREATED:20191216T213254Z
LAST-MODIFIED:20191216T213254Z
UID:5245-1580256000-1580342399@stfrancisdesales.net
SUMMARY:Meat Ball Sub
DESCRIPTION:
URL:https://stfrancisdesales.net/event/meat-ball-sub/
CATEGORIES:Cafeteria Calendar
END:VEVENT
BEGIN:VEVENT
DTSTART;VALUE=DATE:20200128
DTEND;VALUE=DATE:20200129
DTSTAMP:20260424T075223
CREATED:20191216T213207Z
LAST-MODIFIED:20191216T213207Z
UID:5243-1580169600-1580255999@stfrancisdesales.net
SUMMARY:Chicken And Dumpling Soup
DESCRIPTION:
URL:https://stfrancisdesales.net/event/chicken-and-dumpling-soup/
CATEGORIES:Cafeteria Calendar
END:VEVENT
BEGIN:VEVENT
DTSTART;VALUE=DATE:20200127
DTEND;VALUE=DATE:20200128
DTSTAMP:20260424T075223
CREATED:20191216T213054Z
LAST-MODIFIED:20191216T213054Z
UID:5241-1580083200-1580169599@stfrancisdesales.net
SUMMARY:Corn Dog Nuggets
DESCRIPTION:
URL:https://stfrancisdesales.net/event/corn-dog-nuggets-6/
CATEGORIES:Cafeteria Calendar
END:VEVENT
BEGIN:VEVENT
DTSTART;VALUE=DATE:20200124
DTEND;VALUE=DATE:20200125
DTSTAMP:20260424T075223
CREATED:20191216T213023Z
LAST-MODIFIED:20191216T213023Z
UID:5239-1579824000-1579910399@stfrancisdesales.net
SUMMARY:PIZZA!!!
DESCRIPTION:
URL:https://stfrancisdesales.net/event/pizza-7/
CATEGORIES:Cafeteria Calendar
END:VEVENT
END:VCALENDAR