BEGIN:VCALENDAR
VERSION:2.0
PRODID:-//St. Francis de Sales Catholic School - ECPv6.13.2.1//NONSGML v1.0//EN
CALSCALE:GREGORIAN
METHOD:PUBLISH
X-ORIGINAL-URL:https://stfrancisdesales.net
X-WR-CALDESC:Events for St. Francis de Sales Catholic School
REFRESH-INTERVAL;VALUE=DURATION:PT1H
X-Robots-Tag:noindex
X-PUBLISHED-TTL:PT1H
BEGIN:VTIMEZONE
TZID:America/New_York
BEGIN:DAYLIGHT
TZOFFSETFROM:-0500
TZOFFSETTO:-0400
TZNAME:EDT
DTSTART:20200308T070000
END:DAYLIGHT
BEGIN:STANDARD
TZOFFSETFROM:-0400
TZOFFSETTO:-0500
TZNAME:EST
DTSTART:20201101T060000
END:STANDARD
BEGIN:DAYLIGHT
TZOFFSETFROM:-0500
TZOFFSETTO:-0400
TZNAME:EDT
DTSTART:20210314T070000
END:DAYLIGHT
BEGIN:STANDARD
TZOFFSETFROM:-0400
TZOFFSETTO:-0500
TZNAME:EST
DTSTART:20211107T060000
END:STANDARD
END:VTIMEZONE
BEGIN:VEVENT
DTSTART;VALUE=DATE:20211110
DTEND;VALUE=DATE:20211111
DTSTAMP:20260422T031847
CREATED:20211004T154734Z
LAST-MODIFIED:20211004T154734Z
UID:6780-1636502400-1636588799@stfrancisdesales.net
SUMMARY:Chick-Fil-A
DESCRIPTION:12 Count Chick-Fil-A Nuggets w/Chips & Cookies  ~ $7.50 \nCFA Regular Chicken Sandwich w/Chips & Cookies ~ $6.50
URL:https://stfrancisdesales.net/event/chick-fil-a-7/
CATEGORIES:Cafeteria Calendar
END:VEVENT
BEGIN:VEVENT
DTSTART;VALUE=DATE:20211108
DTEND;VALUE=DATE:20211109
DTSTAMP:20260422T031847
CREATED:20211004T153545Z
LAST-MODIFIED:20211004T153545Z
UID:6754-1636329600-1636415999@stfrancisdesales.net
SUMMARY:Pecan Deli Square
DESCRIPTION:Cheeseburger w/ Chips $7.00 \nHotDog w/ Chips $ 5.00
URL:https://stfrancisdesales.net/event/pecan-deli-square-6/
CATEGORIES:Cafeteria Calendar
END:VEVENT
BEGIN:VEVENT
DTSTART;VALUE=DATE:20211108
DTEND;VALUE=DATE:20211109
DTSTAMP:20260422T031847
CREATED:20211004T153034Z
LAST-MODIFIED:20211004T153034Z
UID:6751-1636329600-1636415999@stfrancisdesales.net
SUMMARY:Pecan Deli Square
DESCRIPTION:Cheeseburger w/ Chips $7.00 \nHotDog w/ Chips $ 5.00
URL:https://stfrancisdesales.net/event/pecan-deli-square-5/
CATEGORIES:Cafeteria Calendar
END:VEVENT
BEGIN:VEVENT
DTSTART;VALUE=DATE:20211103
DTEND;VALUE=DATE:20211104
DTSTAMP:20260422T031847
CREATED:20211004T154710Z
LAST-MODIFIED:20211004T154710Z
UID:6778-1635897600-1635983999@stfrancisdesales.net
SUMMARY:Chick-Fil-A
DESCRIPTION:12 Count Chick-Fil-A Nuggets w/Chips & Cookies  ~ $7.50 \nCFA Regular Chicken Sandwich w/Chips & Cookies ~ $6.50
URL:https://stfrancisdesales.net/event/chick-fil-a-6/
CATEGORIES:Cafeteria Calendar
END:VEVENT
BEGIN:VEVENT
DTSTART;VALUE=DATE:20211101
DTEND;VALUE=DATE:20211102
DTSTAMP:20260422T031847
CREATED:20211004T153007Z
LAST-MODIFIED:20211004T153007Z
UID:6749-1635724800-1635811199@stfrancisdesales.net
SUMMARY:Pecan Deli Square
DESCRIPTION:Cheeseburger w/ Chips $7.00 \nHotDog w/ Chips $ 5.00
URL:https://stfrancisdesales.net/event/pecan-deli-square-4/
CATEGORIES:Cafeteria Calendar
END:VEVENT
BEGIN:VEVENT
DTSTART;VALUE=DATE:20211027
DTEND;VALUE=DATE:20211028
DTSTAMP:20260422T031847
CREATED:20211004T154648Z
LAST-MODIFIED:20211004T154648Z
UID:6776-1635292800-1635379199@stfrancisdesales.net
SUMMARY:Chick-Fil-A
DESCRIPTION:12 Count Chick-Fil-A Nuggets w/Chips & Cookies  ~ $7.50 \nCFA Regular Chicken Sandwich w/Chips & Cookies ~ $6.50
URL:https://stfrancisdesales.net/event/chick-fil-a-5/
CATEGORIES:Cafeteria Calendar
END:VEVENT
BEGIN:VEVENT
DTSTART;VALUE=DATE:20211025
DTEND;VALUE=DATE:20211026
DTSTAMP:20260422T031847
CREATED:20211004T152437Z
LAST-MODIFIED:20211004T152437Z
UID:6747-1635120000-1635206399@stfrancisdesales.net
SUMMARY:Pecan Deli Square
DESCRIPTION:Cheeseburger w/ Chips $7.00 \nHotDog w/ Chips $ 5.00
URL:https://stfrancisdesales.net/event/pecan-deli-square-3/
CATEGORIES:Cafeteria Calendar
END:VEVENT
BEGIN:VEVENT
DTSTART;VALUE=DATE:20211020
DTEND;VALUE=DATE:20211021
DTSTAMP:20260422T031847
CREATED:20211004T154603Z
LAST-MODIFIED:20211004T154603Z
UID:6772-1634688000-1634774399@stfrancisdesales.net
SUMMARY:Chick-Fil-A
DESCRIPTION:12 Count Chick-Fil-A Nuggets w/Chips & Cookies  ~ $7.50 \nCFA Regular Chicken Sandwich w/Chips & Cookies ~ $6.50
URL:https://stfrancisdesales.net/event/chick-fil-a-3/
CATEGORIES:Cafeteria Calendar
END:VEVENT
BEGIN:VEVENT
DTSTART;VALUE=DATE:20211018
DTEND;VALUE=DATE:20211019
DTSTAMP:20260422T031847
CREATED:20211004T152411Z
LAST-MODIFIED:20211004T152411Z
UID:6745-1634515200-1634601599@stfrancisdesales.net
SUMMARY:Pecan Deli Square
DESCRIPTION:Cheeseburger w/ Chips $7.00 \nHotDog w/ Chips $ 5.00
URL:https://stfrancisdesales.net/event/pecan-deli-square-2/
CATEGORIES:Cafeteria Calendar
END:VEVENT
BEGIN:VEVENT
DTSTART;VALUE=DATE:20211013
DTEND;VALUE=DATE:20211014
DTSTAMP:20260422T031847
CREATED:20211004T154541Z
LAST-MODIFIED:20211004T154541Z
UID:6770-1634083200-1634169599@stfrancisdesales.net
SUMMARY:Chick-Fil-A
DESCRIPTION:12 Count Chick-Fil-A Nuggets w/Chips & Cookies  ~ $7.50 \nCFA Regular Chicken Sandwich w/Chips & Cookies ~ $6.50
URL:https://stfrancisdesales.net/event/chick-fil-a-2/
CATEGORIES:Cafeteria Calendar
END:VEVENT
BEGIN:VEVENT
DTSTART;VALUE=DATE:20211011
DTEND;VALUE=DATE:20211012
DTSTAMP:20260422T031847
CREATED:20211004T152339Z
LAST-MODIFIED:20211004T152339Z
UID:6743-1633910400-1633996799@stfrancisdesales.net
SUMMARY:Pecan Deli Square
DESCRIPTION:Cheeseburger w/ Chips $7.00 \nHotDog w/ Chips $ 5.00
URL:https://stfrancisdesales.net/event/pecan-deli-square/
CATEGORIES:Cafeteria Calendar
END:VEVENT
BEGIN:VEVENT
DTSTART;VALUE=DATE:20211006
DTEND;VALUE=DATE:20211007
DTSTAMP:20260422T031847
CREATED:20211004T154518Z
LAST-MODIFIED:20211004T154518Z
UID:6768-1633478400-1633564799@stfrancisdesales.net
SUMMARY:Chick-Fil-A
DESCRIPTION:12 Count Chick-Fil-A Nuggets w/Chips & Cookies  ~ $7.50 \nCFA Regular Chicken Sandwich w/Chips & Cookies ~ $6.50
URL:https://stfrancisdesales.net/event/chick-fil-a/
CATEGORIES:Cafeteria Calendar
END:VEVENT
BEGIN:VEVENT
DTSTART;VALUE=DATE:20200331
DTEND;VALUE=DATE:20200401
DTSTAMP:20260422T031847
CREATED:20200227T132938Z
LAST-MODIFIED:20200227T132938Z
UID:5476-1585612800-1585699199@stfrancisdesales.net
SUMMARY:Souper Tuesday~Chicken and Dumpling Soup~
DESCRIPTION:Souper Tuesday~Chicken and Dumpling Soup~
URL:https://stfrancisdesales.net/event/souper-tuesdaychicken-and-dumpling-soup/
CATEGORIES:Cafeteria Calendar
END:VEVENT
BEGIN:VEVENT
DTSTART;VALUE=DATE:20200330
DTEND;VALUE=DATE:20200331
DTSTAMP:20260422T031847
CREATED:20200227T132851Z
LAST-MODIFIED:20200227T132851Z
UID:5474-1585526400-1585612799@stfrancisdesales.net
SUMMARY:Mozzarella Sticks
DESCRIPTION:Mozzarella Sticks
URL:https://stfrancisdesales.net/event/mozzarella-sticks-12/
CATEGORIES:Cafeteria Calendar
END:VEVENT
BEGIN:VEVENT
DTSTART;VALUE=DATE:20200327
DTEND;VALUE=DATE:20200328
DTSTAMP:20260422T031847
CREATED:20200227T132827Z
LAST-MODIFIED:20200227T132827Z
UID:5472-1585267200-1585353599@stfrancisdesales.net
SUMMARY:IT'S PIZZA DAY!!!
DESCRIPTION:IT’S PIZZA DAY!!!
URL:https://stfrancisdesales.net/event/its-pizza-day-40/
CATEGORIES:Cafeteria Calendar
END:VEVENT
BEGIN:VEVENT
DTSTART;VALUE=DATE:20200326
DTEND;VALUE=DATE:20200327
DTSTAMP:20260422T031847
CREATED:20200227T132750Z
LAST-MODIFIED:20200227T132750Z
UID:5470-1585180800-1585267199@stfrancisdesales.net
SUMMARY:Corn Dogs
DESCRIPTION:Corn Dogs
URL:https://stfrancisdesales.net/event/corn-dogs-6/
CATEGORIES:Cafeteria Calendar
END:VEVENT
BEGIN:VEVENT
DTSTART;VALUE=DATE:20200325
DTEND;VALUE=DATE:20200326
DTSTAMP:20260422T031847
CREATED:20200227T132726Z
LAST-MODIFIED:20200227T132726Z
UID:5468-1585094400-1585180799@stfrancisdesales.net
SUMMARY:Chicken Sandwich
DESCRIPTION:Chicken Sandwich
URL:https://stfrancisdesales.net/event/chicken-sandwich-9/
CATEGORIES:Cafeteria Calendar
END:VEVENT
BEGIN:VEVENT
DTSTART;VALUE=DATE:20200324
DTEND;VALUE=DATE:20200325
DTSTAMP:20260422T031847
CREATED:20200227T132653Z
LAST-MODIFIED:20200227T132653Z
UID:5466-1585008000-1585094399@stfrancisdesales.net
SUMMARY:Souper Tuesday~Tomato Soup~
DESCRIPTION:Souper Tuesday~Tomato Soup~
URL:https://stfrancisdesales.net/event/souper-tuesdaytomato-soup/
CATEGORIES:Cafeteria Calendar
END:VEVENT
BEGIN:VEVENT
DTSTART;VALUE=DATE:20200323
DTEND;VALUE=DATE:20200324
DTSTAMP:20260422T031847
CREATED:20200227T132615Z
LAST-MODIFIED:20200227T132615Z
UID:5464-1584921600-1585007999@stfrancisdesales.net
SUMMARY:Beefaroni
DESCRIPTION:Beefaroni
URL:https://stfrancisdesales.net/event/beefaroni-7/
CATEGORIES:Cafeteria Calendar
END:VEVENT
BEGIN:VEVENT
DTSTART;VALUE=DATE:20200320
DTEND;VALUE=DATE:20200321
DTSTAMP:20260422T031847
CREATED:20200227T132553Z
LAST-MODIFIED:20200227T132553Z
UID:5462-1584662400-1584748799@stfrancisdesales.net
SUMMARY:IT'S PIZZA DAY!!!
DESCRIPTION:IT’S PIZZA DAY!!!
URL:https://stfrancisdesales.net/event/its-pizza-day-39/
CATEGORIES:Cafeteria Calendar
END:VEVENT
BEGIN:VEVENT
DTSTART;VALUE=DATE:20200319
DTEND;VALUE=DATE:20200320
DTSTAMP:20260422T031847
CREATED:20200227T132509Z
LAST-MODIFIED:20200227T132509Z
UID:5460-1584576000-1584662399@stfrancisdesales.net
SUMMARY:Meatball Sub
DESCRIPTION:Meatball Sub
URL:https://stfrancisdesales.net/event/meatball-sub-6/
CATEGORIES:Cafeteria Calendar
END:VEVENT
BEGIN:VEVENT
DTSTART;VALUE=DATE:20200318
DTEND;VALUE=DATE:20200319
DTSTAMP:20260422T031847
CREATED:20200227T132442Z
LAST-MODIFIED:20200227T132442Z
UID:5458-1584489600-1584575999@stfrancisdesales.net
SUMMARY:Macaroni and Cheese
DESCRIPTION:Macaroni and Cheese
URL:https://stfrancisdesales.net/event/macaroni-and-cheese-3/
CATEGORIES:Cafeteria Calendar
END:VEVENT
BEGIN:VEVENT
DTSTART;VALUE=DATE:20200317
DTEND;VALUE=DATE:20200318
DTSTAMP:20260422T031847
CREATED:20200227T132416Z
LAST-MODIFIED:20200227T132416Z
UID:5456-1584403200-1584489599@stfrancisdesales.net
SUMMARY:Souper Tuesday~ Chicken Noodle~
DESCRIPTION:Souper Tuesday~ Chicken Noodle~
URL:https://stfrancisdesales.net/event/souper-tuesday-chicken-noodle/
CATEGORIES:Cafeteria Calendar
END:VEVENT
BEGIN:VEVENT
DTSTART;VALUE=DATE:20200316
DTEND;VALUE=DATE:20200317
DTSTAMP:20260422T031847
CREATED:20200227T132332Z
LAST-MODIFIED:20200227T132332Z
UID:5454-1584316800-1584403199@stfrancisdesales.net
SUMMARY:Corn Dogs
DESCRIPTION:Corn Dogs
URL:https://stfrancisdesales.net/event/corn-dogs-5/
CATEGORIES:Cafeteria Calendar
END:VEVENT
BEGIN:VEVENT
DTSTART;VALUE=DATE:20200313
DTEND;VALUE=DATE:20200314
DTSTAMP:20260422T031847
CREATED:20200227T132304Z
LAST-MODIFIED:20200227T132304Z
UID:5452-1584057600-1584143999@stfrancisdesales.net
SUMMARY:ITS PIZZA DAY!!!
DESCRIPTION:ITS PIZZA DAY!!!
URL:https://stfrancisdesales.net/event/its-pizza-day-38/
CATEGORIES:Cafeteria Calendar
END:VEVENT
BEGIN:VEVENT
DTSTART;VALUE=DATE:20200312
DTEND;VALUE=DATE:20200313
DTSTAMP:20260422T031847
CREATED:20200227T132230Z
LAST-MODIFIED:20200227T132230Z
UID:5450-1583971200-1584057599@stfrancisdesales.net
SUMMARY:Chicken Nuggets
DESCRIPTION:Chicken Nuggets
URL:https://stfrancisdesales.net/event/chicken-nuggets-20/
CATEGORIES:Cafeteria Calendar
END:VEVENT
BEGIN:VEVENT
DTSTART;VALUE=DATE:20200311
DTEND;VALUE=DATE:20200312
DTSTAMP:20260422T031847
CREATED:20200227T132205Z
LAST-MODIFIED:20200227T132205Z
UID:5448-1583884800-1583971199@stfrancisdesales.net
SUMMARY:Mozzarella Sticks
DESCRIPTION:Mozzarella Sticks
URL:https://stfrancisdesales.net/event/mozzarella-sticks-11/
CATEGORIES:Cafeteria Calendar
END:VEVENT
BEGIN:VEVENT
DTSTART;VALUE=DATE:20200310
DTEND;VALUE=DATE:20200311
DTSTAMP:20260422T031847
CREATED:20200227T131936Z
LAST-MODIFIED:20200227T131936Z
UID:5438-1583798400-1583884799@stfrancisdesales.net
SUMMARY:Souper Tuesday ~Beef Chili~
DESCRIPTION:Souper Tuesday ~Beef Chili~
URL:https://stfrancisdesales.net/event/souper-tuesday-beef-chili-2/
CATEGORIES:Cafeteria Calendar
END:VEVENT
BEGIN:VEVENT
DTSTART;VALUE=DATE:20200309
DTEND;VALUE=DATE:20200310
DTSTAMP:20260422T031847
CREATED:20200227T132137Z
LAST-MODIFIED:20200227T132137Z
UID:5446-1583712000-1583798399@stfrancisdesales.net
SUMMARY:Spaghetti
DESCRIPTION:Spaghetti
URL:https://stfrancisdesales.net/event/spaghetti-5/
CATEGORIES:Cafeteria Calendar
END:VEVENT
BEGIN:VEVENT
DTSTART;VALUE=DATE:20200306
DTEND;VALUE=DATE:20200307
DTSTAMP:20260422T031847
CREATED:20200227T132111Z
LAST-MODIFIED:20200227T132111Z
UID:5444-1583452800-1583539199@stfrancisdesales.net
SUMMARY:ITS PIZZA DAY!!!
DESCRIPTION:ITS PIZZA DAY!!!
URL:https://stfrancisdesales.net/event/its-pizza-day-37/
CATEGORIES:Cafeteria Calendar
END:VEVENT
END:VCALENDAR