BEGIN:VCALENDAR
VERSION:2.0
PRODID:-//St. Francis de Sales Catholic School - ECPv6.13.2.1//NONSGML v1.0//EN
CALSCALE:GREGORIAN
METHOD:PUBLISH
X-WR-CALNAME:St. Francis de Sales Catholic School
X-ORIGINAL-URL:https://stfrancisdesales.net
X-WR-CALDESC:Events for St. Francis de Sales Catholic School
REFRESH-INTERVAL;VALUE=DURATION:PT1H
X-Robots-Tag:noindex
X-PUBLISHED-TTL:PT1H
BEGIN:VTIMEZONE
TZID:America/New_York
BEGIN:DAYLIGHT
TZOFFSETFROM:-0500
TZOFFSETTO:-0400
TZNAME:EDT
DTSTART:20210314T070000
END:DAYLIGHT
BEGIN:STANDARD
TZOFFSETFROM:-0400
TZOFFSETTO:-0500
TZNAME:EST
DTSTART:20211107T060000
END:STANDARD
BEGIN:DAYLIGHT
TZOFFSETFROM:-0500
TZOFFSETTO:-0400
TZNAME:EDT
DTSTART:20220313T070000
END:DAYLIGHT
BEGIN:STANDARD
TZOFFSETFROM:-0400
TZOFFSETTO:-0500
TZNAME:EST
DTSTART:20221106T060000
END:STANDARD
BEGIN:DAYLIGHT
TZOFFSETFROM:-0500
TZOFFSETTO:-0400
TZNAME:EDT
DTSTART:20230312T070000
END:DAYLIGHT
BEGIN:STANDARD
TZOFFSETFROM:-0400
TZOFFSETTO:-0500
TZNAME:EST
DTSTART:20231105T060000
END:STANDARD
BEGIN:DAYLIGHT
TZOFFSETFROM:-0500
TZOFFSETTO:-0400
TZNAME:EDT
DTSTART:20240310T070000
END:DAYLIGHT
BEGIN:STANDARD
TZOFFSETFROM:-0400
TZOFFSETTO:-0500
TZNAME:EST
DTSTART:20241103T060000
END:STANDARD
END:VTIMEZONE
BEGIN:VEVENT
DTSTART;VALUE=DATE:20240220
DTEND;VALUE=DATE:20240221
DTSTAMP:20260421T223503
CREATED:20240207T194323Z
LAST-MODIFIED:20240207T194323Z
UID:8554-1708387200-1708473599@stfrancisdesales.net
SUMMARY:Hot Dog w/Tater Tots
DESCRIPTION:Hot Dog w/Tater Tots
URL:https://stfrancisdesales.net/event/hot-dog-w-tater-tots-4/
CATEGORIES:Cafeteria Calendar
END:VEVENT
BEGIN:VEVENT
DTSTART;VALUE=DATE:20240219
DTEND;VALUE=DATE:20240220
DTSTAMP:20260421T223503
CREATED:20240112T184226Z
LAST-MODIFIED:20240112T184226Z
UID:8464-1708300800-1708387199@stfrancisdesales.net
SUMMARY:No School = No Lunch
DESCRIPTION:No School = No Lunch
URL:https://stfrancisdesales.net/event/no-school-no-lunch-2/
CATEGORIES:Cafeteria Calendar
END:VEVENT
BEGIN:VEVENT
DTSTART;VALUE=DATE:20240216
DTEND;VALUE=DATE:20240217
DTSTAMP:20260421T223503
CREATED:20240112T172438Z
LAST-MODIFIED:20240112T172438Z
UID:8433-1708041600-1708127999@stfrancisdesales.net
SUMMARY:Pizza w/ Chips
DESCRIPTION:Pizza w/ Chips
URL:https://stfrancisdesales.net/event/pizza-w-chips-4/
CATEGORIES:Cafeteria Calendar
END:VEVENT
BEGIN:VEVENT
DTSTART;VALUE=DATE:20240215
DTEND;VALUE=DATE:20240216
DTSTAMP:20260421T223503
CREATED:20240207T194232Z
LAST-MODIFIED:20240207T194232Z
UID:8550-1707955200-1708041599@stfrancisdesales.net
SUMMARY:1 or 2 Walking Taco w/ Gogurt or Taco Salad
DESCRIPTION:1 or 2 Walking Taco w/ Gogurt or Taco Salad
URL:https://stfrancisdesales.net/event/1-or-2-walking-taco-w-gogurt-or-taco-salad/
CATEGORIES:Cafeteria Calendar
END:VEVENT
BEGIN:VEVENT
DTSTART;VALUE=DATE:20240214
DTEND;VALUE=DATE:20240215
DTSTAMP:20260421T223503
CREATED:20240207T194112Z
LAST-MODIFIED:20240207T194112Z
UID:8546-1707868800-1707955199@stfrancisdesales.net
SUMMARY:8 oz Mac & Cheese w/Carrots
DESCRIPTION:8 oz Mac & Cheese w/Carrots
URL:https://stfrancisdesales.net/event/8-oz-mac-cheese-w-carrots-3/
CATEGORIES:Cafeteria Calendar
END:VEVENT
BEGIN:VEVENT
DTSTART;VALUE=DATE:20240213
DTEND;VALUE=DATE:20240214
DTSTAMP:20260421T223503
CREATED:20240207T194013Z
LAST-MODIFIED:20240207T194013Z
UID:8542-1707782400-1707868799@stfrancisdesales.net
SUMMARY:Spaghetti w/tossed salad
DESCRIPTION:Spaghetti w/tossed salad
URL:https://stfrancisdesales.net/event/spaghetti-w-tossed-salad-2/
CATEGORIES:Cafeteria Calendar
END:VEVENT
BEGIN:VEVENT
DTSTART;VALUE=DATE:20240212
DTEND;VALUE=DATE:20240213
DTSTAMP:20260421T223503
CREATED:20240112T170849Z
LAST-MODIFIED:20240112T170938Z
UID:8397-1707696000-1707782399@stfrancisdesales.net
SUMMARY:Chicken Nuggets
DESCRIPTION:Chicken Nuggets
URL:https://stfrancisdesales.net/event/chicken-nuggets-23/
CATEGORIES:Cafeteria Calendar
END:VEVENT
BEGIN:VEVENT
DTSTART;VALUE=DATE:20240209
DTEND;VALUE=DATE:20240210
DTSTAMP:20260421T223503
CREATED:20240112T184242Z
LAST-MODIFIED:20240112T184242Z
UID:8466-1707436800-1707523199@stfrancisdesales.net
SUMMARY:No School = No Lunch
DESCRIPTION:No School = No Lunch
URL:https://stfrancisdesales.net/event/no-school-no-lunch-3/
CATEGORIES:Cafeteria Calendar
END:VEVENT
BEGIN:VEVENT
DTSTART;VALUE=DATE:20240205
DTEND;VALUE=DATE:20240206
DTSTAMP:20260421T223503
CREATED:20240112T171621Z
LAST-MODIFIED:20240112T171621Z
UID:8419-1707091200-1707177599@stfrancisdesales.net
SUMMARY:Chicken Nuggets
DESCRIPTION:Chicken Nuggets
URL:https://stfrancisdesales.net/event/chicken-nuggets-34/
CATEGORIES:Cafeteria Calendar
END:VEVENT
BEGIN:VEVENT
DTSTART;VALUE=DATE:20240129
DTEND;VALUE=DATE:20240130
DTSTAMP:20260421T223503
CREATED:20240112T171556Z
LAST-MODIFIED:20240112T171556Z
UID:8417-1706486400-1706572799@stfrancisdesales.net
SUMMARY:Chicken Nuggets
DESCRIPTION:Chicken Nuggets
URL:https://stfrancisdesales.net/event/chicken-nuggets-33/
CATEGORIES:Cafeteria Calendar
END:VEVENT
BEGIN:VEVENT
DTSTART;VALUE=DATE:20240126
DTEND;VALUE=DATE:20240127
DTSTAMP:20260421T223503
CREATED:20240112T160323Z
LAST-MODIFIED:20240112T160323Z
UID:8389-1706227200-1706313599@stfrancisdesales.net
SUMMARY:Pizza w/ Chips
DESCRIPTION:Pizza w/ Chips
URL:https://stfrancisdesales.net/event/pizza-w-chips-2/
CATEGORIES:Cafeteria Calendar
END:VEVENT
BEGIN:VEVENT
DTSTART;VALUE=DATE:20240125
DTEND;VALUE=DATE:20240126
DTSTAMP:20260421T223503
CREATED:20240112T185118Z
LAST-MODIFIED:20240112T185118Z
UID:8486-1706140800-1706227199@stfrancisdesales.net
SUMMARY:Cheeseburger w/ Jello Fruit Cup
DESCRIPTION:Cheeseburger w/ Jello Fruit Cup
URL:https://stfrancisdesales.net/event/cheeseburger-w-jello-fruit-cup/
CATEGORIES:Cafeteria Calendar
END:VEVENT
BEGIN:VEVENT
DTSTART;VALUE=DATE:20240124
DTEND;VALUE=DATE:20240125
DTSTAMP:20260421T223503
CREATED:20240112T185051Z
LAST-MODIFIED:20240112T185051Z
UID:8484-1706054400-1706140799@stfrancisdesales.net
SUMMARY:8 oz Macaroni Cheese w/ Carrots
DESCRIPTION:8 oz Macaroni Cheese w/ Carrots
URL:https://stfrancisdesales.net/event/8-oz-macaroni-cheese-w-carrots/
CATEGORIES:Cafeteria Calendar
END:VEVENT
BEGIN:VEVENT
DTSTART;VALUE=DATE:20240123
DTEND;VALUE=DATE:20240124
DTSTAMP:20260421T223503
CREATED:20240112T185016Z
LAST-MODIFIED:20240112T185016Z
UID:8482-1705968000-1706054399@stfrancisdesales.net
SUMMARY:Hot Dog w/ Tater Tots
DESCRIPTION:Hot Dog w/ Tater Tots
URL:https://stfrancisdesales.net/event/hot-dog-w-tater-tots/
CATEGORIES:Cafeteria Calendar
END:VEVENT
BEGIN:VEVENT
DTSTART;VALUE=DATE:20240122
DTEND;VALUE=DATE:20240123
DTSTAMP:20260421T223503
CREATED:20240112T170747Z
LAST-MODIFIED:20240112T170747Z
UID:8393-1705881600-1705967999@stfrancisdesales.net
SUMMARY:Chicken Nuggets
DESCRIPTION:Chicken Nuggets
URL:https://stfrancisdesales.net/event/chicken-nuggets-21/
CATEGORIES:Cafeteria Calendar
END:VEVENT
BEGIN:VEVENT
DTSTART;VALUE=DATE:20240119
DTEND;VALUE=DATE:20240120
DTSTAMP:20260421T223503
CREATED:20240112T160307Z
LAST-MODIFIED:20240112T160307Z
UID:8387-1705622400-1705708799@stfrancisdesales.net
SUMMARY:Pizza w/ Chips
DESCRIPTION:Pizza w/ Chips
URL:https://stfrancisdesales.net/event/pizza-w-chips/
CATEGORIES:Cafeteria Calendar
END:VEVENT
BEGIN:VEVENT
DTSTART;VALUE=DATE:20240118
DTEND;VALUE=DATE:20240119
DTSTAMP:20260421T223503
CREATED:20240112T160243Z
LAST-MODIFIED:20240112T160243Z
UID:8385-1705536000-1705622399@stfrancisdesales.net
SUMMARY:Walking Taco or Taco Salad w/ Gogurt
DESCRIPTION:Walking Taco or Taco Salad w/ Gogurt
URL:https://stfrancisdesales.net/event/walking-taco-or-taco-salad-w-gogurt/
CATEGORIES:Cafeteria Calendar
END:VEVENT
BEGIN:VEVENT
DTSTART;VALUE=DATE:20240117
DTEND;VALUE=DATE:20240118
DTSTAMP:20260421T223503
CREATED:20240112T160150Z
LAST-MODIFIED:20240112T160150Z
UID:8383-1705449600-1705535999@stfrancisdesales.net
SUMMARY:Chicken Sandwich w/ Carrots
DESCRIPTION:Chicken Sandwich w/ Carrots
URL:https://stfrancisdesales.net/event/chicken-sandwich-w-carrots/
CATEGORIES:Cafeteria Calendar
END:VEVENT
BEGIN:VEVENT
DTSTART;VALUE=DATE:20240116
DTEND;VALUE=DATE:20240117
DTSTAMP:20260421T223503
CREATED:20240112T160113Z
LAST-MODIFIED:20240112T160113Z
UID:8381-1705363200-1705449599@stfrancisdesales.net
SUMMARY:Spaghetti w/ Side Salad
DESCRIPTION:Spaghetti w/ Side Salad
URL:https://stfrancisdesales.net/event/spaghetti-w-side-salad/
CATEGORIES:Cafeteria Calendar
END:VEVENT
BEGIN:VEVENT
DTSTART;VALUE=DATE:20211220
DTEND;VALUE=DATE:20211221
DTSTAMP:20260421T223503
CREATED:20211004T153827Z
LAST-MODIFIED:20211004T153827Z
UID:6766-1639958400-1640044799@stfrancisdesales.net
SUMMARY:Pecan Deli Square
DESCRIPTION:Cheeseburger w/ Chips $7.00 \nHotDog w/ Chips $ 5.00
URL:https://stfrancisdesales.net/event/pecan-deli-square-12/
CATEGORIES:Cafeteria Calendar
END:VEVENT
BEGIN:VEVENT
DTSTART;VALUE=DATE:20211215
DTEND;VALUE=DATE:20211216
DTSTAMP:20260421T223503
CREATED:20211004T154959Z
LAST-MODIFIED:20211004T154959Z
UID:6792-1639526400-1639612799@stfrancisdesales.net
SUMMARY:Chick-Fil-A
DESCRIPTION:12 Count Chick-Fil-A Nuggets w/Chips & Cookies  ~ $7.50 \nCFA Regular Chicken Sandwich w/Chips & Cookies ~ $6.50
URL:https://stfrancisdesales.net/event/chick-fil-a-13/
CATEGORIES:Cafeteria Calendar
END:VEVENT
BEGIN:VEVENT
DTSTART;VALUE=DATE:20211213
DTEND;VALUE=DATE:20211214
DTSTAMP:20260421T223503
CREATED:20211004T153756Z
LAST-MODIFIED:20211004T153756Z
UID:6764-1639353600-1639439999@stfrancisdesales.net
SUMMARY:Pecan Deli Square
DESCRIPTION:Cheeseburger w/ Chips $7.00 \nHotDog w/ Chips $ 5.00
URL:https://stfrancisdesales.net/event/pecan-deli-square-11/
CATEGORIES:Cafeteria Calendar
END:VEVENT
BEGIN:VEVENT
DTSTART;VALUE=DATE:20211208
DTEND;VALUE=DATE:20211209
DTSTAMP:20260421T223503
CREATED:20211004T154934Z
LAST-MODIFIED:20211004T154934Z
UID:6790-1638921600-1639007999@stfrancisdesales.net
SUMMARY:Chick-Fil-A
DESCRIPTION:12 Count Chick-Fil-A Nuggets w/Chips & Cookies  ~ $7.50 \nCFA Regular Chicken Sandwich w/Chips & Cookies ~ $6.50
URL:https://stfrancisdesales.net/event/chick-fil-a-12/
CATEGORIES:Cafeteria Calendar
END:VEVENT
BEGIN:VEVENT
DTSTART;VALUE=DATE:20211206
DTEND;VALUE=DATE:20211207
DTSTAMP:20260421T223503
CREATED:20211004T153729Z
LAST-MODIFIED:20211004T153729Z
UID:6762-1638748800-1638835199@stfrancisdesales.net
SUMMARY:Pecan Deli Square
DESCRIPTION:Cheeseburger w/ Chips $7.00 \nHotDog w/ Chips $ 5.00
URL:https://stfrancisdesales.net/event/pecan-deli-square-10/
CATEGORIES:Cafeteria Calendar
END:VEVENT
BEGIN:VEVENT
DTSTART;VALUE=DATE:20211201
DTEND;VALUE=DATE:20211202
DTSTAMP:20260421T223503
CREATED:20211004T154909Z
LAST-MODIFIED:20211004T154909Z
UID:6788-1638316800-1638403199@stfrancisdesales.net
SUMMARY:Chick-Fil-A
DESCRIPTION:12 Count Chick-Fil-A Nuggets w/Chips & Cookies  ~ $7.50 \nCFA Regular Chicken Sandwich w/Chips & Cookies ~ $6.50
URL:https://stfrancisdesales.net/event/chick-fil-a-11/
CATEGORIES:Cafeteria Calendar
END:VEVENT
BEGIN:VEVENT
DTSTART;VALUE=DATE:20211129
DTEND;VALUE=DATE:20211130
DTSTAMP:20260421T223503
CREATED:20211004T153705Z
LAST-MODIFIED:20211004T153705Z
UID:6760-1638144000-1638230399@stfrancisdesales.net
SUMMARY:Pecan Deli Square
DESCRIPTION:Cheeseburger w/ Chips $7.00 \nHotDog w/ Chips $ 5.00
URL:https://stfrancisdesales.net/event/pecan-deli-square-9/
CATEGORIES:Cafeteria Calendar
END:VEVENT
BEGIN:VEVENT
DTSTART;VALUE=DATE:20211124
DTEND;VALUE=DATE:20211125
DTSTAMP:20260421T223503
CREATED:20211004T154824Z
LAST-MODIFIED:20211004T154824Z
UID:6784-1637712000-1637798399@stfrancisdesales.net
SUMMARY:Chick-Fil-A
DESCRIPTION:12 Count Chick-Fil-A Nuggets w/Chips & Cookies  ~ $7.50 \nCFA Regular Chicken Sandwich w/Chips & Cookies ~ $6.50
URL:https://stfrancisdesales.net/event/chick-fil-a-9/
CATEGORIES:Cafeteria Calendar
END:VEVENT
BEGIN:VEVENT
DTSTART;TZID=America/New_York:20211122T080000
DTEND;TZID=America/New_York:20211122T170000
DTSTAMP:20260421T223503
CREATED:20211004T153634Z
LAST-MODIFIED:20211004T153634Z
UID:6758-1637568000-1637600400@stfrancisdesales.net
SUMMARY:Pecan Deli Square
DESCRIPTION:Cheeseburger w/ Chips $7.00 \nHotDog w/ Chips $ 5.00
URL:https://stfrancisdesales.net/event/pecan-deli-square-8/
CATEGORIES:Cafeteria Calendar
END:VEVENT
BEGIN:VEVENT
DTSTART;VALUE=DATE:20211117
DTEND;VALUE=DATE:20211118
DTSTAMP:20260421T223503
CREATED:20211004T154757Z
LAST-MODIFIED:20211004T154757Z
UID:6782-1637107200-1637193599@stfrancisdesales.net
SUMMARY:Chick-Fil-A
DESCRIPTION:12 Count Chick-Fil-A Nuggets w/Chips & Cookies  ~ $7.50 \nCFA Regular Chicken Sandwich w/Chips & Cookies ~ $6.50
URL:https://stfrancisdesales.net/event/chick-fil-a-8/
CATEGORIES:Cafeteria Calendar
END:VEVENT
BEGIN:VEVENT
DTSTART;VALUE=DATE:20211115
DTEND;VALUE=DATE:20211116
DTSTAMP:20260421T223503
CREATED:20211004T153610Z
LAST-MODIFIED:20211004T153610Z
UID:6756-1636934400-1637020799@stfrancisdesales.net
SUMMARY:Pecan Deli Square
DESCRIPTION:Cheeseburger w/ Chips $7.00 \nHotDog w/ Chips $ 5.00
URL:https://stfrancisdesales.net/event/pecan-deli-square-7/
CATEGORIES:Cafeteria Calendar
END:VEVENT
END:VCALENDAR