BEGIN:VCALENDAR
VERSION:2.0
PRODID:-//St. Francis de Sales Catholic School - ECPv6.13.2.1//NONSGML v1.0//EN
CALSCALE:GREGORIAN
METHOD:PUBLISH
X-WR-CALNAME:St. Francis de Sales Catholic School
X-ORIGINAL-URL:https://stfrancisdesales.net
X-WR-CALDESC:Events for St. Francis de Sales Catholic School
REFRESH-INTERVAL;VALUE=DURATION:PT1H
X-Robots-Tag:noindex
X-PUBLISHED-TTL:PT1H
BEGIN:VTIMEZONE
TZID:America/New_York
BEGIN:DAYLIGHT
TZOFFSETFROM:-0500
TZOFFSETTO:-0400
TZNAME:EDT
DTSTART:20240310T070000
END:DAYLIGHT
BEGIN:STANDARD
TZOFFSETFROM:-0400
TZOFFSETTO:-0500
TZNAME:EST
DTSTART:20241103T060000
END:STANDARD
END:VTIMEZONE
BEGIN:VEVENT
DTSTART;VALUE=DATE:20240430
DTEND;VALUE=DATE:20240501
DTSTAMP:20260421T153602
CREATED:20240207T200709Z
LAST-MODIFIED:20240207T200709Z
UID:8614-1714435200-1714521599@stfrancisdesales.net
SUMMARY:Hot Dog w/Tater Tots
DESCRIPTION:Hot Dog w/Tater Tots
URL:https://stfrancisdesales.net/event/hot-dog-w-tater-tots-6/
CATEGORIES:Cafeteria Calendar
END:VEVENT
BEGIN:VEVENT
DTSTART;VALUE=DATE:20240429
DTEND;VALUE=DATE:20240430
DTSTAMP:20260421T153602
CREATED:20240112T171227Z
LAST-MODIFIED:20240112T171227Z
UID:8415-1714348800-1714435199@stfrancisdesales.net
SUMMARY:Chicken Nuggets
DESCRIPTION:Chicken Nuggets
URL:https://stfrancisdesales.net/event/chicken-nuggets-32/
CATEGORIES:Cafeteria Calendar
END:VEVENT
BEGIN:VEVENT
DTSTART;VALUE=DATE:20240426
DTEND;VALUE=DATE:20240427
DTSTAMP:20260421T153602
CREATED:20240112T183753Z
LAST-MODIFIED:20240112T183753Z
UID:8452-1714089600-1714175999@stfrancisdesales.net
SUMMARY:Pizza w/ Chips
DESCRIPTION:Pizza w/ Chips
URL:https://stfrancisdesales.net/event/pizza-w-chips-13/
CATEGORIES:Cafeteria Calendar
END:VEVENT
BEGIN:VEVENT
DTSTART;VALUE=DATE:20240425
DTEND;VALUE=DATE:20240426
DTSTAMP:20260421T153602
CREATED:20240207T200429Z
LAST-MODIFIED:20240207T200429Z
UID:8604-1714003200-1714089599@stfrancisdesales.net
SUMMARY:3 or 6 Mozzarella Sticks\, Fruit\, Cookie
DESCRIPTION:3 or 6 Mozzarella Sticks\, Fruit\, Cookie
URL:https://stfrancisdesales.net/event/3-or-6-mozzarella-sticks-fruit-cookie-3/
CATEGORIES:Cafeteria Calendar
END:VEVENT
BEGIN:VEVENT
DTSTART;VALUE=DATE:20240424
DTEND;VALUE=DATE:20240425
DTSTAMP:20260421T153602
CREATED:20240207T200111Z
LAST-MODIFIED:20240207T200111Z
UID:8594-1713916800-1714003199@stfrancisdesales.net
SUMMARY:Spaghetti w/tossed salad
DESCRIPTION:Spaghetti w/tossed salad
URL:https://stfrancisdesales.net/event/spaghetti-w-tossed-salad-5/
CATEGORIES:Cafeteria Calendar
END:VEVENT
BEGIN:VEVENT
DTSTART;VALUE=DATE:20240424
DTEND;VALUE=DATE:20240425
DTSTAMP:20260421T153602
CREATED:20240207T194917Z
LAST-MODIFIED:20240207T194917Z
UID:8564-1713916800-1714003199@stfrancisdesales.net
SUMMARY:Ice Cream Day!
DESCRIPTION:Ice Cream Sandwich \nIcee Frozen Push-up Pop \nSnickers Ice Cream Bar
URL:https://stfrancisdesales.net/event/ice-cream-day-6/
CATEGORIES:Cafeteria Calendar
END:VEVENT
BEGIN:VEVENT
DTSTART;VALUE=DATE:20240423
DTEND;VALUE=DATE:20240424
DTSTAMP:20260421T153602
CREATED:20240207T195726Z
LAST-MODIFIED:20240216T181531Z
UID:8584-1713830400-1713916799@stfrancisdesales.net
SUMMARY:4 or 8 French Toast Sticks w/ 2 Sausage Links
DESCRIPTION:4 or 8 French Toast Sticks w/ 2 Sausage Links
URL:https://stfrancisdesales.net/event/4-or-8-french-toast-sticks-2-or-4-sausage-links-3/
CATEGORIES:Cafeteria Calendar
END:VEVENT
BEGIN:VEVENT
DTSTART;VALUE=DATE:20240422
DTEND;VALUE=DATE:20240423
DTSTAMP:20260421T153602
CREATED:20240112T171209Z
LAST-MODIFIED:20240112T171209Z
UID:8413-1713744000-1713830399@stfrancisdesales.net
SUMMARY:Chicken Nuggets
DESCRIPTION:Chicken Nuggets
URL:https://stfrancisdesales.net/event/chicken-nuggets-31/
CATEGORIES:Cafeteria Calendar
END:VEVENT
BEGIN:VEVENT
DTSTART;VALUE=DATE:20240419
DTEND;VALUE=DATE:20240420
DTSTAMP:20260421T153602
CREATED:20240112T173558Z
LAST-MODIFIED:20240112T183535Z
UID:8448-1713484800-1713571199@stfrancisdesales.net
SUMMARY:Pizza w/ Chips
DESCRIPTION:Pizza w/ Chips
URL:https://stfrancisdesales.net/event/pizza-w-chips-11/
CATEGORIES:Cafeteria Calendar
END:VEVENT
BEGIN:VEVENT
DTSTART;VALUE=DATE:20240418
DTEND;VALUE=DATE:20240419
DTSTAMP:20260421T153602
CREATED:20240207T200918Z
LAST-MODIFIED:20240207T200918Z
UID:8620-1713398400-1713484799@stfrancisdesales.net
SUMMARY:Cheeseburger w/Jello Cup
DESCRIPTION:Cheeseburger w/Jello Cup
URL:https://stfrancisdesales.net/event/cheeseburger-w-jello-cup-4/
CATEGORIES:Cafeteria Calendar
END:VEVENT
BEGIN:VEVENT
DTSTART;VALUE=DATE:20240417
DTEND;VALUE=DATE:20240418
DTSTAMP:20260421T153602
CREATED:20240207T194946Z
LAST-MODIFIED:20240207T194946Z
UID:8566-1713312000-1713398399@stfrancisdesales.net
SUMMARY:Ice Cream Day!
DESCRIPTION:Ice Cream Sandwich \nIcee Frozen Push-up Pop \nSnickers Ice Cream Bar
URL:https://stfrancisdesales.net/event/ice-cream-day-7/
CATEGORIES:Cafeteria Calendar
END:VEVENT
BEGIN:VEVENT
DTSTART;VALUE=DATE:20240416
DTEND;VALUE=DATE:20240417
DTSTAMP:20260421T153602
CREATED:20240207T200647Z
LAST-MODIFIED:20240207T200647Z
UID:8612-1713225600-1713311999@stfrancisdesales.net
SUMMARY:Hot Dog w/Tater Tots
DESCRIPTION:Hot Dog w/Tater Tots
URL:https://stfrancisdesales.net/event/hot-dog-w-tater-tots-5/
CATEGORIES:Cafeteria Calendar
END:VEVENT
BEGIN:VEVENT
DTSTART;VALUE=DATE:20240415
DTEND;VALUE=DATE:20240416
DTSTAMP:20260421T153602
CREATED:20240112T171136Z
LAST-MODIFIED:20240112T172008Z
UID:8409-1713139200-1713225599@stfrancisdesales.net
SUMMARY:Chicken Nuggets
DESCRIPTION:Chicken Nuggets
URL:https://stfrancisdesales.net/event/chicken-nuggets-29/
CATEGORIES:Cafeteria Calendar
END:VEVENT
BEGIN:VEVENT
DTSTART;VALUE=DATE:20240412
DTEND;VALUE=DATE:20240413
DTSTAMP:20260421T153602
CREATED:20240112T183727Z
LAST-MODIFIED:20240112T183727Z
UID:8450-1712880000-1712966399@stfrancisdesales.net
SUMMARY:Pizza w/ Chips
DESCRIPTION:Pizza w/ Chips
URL:https://stfrancisdesales.net/event/pizza-w-chips-12/
CATEGORIES:Cafeteria Calendar
END:VEVENT
BEGIN:VEVENT
DTSTART;VALUE=DATE:20240411
DTEND;VALUE=DATE:20240412
DTSTAMP:20260421T153602
CREATED:20240207T200406Z
LAST-MODIFIED:20240207T200406Z
UID:8602-1712793600-1712879999@stfrancisdesales.net
SUMMARY:3 or 6 Mozzarella Sticks\, Fruit\, Cookie
DESCRIPTION:3 or 6 Mozzarella Sticks\, Fruit\, Cookie
URL:https://stfrancisdesales.net/event/3-or-6-mozzarella-sticks-fruit-cookie-2/
CATEGORIES:Cafeteria Calendar
END:VEVENT
BEGIN:VEVENT
DTSTART;TZID=America/New_York:20240410T080000
DTEND;TZID=America/New_York:20240410T170000
DTSTAMP:20260421T153602
CREATED:20240207T194643Z
LAST-MODIFIED:20240207T194643Z
UID:8562-1712736000-1712768400@stfrancisdesales.net
SUMMARY:Ice Cream Day!
DESCRIPTION:Ice Cream Sandwich \nIcee Frozen Push-up Pop \nSnickers Ice Cream Bar
URL:https://stfrancisdesales.net/event/ice-cream-day-5/
CATEGORIES:Cafeteria Calendar
END:VEVENT
BEGIN:VEVENT
DTSTART;VALUE=DATE:20240410
DTEND;VALUE=DATE:20240411
DTSTAMP:20260421T153602
CREATED:20240207T200038Z
LAST-MODIFIED:20240207T200038Z
UID:8592-1712707200-1712793599@stfrancisdesales.net
SUMMARY:Spaghetti w/tossed salad
DESCRIPTION:Spaghetti w/tossed salad
URL:https://stfrancisdesales.net/event/spaghetti-w-tossed-salad-4/
CATEGORIES:Cafeteria Calendar
END:VEVENT
BEGIN:VEVENT
DTSTART;VALUE=DATE:20240409
DTEND;VALUE=DATE:20240410
DTSTAMP:20260421T153602
CREATED:20240207T195650Z
LAST-MODIFIED:20240216T181056Z
UID:8582-1712620800-1712707199@stfrancisdesales.net
SUMMARY:4 or 8 French Toast Sticks w/ 2  Sausage Links
DESCRIPTION:4 or 8 French Toast Sticks w/ 2 Sausage Links
URL:https://stfrancisdesales.net/event/4-or-8-french-toast-sticks-2-or-4-sausage-links-2/
CATEGORIES:Cafeteria Calendar
END:VEVENT
BEGIN:VEVENT
DTSTART;VALUE=DATE:20240408
DTEND;VALUE=DATE:20240409
DTSTAMP:20260421T153602
CREATED:20240112T171120Z
LAST-MODIFIED:20240112T171120Z
UID:8407-1712534400-1712620799@stfrancisdesales.net
SUMMARY:Chicken Nuggets
DESCRIPTION:Chicken Nuggets
URL:https://stfrancisdesales.net/event/chicken-nuggets-28/
CATEGORIES:Cafeteria Calendar
END:VEVENT
BEGIN:VEVENT
DTSTART;VALUE=DATE:20240328
DTEND;VALUE=DATE:20240406
DTSTAMP:20260421T153602
CREATED:20240112T184339Z
LAST-MODIFIED:20240112T184339Z
UID:8470-1711584000-1712361599@stfrancisdesales.net
SUMMARY:No School = No Lunch
DESCRIPTION:No School = No Lunch
URL:https://stfrancisdesales.net/event/no-school-no-lunch-5/
CATEGORIES:Cafeteria Calendar
END:VEVENT
BEGIN:VEVENT
DTSTART;VALUE=DATE:20240327
DTEND;VALUE=DATE:20240328
DTSTAMP:20260421T153602
CREATED:20240112T184557Z
LAST-MODIFIED:20240112T184557Z
UID:8480-1711497600-1711583999@stfrancisdesales.net
SUMMARY:1/2 Day of School = No Lunch
DESCRIPTION:1/2 Day of School = No Lunch
URL:https://stfrancisdesales.net/event/1-2-day-of-school-no-lunch-4/
CATEGORIES:Cafeteria Calendar
END:VEVENT
BEGIN:VEVENT
DTSTART;VALUE=DATE:20240326
DTEND;VALUE=DATE:20240327
DTSTAMP:20260421T153602
CREATED:20240207T193057Z
LAST-MODIFIED:20240207T193057Z
UID:8538-1711411200-1711497599@stfrancisdesales.net
SUMMARY:4 or 8 French Toast Sticks/2 or 4 Sausage Links
DESCRIPTION:4 or 8 French Toast Sticks/2 or Sausage Links
URL:https://stfrancisdesales.net/event/4-or-8-french-toast-sticks-2-or-4-sausage-links/
CATEGORIES:Cafeteria Calendar
END:VEVENT
BEGIN:VEVENT
DTSTART;VALUE=DATE:20240325
DTEND;VALUE=DATE:20240326
DTSTAMP:20260421T153602
CREATED:20240112T171054Z
LAST-MODIFIED:20240112T171054Z
UID:8405-1711324800-1711411199@stfrancisdesales.net
SUMMARY:Chicken Nuggets
DESCRIPTION:Chicken Nuggets
URL:https://stfrancisdesales.net/event/chicken-nuggets-27/
CATEGORIES:Cafeteria Calendar
END:VEVENT
BEGIN:VEVENT
DTSTART;VALUE=DATE:20240322
DTEND;VALUE=DATE:20240323
DTSTAMP:20260421T153602
CREATED:20240112T172630Z
LAST-MODIFIED:20240112T172630Z
UID:8443-1711065600-1711151999@stfrancisdesales.net
SUMMARY:Pizza w/ Chips
DESCRIPTION:Pizza w/ Chips
URL:https://stfrancisdesales.net/event/pizza-w-chips-9/
CATEGORIES:Cafeteria Calendar
END:VEVENT
BEGIN:VEVENT
DTSTART;VALUE=DATE:20240321
DTEND;VALUE=DATE:20240322
DTSTAMP:20260421T153602
CREATED:20240207T192709Z
LAST-MODIFIED:20240207T192709Z
UID:8528-1710979200-1711065599@stfrancisdesales.net
SUMMARY:Cheeseburger w/Jello Cup
DESCRIPTION:Cheeseburger w/Jello Cup
URL:https://stfrancisdesales.net/event/cheeseburger-w-jello-cup-2/
CATEGORIES:Cafeteria Calendar
END:VEVENT
BEGIN:VEVENT
DTSTART;VALUE=DATE:20240320
DTEND;VALUE=DATE:20240321
DTSTAMP:20260421T153602
CREATED:20240207T192925Z
LAST-MODIFIED:20240207T192925Z
UID:8536-1710892800-1710979199@stfrancisdesales.net
SUMMARY:8 oz Mac & Cheese w/Carrots
DESCRIPTION:8 oz Mac & Cheese w/Carrots
URL:https://stfrancisdesales.net/event/8-oz-mac-cheese-w-carrots-2/
CATEGORIES:Cafeteria Calendar
END:VEVENT
BEGIN:VEVENT
DTSTART;VALUE=DATE:20240320
DTEND;VALUE=DATE:20240321
DTSTAMP:20260421T153602
CREATED:20240207T192608Z
LAST-MODIFIED:20240207T192608Z
UID:8524-1710892800-1710979199@stfrancisdesales.net
SUMMARY:Ice Cream Day!
DESCRIPTION:Ice Cream Sandwich \nIcee Frozen Push-UP \nSnickers Ice Cream
URL:https://stfrancisdesales.net/event/ice-cream-day-3/
CATEGORIES:Cafeteria Calendar
END:VEVENT
BEGIN:VEVENT
DTSTART;VALUE=DATE:20240319
DTEND;VALUE=DATE:20240320
DTSTAMP:20260421T153602
CREATED:20240207T192901Z
LAST-MODIFIED:20240207T192901Z
UID:8534-1710806400-1710892799@stfrancisdesales.net
SUMMARY:Hot Dog w/ Tater Tots
DESCRIPTION:Hot Dog w/ Tater Tots
URL:https://stfrancisdesales.net/event/hot-dog-w-tater-tots-3/
CATEGORIES:Cafeteria Calendar
END:VEVENT
BEGIN:VEVENT
DTSTART;VALUE=DATE:20240318
DTEND;VALUE=DATE:20240319
DTSTAMP:20260421T153602
CREATED:20240112T171038Z
LAST-MODIFIED:20240112T171038Z
UID:8403-1710720000-1710806399@stfrancisdesales.net
SUMMARY:Chicken Nuggets
DESCRIPTION:Chicken Nuggets
URL:https://stfrancisdesales.net/event/chicken-nuggets-26/
CATEGORIES:Cafeteria Calendar
END:VEVENT
BEGIN:VEVENT
DTSTART;VALUE=DATE:20240315
DTEND;VALUE=DATE:20240316
DTSTAMP:20260421T153602
CREATED:20240112T172615Z
LAST-MODIFIED:20240112T172615Z
UID:8441-1710460800-1710547199@stfrancisdesales.net
SUMMARY:Pizza w/ Chips
DESCRIPTION:Pizza w/ Chips
URL:https://stfrancisdesales.net/event/pizza-w-chips-8/
CATEGORIES:Cafeteria Calendar
END:VEVENT
END:VCALENDAR