BEGIN:VCALENDAR
VERSION:2.0
PRODID:-//St. Francis de Sales Catholic School - ECPv6.13.2.1//NONSGML v1.0//EN
CALSCALE:GREGORIAN
METHOD:PUBLISH
X-ORIGINAL-URL:https://stfrancisdesales.net
X-WR-CALDESC:Events for St. Francis de Sales Catholic School
REFRESH-INTERVAL;VALUE=DURATION:PT1H
X-Robots-Tag:noindex
X-PUBLISHED-TTL:PT1H
BEGIN:VTIMEZONE
TZID:America/New_York
BEGIN:DAYLIGHT
TZOFFSETFROM:-0500
TZOFFSETTO:-0400
TZNAME:EDT
DTSTART:20240310T070000
END:DAYLIGHT
BEGIN:STANDARD
TZOFFSETFROM:-0400
TZOFFSETTO:-0500
TZNAME:EST
DTSTART:20241103T060000
END:STANDARD
END:VTIMEZONE
BEGIN:VEVENT
DTSTART;VALUE=DATE:20240524
DTEND;VALUE=DATE:20240525
DTSTAMP:20260421T122431
CREATED:20240112T183934Z
LAST-MODIFIED:20240112T183934Z
UID:8460-1716508800-1716595199@stfrancisdesales.net
SUMMARY:Pizza w/ Chips
DESCRIPTION:Pizza w/ Chips
URL:https://stfrancisdesales.net/event/pizza-w-chips-17/
CATEGORIES:Cafeteria Calendar
END:VEVENT
BEGIN:VEVENT
DTSTART;VALUE=DATE:20240523
DTEND;VALUE=DATE:20240524
DTSTAMP:20260421T122431
CREATED:20240207T200520Z
LAST-MODIFIED:20240207T200520Z
UID:8608-1716422400-1716508799@stfrancisdesales.net
SUMMARY:3 or 6 Mozzarella Sticks\, Fruit\, Cookie
DESCRIPTION:3 or 6 Mozzarella Sticks\, Fruit\, Cookie
URL:https://stfrancisdesales.net/event/3-or-6-mozzarella-sticks-fruit-cookie-5/
CATEGORIES:Cafeteria Calendar
END:VEVENT
BEGIN:VEVENT
DTSTART;VALUE=DATE:20240522
DTEND;VALUE=DATE:20240523
DTSTAMP:20260421T122431
CREATED:20240207T200246Z
LAST-MODIFIED:20240207T200246Z
UID:8598-1716336000-1716422399@stfrancisdesales.net
SUMMARY:Spaghetti w/tossed salad
DESCRIPTION:Spaghetti w/tossed salad
URL:https://stfrancisdesales.net/event/spaghetti-w-tossed-salad-7/
CATEGORIES:Cafeteria Calendar
END:VEVENT
BEGIN:VEVENT
DTSTART;VALUE=DATE:20240522
DTEND;VALUE=DATE:20240523
DTSTAMP:20260421T122431
CREATED:20240207T195338Z
LAST-MODIFIED:20240207T195338Z
UID:8574-1716336000-1716422399@stfrancisdesales.net
SUMMARY:Ice Cream Day!
DESCRIPTION:Ice Cream Sandwich \nIcee Frozen Push-up Pop \nSnickers Ice Cream Bar
URL:https://stfrancisdesales.net/event/ice-cream-day-11/
CATEGORIES:Cafeteria Calendar
END:VEVENT
BEGIN:VEVENT
DTSTART;VALUE=DATE:20240521
DTEND;VALUE=DATE:20240522
DTSTAMP:20260421T122431
CREATED:20240207T195911Z
LAST-MODIFIED:20240216T181639Z
UID:8588-1716249600-1716335999@stfrancisdesales.net
SUMMARY:4 or 8 French Toast Sticks w/ 2 Sausage Links
DESCRIPTION:4 or 8 French Toast Sticks w/ 2 Sausage Links
URL:https://stfrancisdesales.net/event/4-or-8-french-toast-sticks-2-or-4-sausage-links-5/
CATEGORIES:Cafeteria Calendar
END:VEVENT
BEGIN:VEVENT
DTSTART;VALUE=DATE:20240520
DTEND;VALUE=DATE:20240521
DTSTAMP:20260421T122431
CREATED:20240112T171810Z
LAST-MODIFIED:20240112T171810Z
UID:8425-1716163200-1716249599@stfrancisdesales.net
SUMMARY:Chicken Nuggets
DESCRIPTION:Chicken Nuggets
URL:https://stfrancisdesales.net/event/chicken-nuggets-37/
CATEGORIES:Cafeteria Calendar
END:VEVENT
BEGIN:VEVENT
DTSTART;VALUE=DATE:20240517
DTEND;VALUE=DATE:20240518
DTSTAMP:20260421T122431
CREATED:20240112T183904Z
LAST-MODIFIED:20240112T183904Z
UID:8458-1715904000-1715990399@stfrancisdesales.net
SUMMARY:Pizza w/ Chips
DESCRIPTION:Pizza w/ Chips
URL:https://stfrancisdesales.net/event/pizza-w-chips-16/
CATEGORIES:Cafeteria Calendar
END:VEVENT
BEGIN:VEVENT
DTSTART;VALUE=DATE:20240516
DTEND;VALUE=DATE:20240517
DTSTAMP:20260421T122431
CREATED:20240207T201030Z
LAST-MODIFIED:20240207T201030Z
UID:8624-1715817600-1715903999@stfrancisdesales.net
SUMMARY:Cheeseburger w/Jello Cup
DESCRIPTION:Cheeseburger w/Jello Cup
URL:https://stfrancisdesales.net/event/cheeseburger-w-jello-cup-6/
CATEGORIES:Cafeteria Calendar
END:VEVENT
BEGIN:VEVENT
DTSTART;VALUE=DATE:20240515
DTEND;VALUE=DATE:20240516
DTSTAMP:20260421T122431
CREATED:20240207T195300Z
LAST-MODIFIED:20240207T195307Z
UID:8572-1715731200-1715817599@stfrancisdesales.net
SUMMARY:Ice Cream Day!
DESCRIPTION:Ice Cream Sandwich \nIcee Frozen Push-up Pop \nSnickers Ice Cream Bar
URL:https://stfrancisdesales.net/event/ice-cream-day-10/
CATEGORIES:Cafeteria Calendar
END:VEVENT
BEGIN:VEVENT
DTSTART;VALUE=DATE:20240514
DTEND;VALUE=DATE:20240515
DTSTAMP:20260421T122431
CREATED:20240207T200731Z
LAST-MODIFIED:20240207T200731Z
UID:8616-1715644800-1715731199@stfrancisdesales.net
SUMMARY:Hot Dog w/Tater Tots
DESCRIPTION:Hot Dog w/Tater Tots
URL:https://stfrancisdesales.net/event/hot-dog-w-tater-tots-7/
CATEGORIES:Cafeteria Calendar
END:VEVENT
BEGIN:VEVENT
DTSTART;VALUE=DATE:20240513
DTEND;VALUE=DATE:20240514
DTSTAMP:20260421T122431
CREATED:20240112T171754Z
LAST-MODIFIED:20240112T172240Z
UID:8423-1715558400-1715644799@stfrancisdesales.net
SUMMARY:Chicken Nuggets
DESCRIPTION:Chicken Nuggets
URL:https://stfrancisdesales.net/event/chicken-nuggets-36/
CATEGORIES:Cafeteria Calendar
END:VEVENT
BEGIN:VEVENT
DTSTART;VALUE=DATE:20240510
DTEND;VALUE=DATE:20240511
DTSTAMP:20260421T122431
CREATED:20240112T183839Z
LAST-MODIFIED:20240112T183839Z
UID:8456-1715299200-1715385599@stfrancisdesales.net
SUMMARY:Pizza w/ Chips
DESCRIPTION:Pizza w/ Chips
URL:https://stfrancisdesales.net/event/pizza-w-chips-15/
CATEGORIES:Cafeteria Calendar
END:VEVENT
BEGIN:VEVENT
DTSTART;VALUE=DATE:20240509
DTEND;VALUE=DATE:20240510
DTSTAMP:20260421T122431
CREATED:20240207T200457Z
LAST-MODIFIED:20240207T200457Z
UID:8606-1715212800-1715299199@stfrancisdesales.net
SUMMARY:3 or 6 Mozzarella Sticks\, Fruit\, Cookie
DESCRIPTION:3 or 6 Mozzarella Sticks\, Fruit\, Cookie
URL:https://stfrancisdesales.net/event/3-or-6-mozzarella-sticks-fruit-cookie-4/
CATEGORIES:Cafeteria Calendar
END:VEVENT
BEGIN:VEVENT
DTSTART;VALUE=DATE:20240508
DTEND;VALUE=DATE:20240509
DTSTAMP:20260421T122431
CREATED:20240207T200156Z
LAST-MODIFIED:20240207T200156Z
UID:8596-1715126400-1715212799@stfrancisdesales.net
SUMMARY:Spaghetti w/tossed salad
DESCRIPTION:Spaghetti w/tossed salad
URL:https://stfrancisdesales.net/event/spaghetti-w-tossed-salad-6/
CATEGORIES:Cafeteria Calendar
END:VEVENT
BEGIN:VEVENT
DTSTART;VALUE=DATE:20240508
DTEND;VALUE=DATE:20240509
DTSTAMP:20260421T122431
CREATED:20240207T195234Z
LAST-MODIFIED:20240207T195234Z
UID:8570-1715126400-1715212799@stfrancisdesales.net
SUMMARY:Ice Cream Day!
DESCRIPTION:Ice Cream Sandwich \nIcee Frozen Push-up Pop \nSnickers Ice Cream Bar
URL:https://stfrancisdesales.net/event/ice-cream-day-9/
CATEGORIES:Cafeteria Calendar
END:VEVENT
BEGIN:VEVENT
DTSTART;VALUE=DATE:20240507
DTEND;VALUE=DATE:20240508
DTSTAMP:20260421T122431
CREATED:20240207T195847Z
LAST-MODIFIED:20240216T181607Z
UID:8586-1715040000-1715126399@stfrancisdesales.net
SUMMARY:4 or 8 French Toast Sticks w/ 2 Sausage Links
DESCRIPTION:4 or 8 French Toast Sticks w/ 2 Sausage Links
URL:https://stfrancisdesales.net/event/4-or-8-french-toast-sticks-2-or-4-sausage-links-4/
CATEGORIES:Cafeteria Calendar
END:VEVENT
BEGIN:VEVENT
DTSTART;VALUE=DATE:20240506
DTEND;VALUE=DATE:20240507
DTSTAMP:20260421T122431
CREATED:20240112T171736Z
LAST-MODIFIED:20240112T171736Z
UID:8421-1714953600-1715039999@stfrancisdesales.net
SUMMARY:Chicken Nuggets
DESCRIPTION:Chicken Nuggets
URL:https://stfrancisdesales.net/event/chicken-nuggets-35/
CATEGORIES:Cafeteria Calendar
END:VEVENT
BEGIN:VEVENT
DTSTART;VALUE=DATE:20240503
DTEND;VALUE=DATE:20240504
DTSTAMP:20260421T122431
CREATED:20240112T183819Z
LAST-MODIFIED:20240112T183819Z
UID:8454-1714694400-1714780799@stfrancisdesales.net
SUMMARY:Pizza w/ Chips
DESCRIPTION:Pizza w/ Chips
URL:https://stfrancisdesales.net/event/pizza-w-chips-14/
CATEGORIES:Cafeteria Calendar
END:VEVENT
BEGIN:VEVENT
DTSTART;VALUE=DATE:20240502
DTEND;VALUE=DATE:20240503
DTSTAMP:20260421T122431
CREATED:20240207T201009Z
LAST-MODIFIED:20240207T201009Z
UID:8622-1714608000-1714694399@stfrancisdesales.net
SUMMARY:Cheeseburger w/Jello Cup
DESCRIPTION:Cheeseburger w/Jello Cup
URL:https://stfrancisdesales.net/event/cheeseburger-w-jello-cup-5/
CATEGORIES:Cafeteria Calendar
END:VEVENT
BEGIN:VEVENT
DTSTART;VALUE=DATE:20240501
DTEND;VALUE=DATE:20240502
DTSTAMP:20260421T122431
CREATED:20240207T195021Z
LAST-MODIFIED:20240207T195021Z
UID:8568-1714521600-1714607999@stfrancisdesales.net
SUMMARY:Ice Cream Day!
DESCRIPTION:Ice Cream Sandwich \nIcee Frozen Push-up Pop \nSnickers Ice Cream Bar
URL:https://stfrancisdesales.net/event/ice-cream-day-8/
CATEGORIES:Cafeteria Calendar
END:VEVENT
BEGIN:VEVENT
DTSTART;VALUE=DATE:20240430
DTEND;VALUE=DATE:20240501
DTSTAMP:20260421T122431
CREATED:20240207T200709Z
LAST-MODIFIED:20240207T200709Z
UID:8614-1714435200-1714521599@stfrancisdesales.net
SUMMARY:Hot Dog w/Tater Tots
DESCRIPTION:Hot Dog w/Tater Tots
URL:https://stfrancisdesales.net/event/hot-dog-w-tater-tots-6/
CATEGORIES:Cafeteria Calendar
END:VEVENT
BEGIN:VEVENT
DTSTART;VALUE=DATE:20240429
DTEND;VALUE=DATE:20240430
DTSTAMP:20260421T122431
CREATED:20240112T171227Z
LAST-MODIFIED:20240112T171227Z
UID:8415-1714348800-1714435199@stfrancisdesales.net
SUMMARY:Chicken Nuggets
DESCRIPTION:Chicken Nuggets
URL:https://stfrancisdesales.net/event/chicken-nuggets-32/
CATEGORIES:Cafeteria Calendar
END:VEVENT
BEGIN:VEVENT
DTSTART;VALUE=DATE:20240426
DTEND;VALUE=DATE:20240427
DTSTAMP:20260421T122431
CREATED:20240112T183753Z
LAST-MODIFIED:20240112T183753Z
UID:8452-1714089600-1714175999@stfrancisdesales.net
SUMMARY:Pizza w/ Chips
DESCRIPTION:Pizza w/ Chips
URL:https://stfrancisdesales.net/event/pizza-w-chips-13/
CATEGORIES:Cafeteria Calendar
END:VEVENT
BEGIN:VEVENT
DTSTART;VALUE=DATE:20240425
DTEND;VALUE=DATE:20240426
DTSTAMP:20260421T122431
CREATED:20240207T200429Z
LAST-MODIFIED:20240207T200429Z
UID:8604-1714003200-1714089599@stfrancisdesales.net
SUMMARY:3 or 6 Mozzarella Sticks\, Fruit\, Cookie
DESCRIPTION:3 or 6 Mozzarella Sticks\, Fruit\, Cookie
URL:https://stfrancisdesales.net/event/3-or-6-mozzarella-sticks-fruit-cookie-3/
CATEGORIES:Cafeteria Calendar
END:VEVENT
BEGIN:VEVENT
DTSTART;VALUE=DATE:20240424
DTEND;VALUE=DATE:20240425
DTSTAMP:20260421T122431
CREATED:20240207T200111Z
LAST-MODIFIED:20240207T200111Z
UID:8594-1713916800-1714003199@stfrancisdesales.net
SUMMARY:Spaghetti w/tossed salad
DESCRIPTION:Spaghetti w/tossed salad
URL:https://stfrancisdesales.net/event/spaghetti-w-tossed-salad-5/
CATEGORIES:Cafeteria Calendar
END:VEVENT
BEGIN:VEVENT
DTSTART;VALUE=DATE:20240424
DTEND;VALUE=DATE:20240425
DTSTAMP:20260421T122431
CREATED:20240207T194917Z
LAST-MODIFIED:20240207T194917Z
UID:8564-1713916800-1714003199@stfrancisdesales.net
SUMMARY:Ice Cream Day!
DESCRIPTION:Ice Cream Sandwich \nIcee Frozen Push-up Pop \nSnickers Ice Cream Bar
URL:https://stfrancisdesales.net/event/ice-cream-day-6/
CATEGORIES:Cafeteria Calendar
END:VEVENT
BEGIN:VEVENT
DTSTART;VALUE=DATE:20240423
DTEND;VALUE=DATE:20240424
DTSTAMP:20260421T122431
CREATED:20240207T195726Z
LAST-MODIFIED:20240216T181531Z
UID:8584-1713830400-1713916799@stfrancisdesales.net
SUMMARY:4 or 8 French Toast Sticks w/ 2 Sausage Links
DESCRIPTION:4 or 8 French Toast Sticks w/ 2 Sausage Links
URL:https://stfrancisdesales.net/event/4-or-8-french-toast-sticks-2-or-4-sausage-links-3/
CATEGORIES:Cafeteria Calendar
END:VEVENT
BEGIN:VEVENT
DTSTART;VALUE=DATE:20240422
DTEND;VALUE=DATE:20240423
DTSTAMP:20260421T122431
CREATED:20240112T171209Z
LAST-MODIFIED:20240112T171209Z
UID:8413-1713744000-1713830399@stfrancisdesales.net
SUMMARY:Chicken Nuggets
DESCRIPTION:Chicken Nuggets
URL:https://stfrancisdesales.net/event/chicken-nuggets-31/
CATEGORIES:Cafeteria Calendar
END:VEVENT
BEGIN:VEVENT
DTSTART;VALUE=DATE:20240419
DTEND;VALUE=DATE:20240420
DTSTAMP:20260421T122431
CREATED:20240112T173558Z
LAST-MODIFIED:20240112T183535Z
UID:8448-1713484800-1713571199@stfrancisdesales.net
SUMMARY:Pizza w/ Chips
DESCRIPTION:Pizza w/ Chips
URL:https://stfrancisdesales.net/event/pizza-w-chips-11/
CATEGORIES:Cafeteria Calendar
END:VEVENT
BEGIN:VEVENT
DTSTART;VALUE=DATE:20240418
DTEND;VALUE=DATE:20240419
DTSTAMP:20260421T122431
CREATED:20240207T200918Z
LAST-MODIFIED:20240207T200918Z
UID:8620-1713398400-1713484799@stfrancisdesales.net
SUMMARY:Cheeseburger w/Jello Cup
DESCRIPTION:Cheeseburger w/Jello Cup
URL:https://stfrancisdesales.net/event/cheeseburger-w-jello-cup-4/
CATEGORIES:Cafeteria Calendar
END:VEVENT
END:VCALENDAR