BEGIN:VCALENDAR
VERSION:2.0
PRODID:-//St. Francis de Sales Catholic School - ECPv6.13.2.1//NONSGML v1.0//EN
CALSCALE:GREGORIAN
METHOD:PUBLISH
X-ORIGINAL-URL:https://stfrancisdesales.net
X-WR-CALDESC:Events for St. Francis de Sales Catholic School
REFRESH-INTERVAL;VALUE=DURATION:PT1H
X-Robots-Tag:noindex
X-PUBLISHED-TTL:PT1H
BEGIN:VTIMEZONE
TZID:America/New_York
BEGIN:DAYLIGHT
TZOFFSETFROM:-0500
TZOFFSETTO:-0400
TZNAME:EDT
DTSTART:20240310T070000
END:DAYLIGHT
BEGIN:STANDARD
TZOFFSETFROM:-0400
TZOFFSETTO:-0500
TZNAME:EST
DTSTART:20241103T060000
END:STANDARD
BEGIN:DAYLIGHT
TZOFFSETFROM:-0500
TZOFFSETTO:-0400
TZNAME:EDT
DTSTART:20250309T070000
END:DAYLIGHT
BEGIN:STANDARD
TZOFFSETFROM:-0400
TZOFFSETTO:-0500
TZNAME:EST
DTSTART:20251102T060000
END:STANDARD
END:VTIMEZONE
BEGIN:VEVENT
DTSTART;TZID=America/New_York:20250915T000000
DTEND;TZID=America/New_York:20250915T000000
DTSTAMP:20260421T075710
CREATED:20250806T200951Z
LAST-MODIFIED:20250806T200951Z
UID:10532-1757894400-1757894400@stfrancisdesales.net
SUMMARY:Chicken Nuggets (6)
DESCRIPTION:Chicken Nuggets (6)
URL:https://stfrancisdesales.net/event/chicken-nuggets-6-3/
CATEGORIES:Cafeteria Calendar
END:VEVENT
BEGIN:VEVENT
DTSTART;TZID=America/New_York:20250915T000000
DTEND;TZID=America/New_York:20250915T000000
DTSTAMP:20260421T075710
CREATED:20250806T200951Z
LAST-MODIFIED:20250806T200951Z
UID:10533-1757894400-1757894400@stfrancisdesales.net
SUMMARY:Peanut Butter & Jelly Sandwich
DESCRIPTION:Peanut Butter & Jelly Sandwich
URL:https://stfrancisdesales.net/event/peanut-butter-jelly-sandwich-6/
CATEGORIES:Cafeteria Calendar
END:VEVENT
BEGIN:VEVENT
DTSTART;TZID=America/New_York:20250912T000000
DTEND;TZID=America/New_York:20250912T000000
DTSTAMP:20260421T075710
CREATED:20250806T200950Z
LAST-MODIFIED:20250806T200950Z
UID:10530-1757635200-1757635200@stfrancisdesales.net
SUMMARY:Peanut Butter & Jelly Sandwich
DESCRIPTION:Peanut Butter & Jelly Sandwich
URL:https://stfrancisdesales.net/event/peanut-butter-jelly-sandwich-5/
CATEGORIES:Cafeteria Calendar
END:VEVENT
BEGIN:VEVENT
DTSTART;TZID=America/New_York:20250911T000000
DTEND;TZID=America/New_York:20250911T000000
DTSTAMP:20260421T075710
CREATED:20250806T200950Z
LAST-MODIFIED:20250806T200950Z
UID:10528-1757548800-1757548800@stfrancisdesales.net
SUMMARY:Mozzarella Sticks (6)
DESCRIPTION:Mozzarella Sticks (6)
URL:https://stfrancisdesales.net/event/mozzarella-sticks-6-2/
CATEGORIES:Cafeteria Calendar
END:VEVENT
BEGIN:VEVENT
DTSTART;TZID=America/New_York:20250911T000000
DTEND;TZID=America/New_York:20250911T000000
DTSTAMP:20260421T075710
CREATED:20250806T200950Z
LAST-MODIFIED:20250806T200950Z
UID:10529-1757548800-1757548800@stfrancisdesales.net
SUMMARY:Peanut Butter & Jelly Sandwich
DESCRIPTION:Peanut Butter & Jelly Sandwich
URL:https://stfrancisdesales.net/event/peanut-butter-jelly-sandwich-4/
CATEGORIES:Cafeteria Calendar
END:VEVENT
BEGIN:VEVENT
DTSTART;TZID=America/New_York:20250911T000000
DTEND;TZID=America/New_York:20250911T000000
DTSTAMP:20260421T075710
CREATED:20250806T200949Z
LAST-MODIFIED:20250806T200949Z
UID:10527-1757548800-1757548800@stfrancisdesales.net
SUMMARY:Mozzarella Sticks (3)
DESCRIPTION:Mozzarella Sticks (3)
URL:https://stfrancisdesales.net/event/mozzarella-sticks-3-2/
CATEGORIES:Cafeteria Calendar
END:VEVENT
BEGIN:VEVENT
DTSTART;TZID=America/New_York:20250910T000000
DTEND;TZID=America/New_York:20250910T000000
DTSTAMP:20260421T075710
CREATED:20250806T200949Z
LAST-MODIFIED:20250806T200949Z
UID:10525-1757462400-1757462400@stfrancisdesales.net
SUMMARY:Peanut Butter & Jelly Sandwich
DESCRIPTION:Peanut Butter & Jelly Sandwich
URL:https://stfrancisdesales.net/event/peanut-butter-jelly-sandwich-3/
CATEGORIES:Cafeteria Calendar
END:VEVENT
BEGIN:VEVENT
DTSTART;TZID=America/New_York:20250910T000000
DTEND;TZID=America/New_York:20250910T000000
DTSTAMP:20260421T075710
CREATED:20250806T200949Z
LAST-MODIFIED:20250806T200949Z
UID:10526-1757462400-1757462400@stfrancisdesales.net
SUMMARY:Spaghetti
DESCRIPTION:Spaghetti
URL:https://stfrancisdesales.net/event/spaghetti-6/
CATEGORIES:Cafeteria Calendar
END:VEVENT
BEGIN:VEVENT
DTSTART;TZID=America/New_York:20250909T000000
DTEND;TZID=America/New_York:20250909T000000
DTSTAMP:20260421T075710
CREATED:20250806T200949Z
LAST-MODIFIED:20250806T200949Z
UID:10524-1757376000-1757376000@stfrancisdesales.net
SUMMARY:Peanut Butter & Jelly Sandwich
DESCRIPTION:Peanut Butter & Jelly Sandwich
URL:https://stfrancisdesales.net/event/peanut-butter-jelly-sandwich-2/
CATEGORIES:Cafeteria Calendar
END:VEVENT
BEGIN:VEVENT
DTSTART;TZID=America/New_York:20250909T000000
DTEND;TZID=America/New_York:20250909T000000
DTSTAMP:20260421T075710
CREATED:20250806T200948Z
LAST-MODIFIED:20250806T200948Z
UID:10522-1757376000-1757376000@stfrancisdesales.net
SUMMARY:French Toast Sticks (4)
DESCRIPTION:French Toast Sticks (4)
URL:https://stfrancisdesales.net/event/french-toast-sticks-4-2/
CATEGORIES:Cafeteria Calendar
END:VEVENT
BEGIN:VEVENT
DTSTART;TZID=America/New_York:20250909T000000
DTEND;TZID=America/New_York:20250909T000000
DTSTAMP:20260421T075710
CREATED:20250806T200948Z
LAST-MODIFIED:20250806T200948Z
UID:10523-1757376000-1757376000@stfrancisdesales.net
SUMMARY:French Toast Sticks (8)
DESCRIPTION:French Toast Sticks (8)
URL:https://stfrancisdesales.net/event/french-toast-sticks-8-2/
CATEGORIES:Cafeteria Calendar
END:VEVENT
BEGIN:VEVENT
DTSTART;TZID=America/New_York:20250908T000000
DTEND;TZID=America/New_York:20250908T000000
DTSTAMP:20260421T075710
CREATED:20250806T200948Z
LAST-MODIFIED:20250806T200948Z
UID:10519-1757289600-1757289600@stfrancisdesales.net
SUMMARY:Chicken Nuggets (4)
DESCRIPTION:Chicken Nuggets (4)
URL:https://stfrancisdesales.net/event/chicken-nuggets-4-2/
CATEGORIES:Cafeteria Calendar
END:VEVENT
BEGIN:VEVENT
DTSTART;TZID=America/New_York:20250908T000000
DTEND;TZID=America/New_York:20250908T000000
DTSTAMP:20260421T075710
CREATED:20250806T200948Z
LAST-MODIFIED:20250806T200948Z
UID:10520-1757289600-1757289600@stfrancisdesales.net
SUMMARY:Chicken Nuggets (6)
DESCRIPTION:Chicken Nuggets (6)
URL:https://stfrancisdesales.net/event/chicken-nuggets-6-2/
CATEGORIES:Cafeteria Calendar
END:VEVENT
BEGIN:VEVENT
DTSTART;TZID=America/New_York:20250908T000000
DTEND;TZID=America/New_York:20250908T000000
DTSTAMP:20260421T075710
CREATED:20250806T200948Z
LAST-MODIFIED:20250806T200948Z
UID:10521-1757289600-1757289600@stfrancisdesales.net
SUMMARY:Peanut Butter & Jelly Sandwich
DESCRIPTION:Peanut Butter & Jelly Sandwich
URL:https://stfrancisdesales.net/event/peanut-butter-jelly-sandwich/
CATEGORIES:Cafeteria Calendar
END:VEVENT
BEGIN:VEVENT
DTSTART;VALUE=DATE:20240614
DTEND;VALUE=DATE:20240615
DTSTAMP:20260421T075710
CREATED:20240112T184444Z
LAST-MODIFIED:20240112T184444Z
UID:8474-1718323200-1718409599@stfrancisdesales.net
SUMMARY:1/2 Day of School = No Lunch
DESCRIPTION:1/2 Day of School = No Lunch
URL:https://stfrancisdesales.net/event/1-2-day-of-school-no-lunch/
CATEGORIES:Cafeteria Calendar
END:VEVENT
BEGIN:VEVENT
DTSTART;VALUE=DATE:20240613
DTEND;VALUE=DATE:20240614
DTSTAMP:20260421T075710
CREATED:20240112T184507Z
LAST-MODIFIED:20240112T184507Z
UID:8476-1718236800-1718323199@stfrancisdesales.net
SUMMARY:1/2 Day of School = No Lunch
DESCRIPTION:1/2 Day of School = No Lunch
URL:https://stfrancisdesales.net/event/1-2-day-of-school-no-lunch-2/
CATEGORIES:Cafeteria Calendar
END:VEVENT
BEGIN:VEVENT
DTSTART;VALUE=DATE:20240612
DTEND;VALUE=DATE:20240613
DTSTAMP:20260421T075710
CREATED:20240207T195515Z
LAST-MODIFIED:20240207T195515Z
UID:8580-1718150400-1718236799@stfrancisdesales.net
SUMMARY:Ice Cream Day!
DESCRIPTION:Ice Cream Sandwich \nIcee Frozen Push-up Pop \nSnickers Ice Cream Bar
URL:https://stfrancisdesales.net/event/ice-cream-day-14/
CATEGORIES:Cafeteria Calendar
END:VEVENT
BEGIN:VEVENT
DTSTART;VALUE=DATE:20240611
DTEND;VALUE=DATE:20240612
DTSTAMP:20260421T075710
CREATED:20240207T200828Z
LAST-MODIFIED:20240207T200828Z
UID:8618-1718064000-1718150399@stfrancisdesales.net
SUMMARY:Hot Dog w/Tater Tots
DESCRIPTION:Hot Dog w/Tater Tots
URL:https://stfrancisdesales.net/event/hot-dog-w-tater-tots-8/
CATEGORIES:Cafeteria Calendar
END:VEVENT
BEGIN:VEVENT
DTSTART;VALUE=DATE:20240610
DTEND;VALUE=DATE:20240611
DTSTAMP:20260421T075710
CREATED:20240112T171923Z
LAST-MODIFIED:20240112T171923Z
UID:8431-1717977600-1718063999@stfrancisdesales.net
SUMMARY:Chicken Nuggets
DESCRIPTION:Chicken Nuggets
URL:https://stfrancisdesales.net/event/chicken-nuggets-40/
CATEGORIES:Cafeteria Calendar
END:VEVENT
BEGIN:VEVENT
DTSTART;VALUE=DATE:20240607
DTEND;VALUE=DATE:20240608
DTSTAMP:20260421T075710
CREATED:20240112T184529Z
LAST-MODIFIED:20240112T184529Z
UID:8478-1717718400-1717804799@stfrancisdesales.net
SUMMARY:1/2 Day of School = No Lunch
DESCRIPTION:1/2 Day of School = No Lunch
URL:https://stfrancisdesales.net/event/1-2-day-of-school-no-lunch-3/
CATEGORIES:Cafeteria Calendar
END:VEVENT
BEGIN:VEVENT
DTSTART;VALUE=DATE:20240606
DTEND;VALUE=DATE:20240607
DTSTAMP:20260421T075710
CREATED:20240207T200550Z
LAST-MODIFIED:20240207T200550Z
UID:8610-1717632000-1717718399@stfrancisdesales.net
SUMMARY:3 or 6 Mozzarella Sticks\, Fruit\, Cookie
DESCRIPTION:3 or 6 Mozzarella Sticks\, Fruit\, Cookie
URL:https://stfrancisdesales.net/event/3-or-6-mozzarella-sticks-fruit-cookie-6/
CATEGORIES:Cafeteria Calendar
END:VEVENT
BEGIN:VEVENT
DTSTART;VALUE=DATE:20240605
DTEND;VALUE=DATE:20240606
DTSTAMP:20260421T075710
CREATED:20240207T200312Z
LAST-MODIFIED:20240207T200312Z
UID:8600-1717545600-1717631999@stfrancisdesales.net
SUMMARY:Spaghetti w/tossed salad
DESCRIPTION:Spaghetti w/tossed salad
URL:https://stfrancisdesales.net/event/spaghetti-w-tossed-salad-8/
CATEGORIES:Cafeteria Calendar
END:VEVENT
BEGIN:VEVENT
DTSTART;VALUE=DATE:20240605
DTEND;VALUE=DATE:20240606
DTSTAMP:20260421T075710
CREATED:20240207T195448Z
LAST-MODIFIED:20240207T195448Z
UID:8578-1717545600-1717631999@stfrancisdesales.net
SUMMARY:Ice Cream Day!
DESCRIPTION:Ice Cream Sandwich \nIcee Frozen Push-up Pop \nSnickers Ice Cream Bar
URL:https://stfrancisdesales.net/event/ice-cream-day-13/
CATEGORIES:Cafeteria Calendar
END:VEVENT
BEGIN:VEVENT
DTSTART;VALUE=DATE:20240604
DTEND;VALUE=DATE:20240605
DTSTAMP:20260421T075710
CREATED:20240207T195934Z
LAST-MODIFIED:20240216T181731Z
UID:8590-1717459200-1717545599@stfrancisdesales.net
SUMMARY:4 or 8 French Toast Sticks w/ 2 Sausage Links
DESCRIPTION:4 or 8 French Toast Sticks w/ 2 Sausage Links
URL:https://stfrancisdesales.net/event/4-or-8-french-toast-sticks-2-or-4-sausage-links-6/
CATEGORIES:Cafeteria Calendar
END:VEVENT
BEGIN:VEVENT
DTSTART;VALUE=DATE:20240603
DTEND;VALUE=DATE:20240604
DTSTAMP:20260421T075710
CREATED:20240112T171904Z
LAST-MODIFIED:20240112T171904Z
UID:8429-1717372800-1717459199@stfrancisdesales.net
SUMMARY:Chicken Nuggets
DESCRIPTION:Chicken Nuggets
URL:https://stfrancisdesales.net/event/chicken-nuggets-39/
CATEGORIES:Cafeteria Calendar
END:VEVENT
BEGIN:VEVENT
DTSTART;VALUE=DATE:20240531
DTEND;VALUE=DATE:20240601
DTSTAMP:20260421T075710
CREATED:20240112T184013Z
LAST-MODIFIED:20240112T184013Z
UID:8462-1717113600-1717199999@stfrancisdesales.net
SUMMARY:Pizza w/ Chips
DESCRIPTION:Pizza w/ Chips
URL:https://stfrancisdesales.net/event/pizza-w-chips-18/
CATEGORIES:Cafeteria Calendar
END:VEVENT
BEGIN:VEVENT
DTSTART;VALUE=DATE:20240530
DTEND;VALUE=DATE:20240531
DTSTAMP:20260421T075710
CREATED:20240207T201104Z
LAST-MODIFIED:20240207T201104Z
UID:8626-1717027200-1717113599@stfrancisdesales.net
SUMMARY:Cheeseburger w/Jello Cup
DESCRIPTION:Cheeseburger w/Jello Cup
URL:https://stfrancisdesales.net/event/cheeseburger-w-jello-cup-7/
CATEGORIES:Cafeteria Calendar
END:VEVENT
BEGIN:VEVENT
DTSTART;VALUE=DATE:20240529
DTEND;VALUE=DATE:20240530
DTSTAMP:20260421T075710
CREATED:20240207T195424Z
LAST-MODIFIED:20240207T195424Z
UID:8576-1716940800-1717027199@stfrancisdesales.net
SUMMARY:Ice Cream Day!
DESCRIPTION:Ice Cream Sandwich \nIcee Frozen Push-up Pop \nSnickers Ice Cream Bar
URL:https://stfrancisdesales.net/event/ice-cream-day-12/
CATEGORIES:Cafeteria Calendar
END:VEVENT
BEGIN:VEVENT
DTSTART;VALUE=DATE:20240528
DTEND;VALUE=DATE:20240529
DTSTAMP:20260421T075710
CREATED:20240207T201420Z
LAST-MODIFIED:20240207T201420Z
UID:8628-1716854400-1716940799@stfrancisdesales.net
SUMMARY:4 or 8 Chicken Nuggets w/ Fries
DESCRIPTION:4 or 8  Chicken Nuggets w/ Fries
URL:https://stfrancisdesales.net/event/4-or-8-chicken-nuggets-w-fries-2/
CATEGORIES:Cafeteria Calendar
END:VEVENT
BEGIN:VEVENT
DTSTART;VALUE=DATE:20240527
DTEND;VALUE=DATE:20240528
DTSTAMP:20260421T075710
CREATED:20240112T184401Z
LAST-MODIFIED:20240112T184401Z
UID:8472-1716768000-1716854399@stfrancisdesales.net
SUMMARY:No School = No Lunch
DESCRIPTION:No School = No Lunch
URL:https://stfrancisdesales.net/event/no-school-no-lunch-6/
CATEGORIES:Cafeteria Calendar
END:VEVENT
END:VCALENDAR