BEGIN:VCALENDAR
VERSION:2.0
PRODID:-//St. Francis de Sales Catholic School - ECPv6.13.2.1//NONSGML v1.0//EN
CALSCALE:GREGORIAN
METHOD:PUBLISH
X-WR-CALNAME:St. Francis de Sales Catholic School
X-ORIGINAL-URL:https://stfrancisdesales.net
X-WR-CALDESC:Events for St. Francis de Sales Catholic School
REFRESH-INTERVAL;VALUE=DURATION:PT1H
X-Robots-Tag:noindex
X-PUBLISHED-TTL:PT1H
BEGIN:VTIMEZONE
TZID:America/New_York
BEGIN:DAYLIGHT
TZOFFSETFROM:-0500
TZOFFSETTO:-0400
TZNAME:EDT
DTSTART:20190310T070000
END:DAYLIGHT
BEGIN:STANDARD
TZOFFSETFROM:-0400
TZOFFSETTO:-0500
TZNAME:EST
DTSTART:20191103T060000
END:STANDARD
END:VTIMEZONE
BEGIN:VEVENT
DTSTART;VALUE=DATE:20190430
DTEND;VALUE=DATE:20190502
DTSTAMP:20260421T223317
CREATED:20190327T231050Z
LAST-MODIFIED:20190327T231050Z
UID:3717-1556654400-1556740799@stfrancisdesales.net
SUMMARY:Pasta ~ Ravioli
DESCRIPTION:Pasta ~ Ravioli
URL:https://stfrancisdesales.net/event/pasta-ravioli-3/
CATEGORIES:Cafeteria Calendar
END:VEVENT
BEGIN:VEVENT
DTSTART;VALUE=DATE:20190501
DTEND;VALUE=DATE:20190503
DTSTAMP:20260421T223317
CREATED:20190327T230958Z
LAST-MODIFIED:20190327T230958Z
UID:3715-1556740800-1556827199@stfrancisdesales.net
SUMMARY:Corn Dog Nuggets
DESCRIPTION:Corn Dog Nuggets
URL:https://stfrancisdesales.net/event/corn-dog-nuggets-2/
CATEGORIES:Cafeteria Calendar
END:VEVENT
BEGIN:VEVENT
DTSTART;VALUE=DATE:20190502
DTEND;VALUE=DATE:20190504
DTSTAMP:20260421T223317
CREATED:20190327T225311Z
LAST-MODIFIED:20190327T225311Z
UID:3701-1556827200-1556913599@stfrancisdesales.net
SUMMARY:IT'S PIZZA DAY!!!
DESCRIPTION:IT’S PIZZA DAY!!!
URL:https://stfrancisdesales.net/event/its-pizza-day-15/
CATEGORIES:Cafeteria Calendar
END:VEVENT
BEGIN:VEVENT
DTSTART;VALUE=DATE:20190505
DTEND;VALUE=DATE:20190507
DTSTAMP:20260421T223317
CREATED:20190504T003420Z
LAST-MODIFIED:20190504T003420Z
UID:3816-1557086400-1557172799@stfrancisdesales.net
SUMMARY:French Toast Sticks
DESCRIPTION:French Toast Sticks
URL:https://stfrancisdesales.net/event/french-toast-sticks-9/
CATEGORIES:Cafeteria Calendar
END:VEVENT
BEGIN:VEVENT
DTSTART;VALUE=DATE:20190506
DTEND;VALUE=DATE:20190508
DTSTAMP:20260421T223317
CREATED:20190504T003504Z
LAST-MODIFIED:20190504T003504Z
UID:3818-1557172800-1557259199@stfrancisdesales.net
SUMMARY:Chicken Nuggets
DESCRIPTION:Chicken Nuggets
URL:https://stfrancisdesales.net/event/chicken-nuggets-10/
CATEGORIES:Cafeteria Calendar
END:VEVENT
BEGIN:VEVENT
DTSTART;VALUE=DATE:20190507
DTEND;VALUE=DATE:20190509
DTSTAMP:20260421T223317
CREATED:20190504T003612Z
LAST-MODIFIED:20190504T003612Z
UID:3820-1557259200-1557345599@stfrancisdesales.net
SUMMARY:Soup (Veg Beef) & Sandwich (Ham&Cheese)
DESCRIPTION:Soup (Veg Beef) & Sandwich (Ham&Cheese)
URL:https://stfrancisdesales.net/event/soup-veg-beef-sandwich-hamcheese/
CATEGORIES:Cafeteria Calendar
END:VEVENT
BEGIN:VEVENT
DTSTART;VALUE=DATE:20190508
DTEND;VALUE=DATE:20190510
DTSTAMP:20260421T223317
CREATED:20190504T003848Z
LAST-MODIFIED:20190504T003848Z
UID:3822-1557345600-1557431999@stfrancisdesales.net
SUMMARY:Mac & Cheese
DESCRIPTION:Mac & Cheese
URL:https://stfrancisdesales.net/event/mac-cheese-7/
CATEGORIES:Cafeteria Calendar
END:VEVENT
BEGIN:VEVENT
DTSTART;VALUE=DATE:20190509
DTEND;VALUE=DATE:20190511
DTSTAMP:20260421T223317
CREATED:20190504T004311Z
LAST-MODIFIED:20190504T004311Z
UID:3824-1557432000-1557518399@stfrancisdesales.net
SUMMARY:IT'S PIZZA DAY!!!
DESCRIPTION:IT’S PIZZA DAY!!!
URL:https://stfrancisdesales.net/event/its-pizza-day-17/
CATEGORIES:Cafeteria Calendar
END:VEVENT
BEGIN:VEVENT
DTSTART;VALUE=DATE:20190512
DTEND;VALUE=DATE:20190514
DTSTAMP:20260421T223317
CREATED:20190504T010954Z
LAST-MODIFIED:20190504T010954Z
UID:3842-1557691200-1557777599@stfrancisdesales.net
SUMMARY:Hot Dogs
DESCRIPTION:Hot Dogs
URL:https://stfrancisdesales.net/event/hot-dogs-8/
CATEGORIES:Cafeteria Calendar
END:VEVENT
BEGIN:VEVENT
DTSTART;VALUE=DATE:20190513
DTEND;VALUE=DATE:20190515
DTSTAMP:20260421T223317
CREATED:20190504T011032Z
LAST-MODIFIED:20190504T011032Z
UID:3844-1557777600-1557863999@stfrancisdesales.net
SUMMARY:Chicken Salad Wrap
DESCRIPTION:Chicken Salad Wrap
URL:https://stfrancisdesales.net/event/chicken-salad-wrap/
CATEGORIES:Cafeteria Calendar
END:VEVENT
BEGIN:VEVENT
DTSTART;VALUE=DATE:20190514
DTEND;VALUE=DATE:20190516
DTSTAMP:20260421T223317
CREATED:20190504T011223Z
LAST-MODIFIED:20190504T011530Z
UID:3850-1557864000-1557950399@stfrancisdesales.net
SUMMARY:Meatball Sub
DESCRIPTION:Meatball Sub
URL:https://stfrancisdesales.net/event/meatball-sub-4/
CATEGORIES:Cafeteria Calendar
END:VEVENT
BEGIN:VEVENT
DTSTART;VALUE=DATE:20190515
DTEND;VALUE=DATE:20190517
DTSTAMP:20260421T223317
CREATED:20190504T011423Z
LAST-MODIFIED:20190504T011423Z
UID:3858-1557950400-1558036799@stfrancisdesales.net
SUMMARY:Soup ~ Beefaroni
DESCRIPTION:Soup ~ Beefaroni
URL:https://stfrancisdesales.net/event/soup-beefaroni/
CATEGORIES:Cafeteria Calendar
END:VEVENT
BEGIN:VEVENT
DTSTART;VALUE=DATE:20190516
DTEND;VALUE=DATE:20190518
DTSTAMP:20260421T223317
CREATED:20190504T004334Z
LAST-MODIFIED:20190504T004334Z
UID:3826-1558036800-1558123199@stfrancisdesales.net
SUMMARY:IT'S PIZZA DAY!!!
DESCRIPTION:IT’S PIZZA DAY!!!
URL:https://stfrancisdesales.net/event/its-pizza-day-18/
CATEGORIES:Cafeteria Calendar
END:VEVENT
BEGIN:VEVENT
DTSTART;VALUE=DATE:20190519
DTEND;VALUE=DATE:20190521
DTSTAMP:20260421T223317
CREATED:20190504T011659Z
LAST-MODIFIED:20190504T011659Z
UID:3860-1558296000-1558382399@stfrancisdesales.net
SUMMARY:Mozzarella Sticks
DESCRIPTION:Mozzarella Sticks
URL:https://stfrancisdesales.net/event/mozzarella-sticks-5/
CATEGORIES:Cafeteria Calendar
END:VEVENT
BEGIN:VEVENT
DTSTART;VALUE=DATE:20190520
DTEND;VALUE=DATE:20190522
DTSTAMP:20260421T223317
CREATED:20190504T011252Z
LAST-MODIFIED:20190504T011252Z
UID:3852-1558382400-1558468799@stfrancisdesales.net
SUMMARY:Corn Dogs
DESCRIPTION:Corn Dogs
URL:https://stfrancisdesales.net/event/corn-dogs-3/
CATEGORIES:Cafeteria Calendar
END:VEVENT
BEGIN:VEVENT
DTSTART;VALUE=DATE:20190521
DTEND;VALUE=DATE:20190523
DTSTAMP:20260421T223317
CREATED:20190504T011317Z
LAST-MODIFIED:20190504T011317Z
UID:3854-1558468800-1558555199@stfrancisdesales.net
SUMMARY:Pork BBQ
DESCRIPTION:Pork BBQ
URL:https://stfrancisdesales.net/event/pork-bbq/
CATEGORIES:Cafeteria Calendar
END:VEVENT
BEGIN:VEVENT
DTSTART;VALUE=DATE:20190522
DTEND;VALUE=DATE:20190524
DTSTAMP:20260421T223317
CREATED:20190504T004403Z
LAST-MODIFIED:20190504T004403Z
UID:3828-1558555200-1558641599@stfrancisdesales.net
SUMMARY:IT'S PIZZA DAY!!!
DESCRIPTION:IT’S PIZZA DAY!!!
URL:https://stfrancisdesales.net/event/its-pizza-day-19/
CATEGORIES:Cafeteria Calendar
END:VEVENT
BEGIN:VEVENT
DTSTART;VALUE=DATE:20190523
DTEND;VALUE=DATE:20190525
DTSTAMP:20260421T223317
CREATED:20190504T011736Z
LAST-MODIFIED:20190504T011736Z
UID:3862-1558641600-1558727999@stfrancisdesales.net
SUMMARY:1/2 Day ~ NO LUNCH~
DESCRIPTION:1/2 Day ~ NO LUNCH~
URL:https://stfrancisdesales.net/event/1-2-day-no-lunch-2/
CATEGORIES:Cafeteria Calendar
END:VEVENT
BEGIN:VEVENT
DTSTART;VALUE=DATE:20190526
DTEND;VALUE=DATE:20190528
DTSTAMP:20260421T223317
CREATED:20190504T011811Z
LAST-MODIFIED:20190504T011811Z
UID:3864-1558900800-1558987199@stfrancisdesales.net
SUMMARY:No School ~ NO LUNCH~
DESCRIPTION:No School ~ NO LUNCH~
URL:https://stfrancisdesales.net/event/no-school-no-lunch/
CATEGORIES:Cafeteria Calendar
END:VEVENT
BEGIN:VEVENT
DTSTART;VALUE=DATE:20190527
DTEND;VALUE=DATE:20190529
DTSTAMP:20260421T223317
CREATED:20190504T011111Z
LAST-MODIFIED:20190504T011111Z
UID:3846-1558987200-1559073599@stfrancisdesales.net
SUMMARY:Chicken Sandwich
DESCRIPTION:Chicken Sandwich
URL:https://stfrancisdesales.net/event/chicken-sandwich-4/
CATEGORIES:Cafeteria Calendar
END:VEVENT
BEGIN:VEVENT
DTSTART;VALUE=DATE:20190528
DTEND;VALUE=DATE:20190530
DTSTAMP:20260421T223317
CREATED:20190504T011344Z
LAST-MODIFIED:20190504T011344Z
UID:3856-1559073600-1559159999@stfrancisdesales.net
SUMMARY:French Toast Sticks
DESCRIPTION:French Toast Sticks
URL:https://stfrancisdesales.net/event/french-toast-sticks-10/
CATEGORIES:Cafeteria Calendar
END:VEVENT
BEGIN:VEVENT
DTSTART;VALUE=DATE:20190529
DTEND;VALUE=DATE:20190531
DTSTAMP:20260421T223317
CREATED:20190504T011142Z
LAST-MODIFIED:20190504T011142Z
UID:3848-1559160000-1559246399@stfrancisdesales.net
SUMMARY:BLT Wrap
DESCRIPTION:BLT Wrap
URL:https://stfrancisdesales.net/event/blt-wrap/
CATEGORIES:Cafeteria Calendar
END:VEVENT
BEGIN:VEVENT
DTSTART;VALUE=DATE:20190530
DTEND;VALUE=DATE:20190601
DTSTAMP:20260421T223317
CREATED:20190504T004931Z
LAST-MODIFIED:20190504T005714Z
UID:3832-1559246400-1559332799@stfrancisdesales.net
SUMMARY:IT'S PIZZA DAY!!!
DESCRIPTION:IT’S PIZZA DAY!!!
URL:https://stfrancisdesales.net/event/its-pizza-day-21/
CATEGORIES:Cafeteria Calendar
END:VEVENT
END:VCALENDAR