BEGIN:VCALENDAR
VERSION:2.0
PRODID:-//St. Francis de Sales Catholic School - ECPv6.13.2.1//NONSGML v1.0//EN
CALSCALE:GREGORIAN
METHOD:PUBLISH
X-WR-CALNAME:St. Francis de Sales Catholic School
X-ORIGINAL-URL:https://stfrancisdesales.net
X-WR-CALDESC:Events for St. Francis de Sales Catholic School
REFRESH-INTERVAL;VALUE=DURATION:PT1H
X-Robots-Tag:noindex
X-PUBLISHED-TTL:PT1H
BEGIN:VTIMEZONE
TZID:America/New_York
BEGIN:DAYLIGHT
TZOFFSETFROM:-0500
TZOFFSETTO:-0400
TZNAME:EDT
DTSTART:20190310T070000
END:DAYLIGHT
BEGIN:STANDARD
TZOFFSETFROM:-0400
TZOFFSETTO:-0500
TZNAME:EST
DTSTART:20191103T060000
END:STANDARD
END:VTIMEZONE
BEGIN:VEVENT
DTSTART;VALUE=DATE:20190228
DTEND;VALUE=DATE:20190302
DTSTAMP:20260422T014524
CREATED:20190206T232733Z
LAST-MODIFIED:20190206T232733Z
UID:3415-1551380400-1551466799@stfrancisdesales.net
SUMMARY:It's PIZZA Day!
DESCRIPTION:It’s PIZZA Day!
URL:https://stfrancisdesales.net/event/its-pizza-day-8/
CATEGORIES:Cafeteria Calendar
END:VEVENT
BEGIN:VEVENT
DTSTART;VALUE=DATE:20190303
DTEND;VALUE=DATE:20190305
DTSTAMP:20260422T014524
CREATED:20190227T002527Z
LAST-MODIFIED:20190227T003226Z
UID:3475-1551639600-1551725999@stfrancisdesales.net
SUMMARY:Meat Ball Sub
DESCRIPTION:Meat Ball Sub
URL:https://stfrancisdesales.net/event/its-pizza-day-9/
CATEGORIES:Cafeteria Calendar
END:VEVENT
BEGIN:VEVENT
DTSTART;VALUE=DATE:20190304
DTEND;VALUE=DATE:20190306
DTSTAMP:20260422T014524
CREATED:20190227T003315Z
LAST-MODIFIED:20190227T003315Z
UID:3486-1551726000-1551812399@stfrancisdesales.net
SUMMARY:Souper Tuesday~Chili & Chips
DESCRIPTION:Souper Tuesday~Chili & Chips
URL:https://stfrancisdesales.net/event/souper-tuesdaychili-chips/
CATEGORIES:Cafeteria Calendar
END:VEVENT
BEGIN:VEVENT
DTSTART;VALUE=DATE:20190305
DTEND;VALUE=DATE:20190307
DTSTAMP:20260422T014524
CREATED:20190227T004216Z
LAST-MODIFIED:20190227T004216Z
UID:3497-1551812400-1551898799@stfrancisdesales.net
SUMMARY:Mac & Cheese
DESCRIPTION:Mac & Cheese
URL:https://stfrancisdesales.net/event/mac-cheese-5/
CATEGORIES:Cafeteria Calendar
END:VEVENT
BEGIN:VEVENT
DTSTART;VALUE=DATE:20190306
DTEND;VALUE=DATE:20190308
DTSTAMP:20260422T014524
CREATED:20190227T004319Z
LAST-MODIFIED:20190227T004319Z
UID:3499-1551898800-1551985199@stfrancisdesales.net
SUMMARY:Hot Dogs
DESCRIPTION:Hot Dogs
URL:https://stfrancisdesales.net/event/hot-dogs-5/
CATEGORIES:Cafeteria Calendar
END:VEVENT
BEGIN:VEVENT
DTSTART;VALUE=DATE:20190307
DTEND;VALUE=DATE:20190309
DTSTAMP:20260422T014524
CREATED:20190227T002600Z
LAST-MODIFIED:20190227T002600Z
UID:3477-1551985200-1552071599@stfrancisdesales.net
SUMMARY:It's Pizza Day!
DESCRIPTION:It’s Pizza Day!
URL:https://stfrancisdesales.net/event/its-pizza-day-10/
CATEGORIES:Cafeteria Calendar
END:VEVENT
BEGIN:VEVENT
DTSTART;VALUE=DATE:20190310
DTEND;VALUE=DATE:20190312
DTSTAMP:20260422T014524
CREATED:20190227T004430Z
LAST-MODIFIED:20190227T004430Z
UID:3501-1552248000-1552334399@stfrancisdesales.net
SUMMARY:Mozzeralla Sticks
DESCRIPTION:Mozzeralla Sticks
URL:https://stfrancisdesales.net/event/mozzeralla-sticks/
CATEGORIES:Cafeteria Calendar
END:VEVENT
BEGIN:VEVENT
DTSTART;VALUE=DATE:20190311
DTEND;VALUE=DATE:20190313
DTSTAMP:20260422T014524
CREATED:20190227T003411Z
LAST-MODIFIED:20190227T003444Z
UID:3488-1552334400-1552420799@stfrancisdesales.net
SUMMARY:Souper Tuesday~Vegetable Beef
DESCRIPTION:Souper Tuesday~ Vegetable Beef
URL:https://stfrancisdesales.net/event/souper-tuesdayvegetable-beef/
CATEGORIES:Cafeteria Calendar
END:VEVENT
BEGIN:VEVENT
DTSTART;VALUE=DATE:20190312
DTEND;VALUE=DATE:20190314
DTSTAMP:20260422T014524
CREATED:20190227T004531Z
LAST-MODIFIED:20190227T004531Z
UID:3503-1552420800-1552507199@stfrancisdesales.net
SUMMARY:Beefaroni
DESCRIPTION:Beefaroni
URL:https://stfrancisdesales.net/event/beefaroni/
CATEGORIES:Cafeteria Calendar
END:VEVENT
BEGIN:VEVENT
DTSTART;VALUE=DATE:20190313
DTEND;VALUE=DATE:20190315
DTSTAMP:20260422T014524
CREATED:20190227T005613Z
LAST-MODIFIED:20190227T005613Z
UID:3519-1552507200-1552593599@stfrancisdesales.net
SUMMARY:Taco Salad
DESCRIPTION:Taco Salad
URL:https://stfrancisdesales.net/event/taco-salad-7/
CATEGORIES:Cafeteria Calendar
END:VEVENT
BEGIN:VEVENT
DTSTART;VALUE=DATE:20190314
DTEND;VALUE=DATE:20190316
DTSTAMP:20260422T014524
CREATED:20190227T002655Z
LAST-MODIFIED:20190227T002655Z
UID:3479-1552593600-1552679999@stfrancisdesales.net
SUMMARY:It's Pizza Day!
DESCRIPTION:It’s Pizza Day!
URL:https://stfrancisdesales.net/event/its-pizza-day-11/
CATEGORIES:Cafeteria Calendar
END:VEVENT
BEGIN:VEVENT
DTSTART;VALUE=DATE:20190317
DTEND;VALUE=DATE:20190319
DTSTAMP:20260422T014524
CREATED:20190227T004754Z
LAST-MODIFIED:20190227T004754Z
UID:3507-1552852800-1552939199@stfrancisdesales.net
SUMMARY:Ham & Cheese Roll Up
DESCRIPTION:Ham & Cheese Roll Up
URL:https://stfrancisdesales.net/event/ham-cheese-roll-up-2/
CATEGORIES:Cafeteria Calendar
END:VEVENT
BEGIN:VEVENT
DTSTART;VALUE=DATE:20190318
DTEND;VALUE=DATE:20190320
DTSTAMP:20260422T014524
CREATED:20190227T004040Z
LAST-MODIFIED:20190227T004135Z
UID:3495-1552939200-1553025599@stfrancisdesales.net
SUMMARY:Souper Tuesday~Loaded Potato
DESCRIPTION:Souper Tuesday~Loaded Potato
URL:https://stfrancisdesales.net/event/souper-tuesdayloaded-potato-2/
CATEGORIES:Cafeteria Calendar
END:VEVENT
BEGIN:VEVENT
DTSTART;VALUE=DATE:20190319
DTEND;VALUE=DATE:20190321
DTSTAMP:20260422T014524
CREATED:20190227T004901Z
LAST-MODIFIED:20190227T004901Z
UID:3509-1553025600-1553111999@stfrancisdesales.net
SUMMARY:French Toast Sticks
DESCRIPTION:French Toast Sticks
URL:https://stfrancisdesales.net/event/french-toast-sticks-7/
CATEGORIES:Cafeteria Calendar
END:VEVENT
BEGIN:VEVENT
DTSTART;VALUE=DATE:20190320
DTEND;VALUE=DATE:20190322
DTSTAMP:20260422T014524
CREATED:20190227T005000Z
LAST-MODIFIED:20190227T005000Z
UID:3511-1553112000-1553198399@stfrancisdesales.net
SUMMARY:Hot Dogs
DESCRIPTION:Hot Dogs
URL:https://stfrancisdesales.net/event/hot-dogs-6/
CATEGORIES:Cafeteria Calendar
END:VEVENT
BEGIN:VEVENT
DTSTART;VALUE=DATE:20190321
DTEND;VALUE=DATE:20190323
DTSTAMP:20260422T014524
CREATED:20190227T002746Z
LAST-MODIFIED:20190227T002746Z
UID:3481-1553198400-1553284799@stfrancisdesales.net
SUMMARY:It's Pizza Day!
DESCRIPTION:It’s Pizza Day!
URL:https://stfrancisdesales.net/event/its-pizza-day-12/
CATEGORIES:Cafeteria Calendar
END:VEVENT
BEGIN:VEVENT
DTSTART;VALUE=DATE:20190324
DTEND;VALUE=DATE:20190326
DTSTAMP:20260422T014524
CREATED:20190227T005113Z
LAST-MODIFIED:20190227T005113Z
UID:3513-1553457600-1553543999@stfrancisdesales.net
SUMMARY:(Cheese) Burgers
DESCRIPTION:(Cheese) Burgers
URL:https://stfrancisdesales.net/event/cheese-burgers-3/
CATEGORIES:Cafeteria Calendar
END:VEVENT
BEGIN:VEVENT
DTSTART;VALUE=DATE:20190325
DTEND;VALUE=DATE:20190327
DTSTAMP:20260422T014524
CREATED:20190227T003816Z
LAST-MODIFIED:20190227T003816Z
UID:3493-1553544000-1553630399@stfrancisdesales.net
SUMMARY:Souper Tuesday~Broccoli & Cheddar
DESCRIPTION:Souper Tuesday~Broccoli & Cheddar
URL:https://stfrancisdesales.net/event/souper-tuesdaybroccoli-cheddar/
CATEGORIES:Cafeteria Calendar
END:VEVENT
BEGIN:VEVENT
DTSTART;VALUE=DATE:20190326
DTEND;VALUE=DATE:20190328
DTSTAMP:20260422T014524
CREATED:20190227T005239Z
LAST-MODIFIED:20190227T005239Z
UID:3515-1553630400-1553716799@stfrancisdesales.net
SUMMARY:Pasta ~ Ravioli
DESCRIPTION:Pasta ~ Ravioli
URL:https://stfrancisdesales.net/event/pasta-ravioli-2/
CATEGORIES:Cafeteria Calendar
END:VEVENT
BEGIN:VEVENT
DTSTART;VALUE=DATE:20190327
DTEND;VALUE=DATE:20190329
DTSTAMP:20260422T014524
CREATED:20190227T005326Z
LAST-MODIFIED:20190227T005326Z
UID:3517-1553716800-1553803199@stfrancisdesales.net
SUMMARY:Corn Dog Nuggets
DESCRIPTION:Corn Dog Nuggets
URL:https://stfrancisdesales.net/event/corn-dog-nuggets/
CATEGORIES:Cafeteria Calendar
END:VEVENT
BEGIN:VEVENT
DTSTART;VALUE=DATE:20190328
DTEND;VALUE=DATE:20190330
DTSTAMP:20260422T014524
CREATED:20190227T002821Z
LAST-MODIFIED:20190227T002920Z
UID:3483-1553803200-1553889599@stfrancisdesales.net
SUMMARY:It's Pizza Day!
DESCRIPTION:It’s Pizza Day!
URL:https://stfrancisdesales.net/event/its-pizza-day-13/
CATEGORIES:Cafeteria Calendar
END:VEVENT
BEGIN:VEVENT
DTSTART;VALUE=DATE:20190331
DTEND;VALUE=DATE:20190402
DTSTAMP:20260422T014524
CREATED:20190327T223241Z
LAST-MODIFIED:20190327T223241Z
UID:3691-1554062400-1554148799@stfrancisdesales.net
SUMMARY:Mac & Cheese
DESCRIPTION:Mac & Cheese
URL:https://stfrancisdesales.net/event/mac-cheese-6/
CATEGORIES:Cafeteria Calendar
END:VEVENT
END:VCALENDAR