BEGIN:VCALENDAR
VERSION:2.0
PRODID:-//St. Francis de Sales Catholic School - ECPv6.13.2.1//NONSGML v1.0//EN
CALSCALE:GREGORIAN
METHOD:PUBLISH
X-WR-CALNAME:St. Francis de Sales Catholic School
X-ORIGINAL-URL:https://stfrancisdesales.net
X-WR-CALDESC:Events for St. Francis de Sales Catholic School
REFRESH-INTERVAL;VALUE=DURATION:PT1H
X-Robots-Tag:noindex
X-PUBLISHED-TTL:PT1H
BEGIN:VTIMEZONE
TZID:America/New_York
BEGIN:DAYLIGHT
TZOFFSETFROM:-0500
TZOFFSETTO:-0400
TZNAME:EDT
DTSTART:20240310T070000
END:DAYLIGHT
BEGIN:STANDARD
TZOFFSETFROM:-0400
TZOFFSETTO:-0500
TZNAME:EST
DTSTART:20241103T060000
END:STANDARD
BEGIN:DAYLIGHT
TZOFFSETFROM:-0500
TZOFFSETTO:-0400
TZNAME:EDT
DTSTART:20250309T070000
END:DAYLIGHT
BEGIN:STANDARD
TZOFFSETFROM:-0400
TZOFFSETTO:-0500
TZNAME:EST
DTSTART:20251102T060000
END:STANDARD
END:VTIMEZONE
BEGIN:VEVENT
DTSTART;TZID=America/New_York:20250130T090000
DTEND;TZID=America/New_York:20250130T100000
DTSTAMP:20260420T013814
CREATED:20241109T172456Z
LAST-MODIFIED:20250110T180105Z
UID:9572-1738227600-1738231200@stfrancisdesales.net
SUMMARY:Girls Basketball Home (Day Game)
DESCRIPTION:vs. MBS\, 9:00 start
URL:https://stfrancisdesales.net/event/girls-basketball-home-day-game/
LOCATION:St. francis de sales\, MD
CATEGORIES:Athletic Calendar
END:VEVENT
BEGIN:VEVENT
DTSTART;TZID=America/New_York:20250129T170000
DTEND;TZID=America/New_York:20250129T180000
DTSTAMP:20260420T013814
CREATED:20241109T172307Z
LAST-MODIFIED:20241109T172307Z
UID:9570-1738170000-1738173600@stfrancisdesales.net
SUMMARY:Boys Basketball Away
DESCRIPTION:vs. Salisbury Christian
URL:https://stfrancisdesales.net/event/boys-basketball-away-9/
LOCATION:Salisbury Christian Schol\, 807 Parker Rd\, Salisbury\, MD\, 21804
CATEGORIES:Athletic Calendar
END:VEVENT
BEGIN:VEVENT
DTSTART;TZID=America/New_York:20250129T160000
DTEND;TZID=America/New_York:20250129T170000
DTSTAMP:20260420T013814
CREATED:20241109T172144Z
LAST-MODIFIED:20241109T172144Z
UID:9568-1738166400-1738170000@stfrancisdesales.net
SUMMARY:Girls Basketball Away\, 2:45 dismissal
DESCRIPTION:vs. Salisbury Christian
URL:https://stfrancisdesales.net/event/girls-basketball-away-245-dismissal-2/
LOCATION:Salisbury Christian Schol\, 807 Parker Rd\, Salisbury\, MD\, 21804
CATEGORIES:Athletic Calendar
END:VEVENT
BEGIN:VEVENT
DTSTART;TZID=America/New_York:20250128T133000
DTEND;TZID=America/New_York:20250128T143000
DTSTAMP:20260420T013814
CREATED:20241109T171814Z
LAST-MODIFIED:20250115T141714Z
UID:9563-1738071000-1738074600@stfrancisdesales.net
SUMMARY:Boys Basketball Away\, 11:00 dissmissal
DESCRIPTION:vs. MBS\, Day Game\, 1:40 start
URL:https://stfrancisdesales.net/event/boys-basketball-away-dismissal-tba/
LOCATION:Most Blessed Sacrament\, 11242 RaceTrack Rd\, Berlin\, MD\, 21811
CATEGORIES:Athletic Calendar
END:VEVENT
BEGIN:VEVENT
DTSTART;TZID=America/New_York:20250128T123000
DTEND;TZID=America/New_York:20250128T133000
DTSTAMP:20260420T013814
CREATED:20241109T171715Z
LAST-MODIFIED:20250115T141605Z
UID:9561-1738067400-1738071000@stfrancisdesales.net
SUMMARY:Girls Basketball Away\, 11:00 dismissal
DESCRIPTION:vs. MBS\, Day Game\, 12:40
URL:https://stfrancisdesales.net/event/girls-basketball-away-dismissal-tba/
LOCATION:Most Blessed Sacrament\, 11242 RaceTrack Rd\, Berlin\, MD\, 21811
CATEGORIES:Athletic Calendar
END:VEVENT
BEGIN:VEVENT
DTSTART;TZID=America/New_York:20250125T080000
DTEND;TZID=America/New_York:20250125T170000
DTSTAMP:20260420T013814
CREATED:20241109T171917Z
LAST-MODIFIED:20241109T171917Z
UID:9566-1737792000-1737824400@stfrancisdesales.net
SUMMARY:Salisbury Christian Tournament - Boys
DESCRIPTION:
URL:https://stfrancisdesales.net/event/salisbury-christian-tournament-boys/
LOCATION:Salisbury Christian Schol\, 807 Parker Rd\, Salisbury\, MD\, 21804
CATEGORIES:Athletic Calendar
END:VEVENT
BEGIN:VEVENT
DTSTART;TZID=America/New_York:20250124T170000
DTEND;TZID=America/New_York:20250124T180000
DTSTAMP:20260420T013814
CREATED:20250121T142832Z
LAST-MODIFIED:20250121T142832Z
UID:9594-1737738000-1737741600@stfrancisdesales.net
SUMMARY:Boys Basketball Home
DESCRIPTION:vs. SSPP
URL:https://stfrancisdesales.net/event/boys-basketball-home-13/
LOCATION:St. francis de sales\, MD
CATEGORIES:Athletic Calendar
END:VEVENT
BEGIN:VEVENT
DTSTART;TZID=America/New_York:20250123T180000
DTEND;TZID=America/New_York:20250123T190000
DTSTAMP:20260420T013814
CREATED:20241109T171501Z
LAST-MODIFIED:20250122T154801Z
UID:9559-1737655200-1737658800@stfrancisdesales.net
SUMMARY:Boys Basketball Away
DESCRIPTION:vs. The Salisbury School
URL:https://stfrancisdesales.net/event/boys-basketball-away-8/
LOCATION:The Salisbury School\, 6279 Hobbs Rd\, Salisbury\, MD\, 21801\, United States
CATEGORIES:Athletic Calendar
END:VEVENT
BEGIN:VEVENT
DTSTART;TZID=America/New_York:20250123T153000
DTEND;TZID=America/New_York:20250123T163000
DTSTAMP:20260420T013814
CREATED:20241109T171405Z
LAST-MODIFIED:20250122T154729Z
UID:9557-1737646200-1737649800@stfrancisdesales.net
SUMMARY:Girls Basketball Away\, 2:15 dismissal
DESCRIPTION:vs. The Salisbury School \n 
URL:https://stfrancisdesales.net/event/girls-basketball-away-245-dismissal/
LOCATION:The Salisbury School\, 6279 Hobbs Rd\, Salisbury\, MD\, 21801\, United States
CATEGORIES:Athletic Calendar
END:VEVENT
BEGIN:VEVENT
DTSTART;TZID=America/New_York:20250122T160000
DTEND;TZID=America/New_York:20250122T170000
DTSTAMP:20260420T013814
CREATED:20250121T142737Z
LAST-MODIFIED:20250121T142737Z
UID:9592-1737561600-1737565200@stfrancisdesales.net
SUMMARY:Girls Basketball Home B only
DESCRIPTION:vs. SSPP
URL:https://stfrancisdesales.net/event/girls-basketball-home-b-only/
LOCATION:St. francis de sales\, MD
CATEGORIES:Athletic Calendar
END:VEVENT
BEGIN:VEVENT
DTSTART;TZID=America/New_York:20250121T170000
DTEND;TZID=America/New_York:20250121T180000
DTSTAMP:20260420T013814
CREATED:20241109T171128Z
LAST-MODIFIED:20241109T171128Z
UID:9555-1737478800-1737482400@stfrancisdesales.net
SUMMARY:Boys Basketball Home
DESCRIPTION:vs. Seaside Christian
URL:https://stfrancisdesales.net/event/boys-basketball-home-12/
LOCATION:Seaside Christian Academy\, 12637 Ocean Gateway A\,\, Ocean City\, MD\, 21842\, United States
CATEGORIES:Athletic Calendar
END:VEVENT
BEGIN:VEVENT
DTSTART;TZID=America/New_York:20250121T160000
DTEND;TZID=America/New_York:20250121T170000
DTSTAMP:20260420T013814
CREATED:20241109T171038Z
LAST-MODIFIED:20241109T171038Z
UID:9553-1737475200-1737478800@stfrancisdesales.net
SUMMARY:Girls Basketball Home
DESCRIPTION:vs. Seaside Christian
URL:https://stfrancisdesales.net/event/girls-basketball-home-13/
LOCATION:St. francis de sales\, MD
CATEGORIES:Athletic Calendar
END:VEVENT
BEGIN:VEVENT
DTSTART;TZID=America/New_York:20250115T170000
DTEND;TZID=America/New_York:20250115T180000
DTSTAMP:20260420T013814
CREATED:20241109T170939Z
LAST-MODIFIED:20241109T170939Z
UID:9551-1736960400-1736964000@stfrancisdesales.net
SUMMARY:Boys Basketball Away
DESCRIPTION:vs. St. Peter and Paul
URL:https://stfrancisdesales.net/event/boys-basketball-away-7/
LOCATION:St. Peter and Paul\, 900 High Street\, Easton\, md\, 21601
CATEGORIES:Athletic Calendar
END:VEVENT
BEGIN:VEVENT
DTSTART;TZID=America/New_York:20250115T160000
DTEND;TZID=America/New_York:20250115T170000
DTSTAMP:20260420T013814
CREATED:20241109T170847Z
LAST-MODIFIED:20241109T170847Z
UID:9549-1736956800-1736960400@stfrancisdesales.net
SUMMARY:Girls Basketball Away\, 2:00 dismissal
DESCRIPTION:vs. St. Peter and Paul
URL:https://stfrancisdesales.net/event/girls-basketball-away-200-dismissal/
LOCATION:St. Peter and Paul\, 900 High Street\, Easton\, md\, 21601
CATEGORIES:Athletic Calendar
END:VEVENT
BEGIN:VEVENT
DTSTART;TZID=America/New_York:20250113T170000
DTEND;TZID=America/New_York:20250113T180000
DTSTAMP:20260420T013814
CREATED:20241109T170644Z
LAST-MODIFIED:20241109T170644Z
UID:9547-1736787600-1736791200@stfrancisdesales.net
SUMMARY:Boys Basketball Home
DESCRIPTION:vs. Salisbury Christian \nB game only
URL:https://stfrancisdesales.net/event/boys-basketball-home-11/
LOCATION:St. francis de sales\, MD
CATEGORIES:Athletic Calendar
END:VEVENT
BEGIN:VEVENT
DTSTART;TZID=America/New_York:20250113T160000
DTEND;TZID=America/New_York:20250113T170000
DTSTAMP:20260420T013814
CREATED:20241109T170537Z
LAST-MODIFIED:20241109T170537Z
UID:9545-1736784000-1736787600@stfrancisdesales.net
SUMMARY:Girls Basketball Home
DESCRIPTION:vs. Salisbury Christian \nB game only
URL:https://stfrancisdesales.net/event/girls-basketball-home-12/
LOCATION:St. francis de sales\, MD
CATEGORIES:Athletic Calendar
END:VEVENT
BEGIN:VEVENT
DTSTART;TZID=America/New_York:20250110T160000
DTEND;TZID=America/New_York:20250110T180000
DTSTAMP:20260420T013814
CREATED:20241109T165838Z
LAST-MODIFIED:20241109T165838Z
UID:9543-1736524800-1736532000@stfrancisdesales.net
SUMMARY:Boys Basketball Home
DESCRIPTION:vs. Worcester Prep \nB game at 4:00 \nA game at 5:00 \n 
URL:https://stfrancisdesales.net/event/boys-basketball-home-10/
LOCATION:MD
CATEGORIES:Athletic Calendar
END:VEVENT
BEGIN:VEVENT
DTSTART;TZID=America/New_York:20250110T160000
DTEND;TZID=America/New_York:20250110T170000
DTSTAMP:20260420T013814
CREATED:20241109T165722Z
LAST-MODIFIED:20241109T165722Z
UID:9541-1736524800-1736528400@stfrancisdesales.net
SUMMARY:Girls Basketball Away\, 2:20 dismissal
DESCRIPTION:vs. Worcester Prep \nA game at 4:00 \nB game at 5:00
URL:https://stfrancisdesales.net/event/girls-basketball-away-220-dismissal/
LOCATION:Worcester Prep\, 508 S. Main St.\, Berlin\, MD\, 21811
CATEGORIES:Athletic Calendar
END:VEVENT
BEGIN:VEVENT
DTSTART;TZID=America/New_York:20250109T170000
DTEND;TZID=America/New_York:20250109T170000
DTSTAMP:20260420T013814
CREATED:20241109T165439Z
LAST-MODIFIED:20241109T165439Z
UID:9539-1736442000-1736442000@stfrancisdesales.net
SUMMARY:Boys Basketball Home
DESCRIPTION:vs. The Salisbury School
URL:https://stfrancisdesales.net/event/boys-basketball-home-9/
LOCATION:St. francis de sales\, MD
CATEGORIES:Athletic Calendar
END:VEVENT
BEGIN:VEVENT
DTSTART;TZID=America/New_York:20250109T160000
DTEND;TZID=America/New_York:20250109T170000
DTSTAMP:20260420T013814
CREATED:20241109T165401Z
LAST-MODIFIED:20241109T165401Z
UID:9537-1736438400-1736442000@stfrancisdesales.net
SUMMARY:Girls Basketball Home
DESCRIPTION:vs. The Salisbury School
URL:https://stfrancisdesales.net/event/girls-basketball-home-11/
LOCATION:St. francis de sales\, MD
CATEGORIES:Athletic Calendar
END:VEVENT
BEGIN:VEVENT
DTSTART;TZID=America/New_York:20250107T170000
DTEND;TZID=America/New_York:20250107T170000
DTSTAMP:20260420T013814
CREATED:20241109T165202Z
LAST-MODIFIED:20241109T165202Z
UID:9535-1736269200-1736269200@stfrancisdesales.net
SUMMARY:Boys Basketball Home
DESCRIPTION:vs. St. Peter and Paul
URL:https://stfrancisdesales.net/event/boys-basketball-home-8/
LOCATION:St. francis de sales\, MD
CATEGORIES:Athletic Calendar
END:VEVENT
BEGIN:VEVENT
DTSTART;TZID=America/New_York:20250107T160000
DTEND;TZID=America/New_York:20250107T170000
DTSTAMP:20260420T013814
CREATED:20241109T165118Z
LAST-MODIFIED:20241109T165118Z
UID:9533-1736265600-1736269200@stfrancisdesales.net
SUMMARY:Girls Basketball Home
DESCRIPTION:vs. St. Peter and Paul
URL:https://stfrancisdesales.net/event/girls-basketball-home-10/
LOCATION:St. francis de sales\, MD
CATEGORIES:Athletic Calendar
END:VEVENT
BEGIN:VEVENT
DTSTART;TZID=America/New_York:20241216T170000
DTEND;TZID=America/New_York:20241216T180000
DTSTAMP:20260420T013814
CREATED:20241109T153551Z
LAST-MODIFIED:20241109T153551Z
UID:9527-1734368400-1734372000@stfrancisdesales.net
SUMMARY:Boys Basketball Home
DESCRIPTION:vs. Seaside
URL:https://stfrancisdesales.net/event/boys-basketball-home-7/
LOCATION:St. francis de sales\, MD
CATEGORIES:Athletic Calendar
END:VEVENT
BEGIN:VEVENT
DTSTART;TZID=America/New_York:20241216T160000
DTEND;TZID=America/New_York:20241216T170000
DTSTAMP:20260420T013814
CREATED:20241109T153431Z
LAST-MODIFIED:20241109T153431Z
UID:9525-1734364800-1734368400@stfrancisdesales.net
SUMMARY:Girls Basketball Home
DESCRIPTION:vs. Seaside
URL:https://stfrancisdesales.net/event/girls-basketball-home-9/
LOCATION:St. francis de sales\, MD
CATEGORIES:Athletic Calendar
END:VEVENT
BEGIN:VEVENT
DTSTART;TZID=America/New_York:20241213T160000
DTEND;TZID=America/New_York:20241213T180000
DTSTAMP:20260420T013814
CREATED:20241109T164711Z
LAST-MODIFIED:20241109T164711Z
UID:9531-1734105600-1734112800@stfrancisdesales.net
SUMMARY:Girls Basketball Home
DESCRIPTION:vs Worcester Prep \nB game at 4:00 \nA game at 5:00
URL:https://stfrancisdesales.net/event/girls-basketball-home-8/
LOCATION:MD
CATEGORIES:Athletic Calendar
END:VEVENT
BEGIN:VEVENT
DTSTART;TZID=America/New_York:20241210T160000
DTEND;TZID=America/New_York:20241210T180000
DTSTAMP:20260420T013814
CREATED:20241109T153154Z
LAST-MODIFIED:20241109T153154Z
UID:9521-1733846400-1733853600@stfrancisdesales.net
SUMMARY:Boys Basketball Away\, 2:20 dismissal
DESCRIPTION:vs. Worcester Prep \nB game at 4:00 \nA game at 5:00
URL:https://stfrancisdesales.net/event/boys-basketball-away-220-dismissal/
LOCATION:Worcester Prep\, 508 S. Main St.\, Berlin\, MD\, 21811
CATEGORIES:Athletic Calendar
END:VEVENT
BEGIN:VEVENT
DTSTART;TZID=America/New_York:20241209T170000
DTEND;TZID=America/New_York:20241209T170000
DTSTAMP:20260420T013814
CREATED:20241109T152808Z
LAST-MODIFIED:20241109T152808Z
UID:9517-1733763600-1733763600@stfrancisdesales.net
SUMMARY:Boys Basketball Home
DESCRIPTION:vs. Holly Grove
URL:https://stfrancisdesales.net/event/boys-basketball-home-6/
LOCATION:St. francis de sales\, MD
CATEGORIES:Athletic Calendar
END:VEVENT
BEGIN:VEVENT
DTSTART;TZID=America/New_York:20241209T160000
DTEND;TZID=America/New_York:20241209T170000
DTSTAMP:20260420T013814
CREATED:20241109T152851Z
LAST-MODIFIED:20241109T152851Z
UID:9519-1733760000-1733763600@stfrancisdesales.net
SUMMARY:Girls Basketball Home
DESCRIPTION:vs. Holly Grove
URL:https://stfrancisdesales.net/event/girls-basketball-home-7/
LOCATION:St. francis de sales\, MD
CATEGORIES:Athletic Calendar
END:VEVENT
BEGIN:VEVENT
DTSTART;TZID=America/New_York:20241024T160000
DTEND;TZID=America/New_York:20241024T170000
DTSTAMP:20260420T013814
CREATED:20240701T171229Z
LAST-MODIFIED:20240701T171229Z
UID:9041-1729785600-1729789200@stfrancisdesales.net
SUMMARY:Home Golf
DESCRIPTION:vs. The Salisbury School
URL:https://stfrancisdesales.net/event/home-golf-3/
LOCATION:Green Hill Country Club\, 5471 Whitehave Rd\, Quantico\, MD\, 21856
CATEGORIES:Athletic Calendar
END:VEVENT
BEGIN:VEVENT
DTSTART;TZID=America/New_York:20241023T190000
DTEND;TZID=America/New_York:20241023T200000
DTSTAMP:20260420T013814
CREATED:20240701T171130Z
LAST-MODIFIED:20240917T143914Z
UID:9038-1729710000-1729713600@stfrancisdesales.net
SUMMARY:Field Hockey Away\, normal dismissal
DESCRIPTION:vs. Berlin\, 7:00
URL:https://stfrancisdesales.net/event/field-hockey-away-normal-dismissal/
LOCATION:North Worcester Athletic Complex\, 9906 Buckingham Ln\, Berlin\, MD\, 21811
CATEGORIES:Athletic Calendar
END:VEVENT
END:VCALENDAR