BEGIN:VCALENDAR
VERSION:2.0
PRODID:-//St. Francis de Sales Catholic School - ECPv6.13.2.1//NONSGML v1.0//EN
CALSCALE:GREGORIAN
METHOD:PUBLISH
X-ORIGINAL-URL:https://stfrancisdesales.net
X-WR-CALDESC:Events for St. Francis de Sales Catholic School
REFRESH-INTERVAL;VALUE=DURATION:PT1H
X-Robots-Tag:noindex
X-PUBLISHED-TTL:PT1H
BEGIN:VTIMEZONE
TZID:America/New_York
BEGIN:DAYLIGHT
TZOFFSETFROM:-0500
TZOFFSETTO:-0400
TZNAME:EDT
DTSTART:20260308T070000
END:DAYLIGHT
BEGIN:STANDARD
TZOFFSETFROM:-0400
TZOFFSETTO:-0500
TZNAME:EST
DTSTART:20261101T060000
END:STANDARD
END:VTIMEZONE
BEGIN:VEVENT
DTSTART;TZID=America/New_York:20260427T160000
DTEND;TZID=America/New_York:20260427T170000
DTSTAMP:20260419T110917
CREATED:20260331T133639Z
LAST-MODIFIED:20260331T133639Z
UID:11273-1777305600-1777309200@stfrancisdesales.net
SUMMARY:Girls Lacrosse Game\, Home
DESCRIPTION:vs. The Salisbury School
URL:https://stfrancisdesales.net/event/girls-lacrosse-game-home-2/
LOCATION:Fruitland Falcons\, 207 S. Brown St.\, Fruitland\, MD\, 21801-6127
CATEGORIES:Athletic Calendar
END:VEVENT
BEGIN:VEVENT
DTSTART;TZID=America/New_York:20260505T160000
DTEND;TZID=America/New_York:20260505T170000
DTSTAMP:20260419T110917
CREATED:20260331T133828Z
LAST-MODIFIED:20260331T133828Z
UID:11275-1777996800-1778000400@stfrancisdesales.net
SUMMARY:Girls Lacrosse Game\, Away\, 1:45 dismissal
DESCRIPTION:vs. The Country School
URL:https://stfrancisdesales.net/event/girls-lacrosse-game-away-145-dismissal/
LOCATION:The Country School\, 716 Goldsborough St.\, Easton\, MD\, 21601
CATEGORIES:Athletic Calendar
END:VEVENT
BEGIN:VEVENT
DTSTART;TZID=America/New_York:20260508T160000
DTEND;TZID=America/New_York:20260508T170000
DTSTAMP:20260419T110917
CREATED:20260331T133940Z
LAST-MODIFIED:20260331T133940Z
UID:11277-1778256000-1778259600@stfrancisdesales.net
SUMMARY:Girls Lacrosse Game\, Home
DESCRIPTION:vs\, The Country School
URL:https://stfrancisdesales.net/event/girls-lacrosse-game-home-3/
LOCATION:Fruitland Falcons\, 207 S. Brown St.\, Fruitland\, MD\, 21801-6127
CATEGORIES:Athletic Calendar
END:VEVENT
END:VCALENDAR